{"text_format":"1","workbook":"xlsx","n_sheets":4,"sheets":["Normalfordeling","Frekvensfunktion","Kumuleret graf","Hjælp"],"not_rendered":{"charts":6,"images":0,"macros":1,"external_links":0,"defined_names":0,"comments":0,"pivot_tables":0},"unopened":[{"sheet":"Frekvensfunktion","index":1,"reason":"not_a_worksheet"},{"sheet":"Kumuleret graf","index":2,"reason":"not_a_worksheet"}],"bounds":{"document_bytes":16777216,"sheet_cells":100000,"rows_first":2000,"rows_last":500,"rows_between":2000,"halvings":0,"cell_chars":16384,"cell_head_chars":4096},"cells_cut":0,"cells_raw":0,"read":"whole","date_system":"1900"}

{"sheet":"Normalfordeling","index":0,"n_rows":18,"n_cols":11,"rows_kept":18,"cut":false,"hidden":false,"merged":[[9,2,9,3],[6,2,6,3]]}
[{"$f":"C6","v":0},{"$f":"C14","v":0},"Normalfordeling"]
[{"$f":"D14","v":""},{"$f":"C14","v":0},"Middelværdi:",5]
[{"$f":"D14","v":""},0,"Spredning:",1]
[null,null,"Grafvindue"]
[null,null,"Xmin","Xmaks"]
[{"$f":"D14","v":""},0,0,10]
[{"$f":"D14","v":""},{"$f":"NORMDIST(A7,D2,D3,FALSE)","v":{"$error":"#VALUE!"}},"Areal under frekvensfunktion",null,{"$f":"IF(D7<>\"\",NORMINV(D7,D2,D3),\"\")","v":""}]
[{"$f":"C12","v":0},0,"Xmin","Xmaks"]
[{"$f":"C12","v":0},{"$f":"D12","v":""},null,null,{"$f":"IF(AND(C9=\"\",D9=\"\"),\"\",IF(D9<>\"\",NORMDIST(D9,D2,D3,TRUE),1)-IF(C9<>\"\",NORMDIST(C9,D2,D3,TRUE),0))","v":""}]
[0,{"$f":"D12","v":""},"Aflæs på kumuleret"]
[{"$f":"C12","v":0},0,"Indtast X","Beregnet kum %"]
[{"$f":"IF(C12=\"\",\"\",C12)","v":""},{"$f":"NORMDIST(A12,D2,D3,FALSE)","v":{"$error":"#VALUE!"}},null,{"$f":"IF(C12<>\"\",NORMDIST(C12,D2,D3,TRUE),\"\")","v":""}]
[null,null,"Indtast kum %","Beregnet X-værdi"]
[null,null,null,{"$f":"IF(C14<>\"\",NORMINV(C14,D2,D3),\"\")","v":""}]
[]
[]
[]
[null,null,null,null,null,null,null,null,null,null,"x"]

{"sheet":"Hjælp","index":3,"n_rows":1002,"n_cols":5,"rows_kept":1002,"cut":false,"hidden":false,"merged":[]}
[{"$f":"Normalfordeling!C$6","v":0},{"$f":"NORMDIST(A1,Normalfordeling!D$2,Normalfordeling!D$3,FALSE)","v":1.4867195147342977E-6},{"$f":"IF(AND(A1>=$C$1001,A1<=$C$1002),B1,0)","v":0},{"$f":"NORMDIST(A1,Normalfordeling!D$2,Normalfordeling!D$3,TRUE)","v":2.8665157187919333E-7},"Hjælp"]
[{"$f":"(Normalfordeling!D$6-Normalfordeling!C$6)/1000+A1","v":0.01},{"$f":"NORMDIST(A2,Normalfordeling!D$2,Normalfordeling!D$3,FALSE)","v":1.5628671089492902E-6},{"$f":"IF(AND(A2>=$C$1001,A2<=$C$1002),B2,0)","v":0},{"$f":"NORMDIST(A2,Normalfordeling!D$2,Normalfordeling!D$3,TRUE)","v":3.0189646252084792E-7},"Bemærk at forskrifterne til frekvensfunktion og kumulerede frekvenser findes i WordMats formelsamling.\n\nBeskrivelser kan tilføjes til graferne via menuen indsæt / tekstboks"]
[{"$f":"(Normalfordeling!D$6-Normalfordeling!C$6)/1000+A2","v":0.02},{"$f":"NORMDIST(A3,Normalfordeling!D$2,Normalfordeling!D$3,FALSE)","v":1.6427505880450713E-6},0,{"$f":"NORMDIST(A3,Normalfordeling!D$2,Normalfordeling!D$3,TRUE)","v":3.1792136618528084E-7}]
[{"$f":"(Normalfordeling!D$6-Normalfordeling!C$6)/1000+A3","v":0.03},{"$f":"NORMDIST(A4,Normalfordeling!D$2,Normalfordeling!D$3,FALSE)","v":1.7265445216770734E-6},0,{"$f":"NORMDIST(A4,Normalfordeling!D$2,Normalfordeling!D$3,TRUE)","v":3.3476450827361611E-7}]
[{"$f":"(Normalfordeling!D$6-Normalfordeling!C$6)/1000+A4","v":0.04},{"$f":"NORMDIST(A5,Normalfordeling!D$2,Normalfordeling!D$3,FALSE)","v":1.8144311901820303E-6},0,{"$f":"NORMDIST(A5,Normalfordeling!D$2,Normalfordeling!D$3,TRUE)","v":3.524658981764237E-7}]
[{"$f":"(Normalfordeling!D$6-Normalfordeling!C$6)/1000+A5","v":0.05},{"$f":"NORMDIST(A6,Normalfordeling!D$2,Normalfordeling!D$3,FALSE)","v":1.9066009031228108E-6},0,{"$f":"NORMDIST(A6,Normalfordeling!D$2,Normalfordeling!D$3,TRUE)","v":3.7106740796333271E-7}]
[{"$f":"(Normalfordeling!D$6-Normalfordeling!C$6)/1000+A6","v":6.0000000000000005E-2},{"$f":"NORMDIST(A7,Normalfordeling!D$2,Normalfordeling!D$3,FALSE)","v":2.0032523299484894E-6},0,{"$f":"NORMDIST(A7,Normalfordeling!D$2,Normalfordeling!D$3,TRUE)","v":3.9061285431832542E-7}]
[{"$f":"(Normalfordeling!D$6-Normalfordeling!C$6)/1000+A7","v":7.0000000000000007E-2},{"$f":"NORMDIST(A8,Normalfordeling!D$2,Normalfordeling!D$3,FALSE)","v":2.1045928431831295E-6},0,{"$f":"NORMDIST(A8,Normalfordeling!D$2,Normalfordeling!D$3,TRUE)","v":4.1114808384392932E-7}]
[{"$f":"(Normalfordeling!D$6-Normalfordeling!C$6)/1000+A8","v":0.08},{"$f":"NORMDIST(A9,Normalfordeling!D$2,Normalfordeling!D$3,FALSE)","v":2.2108388745684212E-6},0,{"$f":"NORMDIST(A9,Normalfordeling!D$2,Normalfordeling!D$3,TRUE)","v":4.3272106186170034E-7}]
[{"$f":"(Normalfordeling!D$6-Normalfordeling!C$6)/1000+A9","v":0.09},{"$f":"NORMDIST(A10,Normalfordeling!D$2,Normalfordeling!D$3,FALSE)","v":2.322216284597997E-6},0,{"$f":"NORMDIST(A10,Normalfordeling!D$2,Normalfordeling!D$3,TRUE)","v":4.5538196484073046E-7}]
[{"$f":"(Normalfordeling!D$6-Normalfordeling!C$6)/1000+A10","v":9.9999999999999992E-2},{"$f":"NORMDIST(A11,Normalfordeling!D$2,Normalfordeling!D$3,FALSE)","v":2.4389607458933522E-6},0,{"$f":"NORMDIST(A11,Normalfordeling!D$2,Normalfordeling!D$3,TRUE)","v":4.7918327659031834E-7}]
[{"$f":"(Normalfordeling!D$6-Normalfordeling!C$6)/1000+A11","v":0.10999999999999999},{"$f":"NORMDIST(A12,Normalfordeling!D$2,Normalfordeling!D$3,FALSE)","v":2.5613181408845443E-6},0,{"$f":"NORMDIST(A12,Normalfordeling!D$2,Normalfordeling!D$3,TRUE)","v":5.0417988835753554E-7}]
[{"$f":"(Normalfordeling!D$6-Normalfordeling!C$6)/1000+A12","v":0.11999999999999998},{"$f":"NORMDIST(A13,Normalfordeling!D$2,Normalfordeling!D$3,FALSE)","v":2.6895449742715233E-6},0,{"$f":"NORMDIST(A13,Normalfordeling!D$2,Normalfordeling!D$3,TRUE)","v":5.3042920297509319E-7}]
[{"$f":"(Normalfordeling!D$6-Normalfordeling!C$6)/1000+A13","v":0.12999999999999998},{"$f":"NORMDIST(A14,Normalfordeling!D$2,Normalfordeling!D$3,FALSE)","v":2.823908800755821E-6},0,{"$f":"NORMDIST(A14,Normalfordeling!D$2,Normalfordeling!D$3,TRUE)","v":5.5799124320978072E-7}]
[{"$f":"(Normalfordeling!D$6-Normalfordeling!C$6)/1000+A14","v":0.13999999999999999},{"$f":"NORMDIST(A15,Normalfordeling!D$2,Normalfordeling!D$3,FALSE)","v":2.964688668545273E-6},0,{"$f":"NORMDIST(A15,Normalfordeling!D$2,Normalfordeling!D$3,TRUE)","v":5.8692876446663605E-7}]
[{"$f":"(Normalfordeling!D$6-Normalfordeling!C$6)/1000+A15","v":0.15},{"$f":"NORMDIST(A16,Normalfordeling!D$2,Normalfordeling!D$3,FALSE)","v":3.1121755791489445E-6},0,{"$f":"NORMDIST(A16,Normalfordeling!D$2,Normalfordeling!D$3,TRUE)","v":6.1730737200919715E-7}]
[{"$f":"(Normalfordeling!D$6-Normalfordeling!C$6)/1000+A16","v":0.16},{"$f":"NORMDIST(A17,Normalfordeling!D$2,Normalfordeling!D$3,FALSE)","v":3.2666729639932752E-6},0,{"$f":"NORMDIST(A17,Normalfordeling!D$2,Normalfordeling!D$3,TRUE)","v":6.4919564286133376E-7}]
[{"$f":"(Normalfordeling!D$6-Normalfordeling!C$6)/1000+A17","v":0.17},{"$f":"NORMDIST(A18,Normalfordeling!D$2,Normalfordeling!D$3,FALSE)","v":3.4284971784050389E-6},0,{"$f":"NORMDIST(A18,Normalfordeling!D$2,Normalfordeling!D$3,TRUE)","v":6.8266525256166203E-7}]
[{"$f":"(Normalfordeling!D$6-Normalfordeling!C$6)/1000+A18","v":0.18000000000000002},{"$f":"NORMDIST(A19,Normalfordeling!D$2,Normalfordeling!D$3,FALSE)","v":3.5979780135212474E-6},0,{"$f":"NORMDIST(A19,Normalfordeling!D$2,Normalfordeling!D$3,TRUE)","v":7.1779110694689841E-7}]
[{"$f":"(Normalfordeling!D$6-Normalfordeling!C$6)/1000+A19","v":0.19000000000000003},{"$f":"NORMDIST(A20,Normalfordeling!D$2,Normalfordeling!D$3,FALSE)","v":3.775459226701349E-6},0,{"$f":"NORMDIST(A20,Normalfordeling!D$2,Normalfordeling!D$3,TRUE)","v":7.5465147914637197E-7}]
[{"$f":"(Normalfordeling!D$6-Normalfordeling!C$6)/1000+A20","v":0.20000000000000004},{"$f":"NORMDIST(A21,Normalfordeling!D$2,Normalfordeling!D$3,FALSE)","v":3.9612990910320753E-6},0,{"$f":"NORMDIST(A21,Normalfordeling!D$2,Normalfordeling!D$3,TRUE)","v":7.933281519755948E-7}]
[{"$f":"(Normalfordeling!D$6-Normalfordeling!C$6)/1000+A21","v":0.21000000000000005},{"$f":"NORMDIST(A22,Normalfordeling!D$2,Normalfordeling!D$3,FALSE)","v":4.1558709645312011E-6},0,{"$f":"NORMDIST(A22,Normalfordeling!D$2,Normalfordeling!D$3,TRUE)","v":8.339065659229098E-7}]
[{"$f":"(Normalfordeling!D$6-Normalfordeling!C$6)/1000+A22","v":0.22000000000000006},{"$f":"NORMDIST(A23,Normalfordeling!D$2,Normalfordeling!D$3,FALSE)","v":4.3595638796716367E-6},0,{"$f":"NORMDIST(A23,Normalfordeling!D$2,Normalfordeling!D$3,TRUE)","v":8.764759729292021E-7}]
[{"$f":"(Normalfordeling!D$6-Normalfordeling!C$6)/1000+A23","v":0.23000000000000007},{"$f":"NORMDIST(A24,Normalfordeling!D$2,Normalfordeling!D$3,FALSE)","v":4.5727831538641446E-6},0,{"$f":"NORMDIST(A24,Normalfordeling!D$2,Normalfordeling!D$3,TRUE)","v":9.2112959616714115E-7}]
[{"$f":"(Normalfordeling!D$6-Normalfordeling!C$6)/1000+A24","v":0.24000000000000007},{"$f":"NORMDIST(A25,Normalfordeling!D$2,Normalfordeling!D$3,FALSE)","v":4.7959510215525217E-6},0,{"$f":"NORMDIST(A25,Normalfordeling!D$2,Normalfordeling!D$3,TRUE)","v":9.6796479603273028E-7}]
[{"$f":"(Normalfordeling!D$6-Normalfordeling!C$6)/1000+A25","v":0.25000000000000006},{"$f":"NORMDIST(A26,Normalfordeling!D$2,Normalfordeling!D$3,FALSE)","v":5.0295072885924454E-6},0,{"$f":"NORMDIST(A26,Normalfordeling!D$2,Normalfordeling!D$3,TRUE)","v":1.0170832425687034E-6}]
[{"$f":"(Normalfordeling!D$6-Normalfordeling!C$6)/1000+A26","v":0.26000000000000006},{"$f":"NORMDIST(A27,Normalfordeling!D$2,Normalfordeling!D$3,FALSE)","v":5.2739100096013034E-6},0,{"$f":"NORMDIST(A27,Normalfordeling!D$2,Normalfordeling!D$3,TRUE)","v":1.0685910945459319E-6}]
[{"$f":"(Normalfordeling!D$6-Normalfordeling!C$6)/1000+A27","v":0.27000000000000007},{"$f":"NORMDIST(A28,Normalfordeling!D$2,Normalfordeling!D$3,FALSE)","v":5.5296361889840811E-6},0,{"$f":"NORMDIST(A28,Normalfordeling!D$2,Normalfordeling!D$3,TRUE)","v":1.122599185436173E-6}]
[{"$f":"(Normalfordeling!D$6-Normalfordeling!C$6)/1000+A28","v":0.28000000000000008},{"$f":"NORMDIST(A29,Normalfordeling!D$2,Normalfordeling!D$3,FALSE)","v":5.797182506357287E-6},0,{"$f":"NORMDIST(A29,Normalfordeling!D$2,Normalfordeling!D$3,TRUE)","v":1.1792232165163949E-6}]
[{"$f":"(Normalfordeling!D$6-Normalfordeling!C$6)/1000+A29","v":0.29000000000000009},{"$f":"NORMDIST(A30,Normalfordeling!D$2,Normalfordeling!D$3,FALSE)","v":6.0770660671111151E-6},0,{"$f":"NORMDIST(A30,Normalfordeling!D$2,Normalfordeling!D$3,TRUE)","v":1.2385839573524676E-6}]
[{"$f":"(Normalfordeling!D$6-Normalfordeling!C$6)/1000+A30","v":0.3000000000000001},{"$f":"NORMDIST(A31,Normalfordeling!D$2,Normalfordeling!D$3,FALSE)","v":6.3698251788670899E-6},0,{"$f":"NORMDIST(A31,Normalfordeling!D$2,Normalfordeling!D$3,TRUE)","v":1.3008074539172773E-6}]
[{"$f":"(Normalfordeling!D$6-Normalfordeling!C$6)/1000+A31","v":0.31000000000000011},{"$f":"NORMDIST(A32,Normalfordeling!D$2,Normalfordeling!D$3,FALSE)","v":6.6760201546074854E-6},0,{"$f":"NORMDIST(A32,Normalfordeling!D$2,Normalfordeling!D$3,TRUE)","v":1.3660252446061406E-6}]
[{"$f":"(Normalfordeling!D$6-Normalfordeling!C$6)/1000+A32","v":0.32000000000000012},{"$f":"NORMDIST(A33,Normalfordeling!D$2,Normalfordeling!D$3,FALSE)","v":6.996234143270405E-6},0,{"$f":"NORMDIST(A33,Normalfordeling!D$2,Normalfordeling!D$3,TRUE)","v":1.4343745844201329E-6}]
[{"$f":"(Normalfordeling!D$6-Normalfordeling!C$6)/1000+A33","v":0.33000000000000013},{"$f":"NORMDIST(A34,Normalfordeling!D$2,Normalfordeling!D$3,FALSE)","v":7.3310739886239449E-6},0,{"$f":"NORMDIST(A34,Normalfordeling!D$2,Normalfordeling!D$3,TRUE)","v":1.5059986775961518E-6}]
[{"$f":"(Normalfordeling!D$6-Normalfordeling!C$6)/1000+A34","v":0.34000000000000014},{"$f":"NORMDIST(A35,Normalfordeling!D$2,Normalfordeling!D$3,FALSE)","v":7.6811711172504553E-6},0,{"$f":"NORMDIST(A35,Normalfordeling!D$2,Normalfordeling!D$3,TRUE)","v":1.5810469189705068E-6}]
[{"$f":"(Normalfordeling!D$6-Normalfordeling!C$6)/1000+A35","v":0.35000000000000014},{"$f":"NORMDIST(A36,Normalfordeling!D$2,Normalfordeling!D$3,FALSE)","v":8.0471824564923223E-6},0,{"$f":"NORMDIST(A36,Normalfordeling!D$2,Normalfordeling!D$3,TRUE)","v":1.659675144371468E-6}]
[{"$f":"(Normalfordeling!D$6-Normalfordeling!C$6)/1000+A36","v":0.36000000000000015},{"$f":"NORMDIST(A37,Normalfordeling!D$2,Normalfordeling!D$3,FALSE)","v":8.4297913832287717E-6},0,{"$f":"NORMDIST(A37,Normalfordeling!D$2,Normalfordeling!D$3,TRUE)","v":1.7420458903446573E-6}]
[{"$f":"(Normalfordeling!D$6-Normalfordeling!C$6)/1000+A37","v":0.37000000000000016},{"$f":"NORMDIST(A38,Normalfordeling!D$2,Normalfordeling!D$3,FALSE)","v":8.8297087043740978E-6},0,{"$f":"NORMDIST(A38,Normalfordeling!D$2,Normalfordeling!D$3,TRUE)","v":1.8283286635241601E-6}]
[{"$f":"(Normalfordeling!D$6-Normalfordeling!C$6)/1000+A38","v":0.38000000000000017},{"$f":"NORMDIST(A39,Normalfordeling!D$2,Normalfordeling!D$3,FALSE)","v":9.2476736700056167E-6},0,{"$f":"NORMDIST(A39,Normalfordeling!D$2,Normalfordeling!D$3,TRUE)","v":1.9187002199708946E-6}]
[{"$f":"(Normalfordeling!D$6-Normalfordeling!C$6)/1000+A39","v":0.39000000000000018},{"$f":"NORMDIST(A40,Normalfordeling!D$2,Normalfordeling!D$3,FALSE)","v":9.6844550200514709E-6},0,{"$f":"NORMDIST(A40,Normalfordeling!D$2,Normalfordeling!D$3,TRUE)","v":2.013344854809346E-6}]
[{"$f":"(Normalfordeling!D$6-Normalfordeling!C$6)/1000+A40","v":0.40000000000000019},{"$f":"NORMDIST(A41,Normalfordeling!D$2,Normalfordeling!D$3,FALSE)","v":1.0140852065486758E-5},0,{"$f":"NORMDIST(A41,Normalfordeling!D$2,Normalfordeling!D$3,TRUE)","v":2.1124547025028533E-6}]
[{"$f":"(Normalfordeling!D$6-Normalfordeling!C$6)/1000+A41","v":0.4100000000000002},{"$f":"NORMDIST(A42,Normalfordeling!D$2,Normalfordeling!D$3,FALSE)","v":1.0617695805008393E-5},0,{"$f":"NORMDIST(A42,Normalfordeling!D$2,Normalfordeling!D$3,TRUE)","v":2.2162300481175396E-6}]
[{"$f":"(Normalfordeling!D$6-Normalfordeling!C$6)/1000+A42","v":0.42000000000000021},{"$f":"NORMDIST(A43,Normalfordeling!D$2,Normalfordeling!D$3,FALSE)","v":1.111585007817779E-5},0,{"$f":"NORMDIST(A43,Normalfordeling!D$2,Normalfordeling!D$3,TRUE)","v":2.3248796499344084E-6}]
[{"$f":"(Normalfordeling!D$6-Normalfordeling!C$6)/1000+A43","v":0.43000000000000022},{"$f":"NORMDIST(A44,Normalfordeling!D$2,Normalfordeling!D$3,FALSE)","v":1.163621275604271E-5},0,{"$f":"NORMDIST(A44,Normalfordeling!D$2,Normalfordeling!D$3,TRUE)","v":2.4386210737794269E-6}]
[{"$f":"(Normalfordeling!D$6-Normalfordeling!C$6)/1000+A44","v":0.44000000000000022},{"$f":"NORMDIST(A45,Normalfordeling!D$2,Normalfordeling!D$3,FALSE)","v":1.2179716970268699E-5},0,{"$f":"NORMDIST(A45,Normalfordeling!D$2,Normalfordeling!D$3,TRUE)","v":2.5576810394515232E-6}]
[{"$f":"(Normalfordeling!D$6-Normalfordeling!C$6)/1000+A45","v":0.45000000000000023},{"$f":"NORMDIST(A46,Normalfordeling!D$2,Normalfordeling!D$3,FALSE)","v":1.2747332381833466E-5},0,{"$f":"NORMDIST(A46,Normalfordeling!D$2,Normalfordeling!D$3,TRUE)","v":2.6822957796388485E-6}]
[{"$f":"(Normalfordeling!D$6-Normalfordeling!C$6)/1000+A46","v":0.46000000000000024},{"$f":"NORMDIST(A47,Normalfordeling!D$2,Normalfordeling!D$3,FALSE)","v":1.334006649035584E-5},0,{"$f":"NORMDIST(A47,Normalfordeling!D$2,Normalfordeling!D$3,TRUE)","v":2.8127114117242095E-6}]
[{"$f":"(Normalfordeling!D$6-Normalfordeling!C$6)/1000+A47","v":0.47000000000000025},{"$f":"NORMDIST(A48,Normalfordeling!D$2,Normalfordeling!D$3,FALSE)","v":1.3958965985154821E-5},0,{"$f":"NORMDIST(A48,Normalfordeling!D$2,Normalfordeling!D$3,TRUE)","v":2.9491843228915214E-6}]
[{"$f":"(Normalfordeling!D$6-Normalfordeling!C$6)/1000+A48","v":0.48000000000000026},{"$f":"NORMDIST(A49,Normalfordeling!D$2,Normalfordeling!D$3,FALSE)","v":1.4605118139152942E-5},0,{"$f":"NORMDIST(A49,Normalfordeling!D$2,Normalfordeling!D$3,TRUE)","v":3.0919815689561798E-6}]
[{"$f":"(Normalfordeling!D$6-Normalfordeling!C$6)/1000+A49","v":0.49000000000000027},{"$f":"NORMDIST(A50,Normalfordeling!D$2,Normalfordeling!D$3,FALSE)","v":1.527965224676162E-5},0,{"$f":"NORMDIST(A50,Normalfordeling!D$2,Normalfordeling!D$3,TRUE)","v":3.2413812873533834E-6}]
[{"$f":"(Normalfordeling!D$6-Normalfordeling!C$6)/1000+A50","v":0.50000000000000022},{"$f":"NORMDIST(A51,Normalfordeling!D$2,Normalfordeling!D$3,FALSE)","v":1.5983741106905475E-5},0,{"$f":"NORMDIST(A51,Normalfordeling!D$2,Normalfordeling!D$3,TRUE)","v":3.3976731247300535E-6}]
[{"$f":"(Normalfordeling!D$6-Normalfordeling!C$6)/1000+A51","v":0.51000000000000023},{"$f":"NORMDIST(A52,Normalfordeling!D$2,Normalfordeling!D$3,FALSE)","v":1.6718602552365071E-5},0,{"$f":"NORMDIST(A52,Normalfordeling!D$2,Normalfordeling!D$3,TRUE)","v":3.5611586795975462E-6}]
[{"$f":"(Normalfordeling!D$6-Normalfordeling!C$6)/1000+A52","v":0.52000000000000024},{"$f":"NORMDIST(A53,Normalfordeling!D$2,Normalfordeling!D$3,FALSE)","v":1.74855010266392E-5},0,{"$f":"NORMDIST(A53,Normalfordeling!D$2,Normalfordeling!D$3,TRUE)","v":3.7321519605144804E-6}]
[{"$f":"(Normalfordeling!D$6-Normalfordeling!C$6)/1000+A53","v":0.53000000000000025},{"$f":"NORMDIST(A54,Normalfordeling!D$2,Normalfordeling!D$3,FALSE)","v":1.828574920954738E-5},0,{"$f":"NORMDIST(A54,Normalfordeling!D$2,Normalfordeling!D$3,TRUE)","v":3.9109798602806963E-6}]
[{"$f":"(Normalfordeling!D$6-Normalfordeling!C$6)/1000+A54","v":0.54000000000000026},{"$f":"NORMDIST(A55,Normalfordeling!D$2,Normalfordeling!D$3,FALSE)","v":1.9120709692817737E-5},0,{"$f":"NORMDIST(A55,Normalfordeling!D$2,Normalfordeling!D$3,TRUE)","v":4.0979826466363491E-6}]
[{"$f":"(Normalfordeling!D$6-Normalfordeling!C$6)/1000+A55","v":0.55000000000000027},{"$f":"NORMDIST(A56,Normalfordeling!D$2,Normalfordeling!D$3,FALSE)","v":1.9991796706922859E-5},0,{"$f":"NORMDIST(A56,Normalfordeling!D$2,Normalfordeling!D$3,TRUE)","v":4.2935144699718817E-6}]
[{"$f":"(Normalfordeling!D$6-Normalfordeling!C$6)/1000+A56","v":0.56000000000000028},{"$f":"NORMDIST(A57,Normalfordeling!D$2,Normalfordeling!D$3,FALSE)","v":2.0900477900450482E-5},0,{"$f":"NORMDIST(A57,Normalfordeling!D$2,Normalfordeling!D$3,TRUE)","v":4.4979438885679268E-6}]
[{"$f":"(Normalfordeling!D$6-Normalfordeling!C$6)/1000+A57","v":0.57000000000000028},{"$f":"NORMDIST(A58,Normalfordeling!D$2,Normalfordeling!D$3,FALSE)","v":2.184827617331647E-5},0,{"$f":"NORMDIST(A58,Normalfordeling!D$2,Normalfordeling!D$3,TRUE)","v":4.7116544118972307E-6}]
[{"$f":"(Normalfordeling!D$6-Normalfordeling!C$6)/1000+A58","v":0.58000000000000029},{"$f":"NORMDIST(A59,Normalfordeling!D$2,Normalfordeling!D$3,FALSE)","v":2.283677156514692E-5},0,{"$f":"NORMDIST(A59,Normalfordeling!D$2,Normalfordeling!D$3,TRUE)","v":4.9350450625332669E-6}]
[{"$f":"(Normalfordeling!D$6-Normalfordeling!C$6)/1000+A59","v":0.5900000000000003},{"$f":"NORMDIST(A60,Normalfordeling!D$2,Normalfordeling!D$3,FALSE)","v":2.3867603200179601E-5},0,{"$f":"NORMDIST(A60,Normalfordeling!D$2,Normalfordeling!D$3,TRUE)","v":5.1685309572241284E-6}]
[{"$f":"(Normalfordeling!D$6-Normalfordeling!C$6)/1000+A60","v":0.60000000000000031},{"$f":"NORMDIST(A61,Normalfordeling!D$2,Normalfordeling!D$3,FALSE)","v":2.494247129005362E-5},0,{"$f":"NORMDIST(A61,Normalfordeling!D$2,Normalfordeling!D$3,TRUE)","v":5.4125439077038704E-6}]
[{"$f":"(Normalfordeling!D$6-Normalfordeling!C$6)/1000+A61","v":0.61000000000000032},{"$f":"NORMDIST(A62,Normalfordeling!D$2,Normalfordeling!D$3,FALSE)","v":2.6063139195878342E-5},0,{"$f":"NORMDIST(A62,Normalfordeling!D$2,Normalfordeling!D$3,TRUE)","v":5.6675330418267366E-6}]
[{"$f":"(Normalfordeling!D$6-Normalfordeling!C$6)/1000+A62","v":0.62000000000000033},{"$f":"NORMDIST(A63,Normalfordeling!D$2,Normalfordeling!D$3,FALSE)","v":2.7231435550992609E-5},0,{"$f":"NORMDIST(A63,Normalfordeling!D$2,Normalfordeling!D$3,TRUE)","v":5.933965445624665E-6}]
[{"$f":"(Normalfordeling!D$6-Normalfordeling!C$6)/1000+A63","v":0.63000000000000034},{"$f":"NORMDIST(A64,Normalfordeling!D$2,Normalfordeling!D$3,FALSE)","v":2.844925644584441E-5},0,{"$f":"NORMDIST(A64,Normalfordeling!D$2,Normalfordeling!D$3,TRUE)","v":6.2123268269015127E-6}]
[{"$f":"(Normalfordeling!D$6-Normalfordeling!C$6)/1000+A64","v":0.64000000000000035},{"$f":"NORMDIST(A65,Normalfordeling!D$2,Normalfordeling!D$3,FALSE)","v":2.9718567676442307E-5},0,{"$f":"NORMDIST(A65,Normalfordeling!D$2,Normalfordeling!D$3,TRUE)","v":6.503122200992807E-6}]
[{"$f":"(Normalfordeling!D$6-Normalfordeling!C$6)/1000+A65","v":0.65000000000000036},{"$f":"NORMDIST(A66,Normalfordeling!D$2,Normalfordeling!D$3,FALSE)","v":3.1041407057850266E-5},{"$f":"IF(AND(A66>=$C$1001,A66<=$C$1002),B66,0)","v":0},{"$f":"NORMDIST(A66,Normalfordeling!D$2,Normalfordeling!D$3,TRUE)","v":6.8068765993340439E-6}]
[{"$f":"(Normalfordeling!D$6-Normalfordeling!C$6)/1000+A66","v":0.66000000000000036},{"$f":"NORMDIST(A67,Normalfordeling!D$2,Normalfordeling!D$3,FALSE)","v":3.2419886804213778E-5},0,{"$f":"NORMDIST(A67,Normalfordeling!D$2,Normalfordeling!D$3,TRUE)","v":7.1241358014953405E-6}]
[{"$f":"(Normalfordeling!D$6-Normalfordeling!C$6)/1000+A67","v":0.67000000000000037},{"$f":"NORMDIST(A68,Normalfordeling!D$2,Normalfordeling!D$3,FALSE)","v":3.3856195976827888E-5},0,{"$f":"NORMDIST(A68,Normalfordeling!D$2,Normalfordeling!D$3,TRUE)","v":7.4554670913551187E-6}]
[{"$f":"(Normalfordeling!D$6-Normalfordeling!C$6)/1000+A68","v":0.68000000000000038},{"$f":"NORMDIST(A69,Normalfordeling!D$2,Normalfordeling!D$3,FALSE)","v":3.5352603001773219E-5},0,{"$f":"NORMDIST(A69,Normalfordeling!D$2,Normalfordeling!D$3,TRUE)","v":7.801460038101355E-6}]
[{"$f":"(Normalfordeling!D$6-Normalfordeling!C$6)/1000+A69","v":0.69000000000000039},{"$f":"NORMDIST(A70,Normalfordeling!D$2,Normalfordeling!D$3,FALSE)","v":3.6911458258666195E-5},0,{"$f":"NORMDIST(A70,Normalfordeling!D$2,Normalfordeling!D$3,TRUE)","v":8.1627273027630682E-6}]
[{"$f":"(Normalfordeling!D$6-Normalfordeling!C$6)/1000+A70","v":0.7000000000000004},{"$f":"NORMDIST(A71,Normalfordeling!D$2,Normalfordeling!D$3,FALSE)","v":3.8535196742087129E-5},0,{"$f":"NORMDIST(A71,Normalfordeling!D$2,Normalfordeling!D$3,TRUE)","v":8.5399054709917942E-6}]
[{"$f":"(Normalfordeling!D$6-Normalfordeling!C$6)/1000+A71","v":0.71000000000000041},{"$f":"NORMDIST(A72,Normalfordeling!D$2,Normalfordeling!D$3,FALSE)","v":4.0226340797265114E-5},0,{"$f":"NORMDIST(A72,Normalfordeling!D$2,Normalfordeling!D$3,TRUE)","v":8.9336559128270403E-6}]
[{"$f":"(Normalfordeling!D$6-Normalfordeling!C$6)/1000+A72","v":0.72000000000000042},{"$f":"NORMDIST(A73,Normalfordeling!D$2,Normalfordeling!D$3,FALSE)","v":4.1987502931617464E-5},0,{"$f":"NORMDIST(A73,Normalfordeling!D$2,Normalfordeling!D$3,TRUE)","v":9.3446656701963912E-6}]
[{"$f":"(Normalfordeling!D$6-Normalfordeling!C$6)/1000+A73","v":0.73000000000000043},{"$f":"NORMDIST(A74,Normalfordeling!D$2,Normalfordeling!D$3,FALSE)","v":4.3821388703758118E-5},0,{"$f":"NORMDIST(A74,Normalfordeling!D$2,Normalfordeling!D$3,TRUE)","v":9.7736483729175836E-6}]
[{"$f":"(Normalfordeling!D$6-Normalfordeling!C$6)/1000+A74","v":0.74000000000000044},{"$f":"NORMDIST(A75,Normalfordeling!D$2,Normalfordeling!D$3,FALSE)","v":4.5730799691601314E-5},0,{"$f":"NORMDIST(A75,Normalfordeling!D$2,Normalfordeling!D$3,TRUE)","v":1.0221345183984058E-5}]
[{"$f":"(Normalfordeling!D$6-Normalfordeling!C$6)/1000+A75","v":0.75000000000000044},{"$f":"NORMDIST(A76,Normalfordeling!D$2,Normalfordeling!D$3,FALSE)","v":4.7718636541204952E-5},0,{"$f":"NORMDIST(A76,Normalfordeling!D$2,Normalfordeling!D$3,TRUE)","v":1.06885257749344E-5}]
[{"$f":"(Normalfordeling!D$6-Normalfordeling!C$6)/1000+A76","v":0.76000000000000045},{"$f":"NORMDIST(A77,Normalfordeling!D$2,Normalfordeling!D$3,FALSE)","v":4.978790209801226E-5},0,{"$f":"NORMDIST(A77,Normalfordeling!D$2,Normalfordeling!D$3,TRUE)","v":1.1175989332120596E-5}]
[{"$f":"(Normalfordeling!D$6-Normalfordeling!C$6)/1000+A77","v":0.77000000000000046},{"$f":"NORMDIST(A78,Normalfordeling!D$2,Normalfordeling!D$3,FALSE)","v":5.1941704622159959E-5},0,{"$f":"NORMDIST(A78,Normalfordeling!D$2,Normalfordeling!D$3,TRUE)","v":1.1684565594707444E-5}]
[{"$f":"(Normalfordeling!D$6-Normalfordeling!C$6)/1000+A78","v":0.78000000000000047},{"$f":"NORMDIST(A79,Normalfordeling!D$2,Normalfordeling!D$3,FALSE)","v":5.4183261089540144E-5},0,{"$f":"NORMDIST(A79,Normalfordeling!D$2,Normalfordeling!D$3,TRUE)","v":1.2215115925253023E-5}]
[{"$f":"(Normalfordeling!D$6-Normalfordeling!C$6)/1000+A79","v":0.79000000000000048},{"$f":"NORMDIST(A80,Normalfordeling!D$2,Normalfordeling!D$3,FALSE)","v":5.6515900580307611E-5},0,{"$f":"NORMDIST(A80,Normalfordeling!D$2,Normalfordeling!D$3,TRUE)","v":1.2768534413734976E-5}]
[{"$f":"(Normalfordeling!D$6-Normalfordeling!C$6)/1000+A80","v":0.80000000000000049},{"$f":"NORMDIST(A81,Normalfordeling!D$2,Normalfordeling!D$3,FALSE)","v":5.8943067756540058E-5},0,{"$f":"NORMDIST(A81,Normalfordeling!D$2,Normalfordeling!D$3,TRUE)","v":1.3345749015906336E-5}]
[{"$f":"(Normalfordeling!D$6-Normalfordeling!C$6)/1000+A81","v":0.8100000000000005},{"$f":"NORMDIST(A82,Normalfordeling!D$2,Normalfordeling!D$3,FALSE)","v":6.1468326430769434E-5},0,{"$f":"NORMDIST(A82,Normalfordeling!D$2,Normalfordeling!D$3,TRUE)","v":1.3947722726881278E-5}]
[{"$f":"(Normalfordeling!D$6-Normalfordeling!C$6)/1000+A82","v":0.82000000000000051},{"$f":"NORMDIST(A83,Normalfordeling!D$2,Normalfordeling!D$3,FALSE)","v":6.4095363227106096E-5},0,{"$f":"NORMDIST(A83,Normalfordeling!D$2,Normalfordeling!D$3,TRUE)","v":1.457545479086704E-5}]
[{"$f":"(Normalfordeling!D$6-Normalfordeling!C$6)/1000+A83","v":0.83000000000000052},{"$f":"NORMDIST(A84,Normalfordeling!D$2,Normalfordeling!D$3,FALSE)","v":6.6827991336690609E-5},0,{"$f":"NORMDIST(A84,Normalfordeling!D$2,Normalfordeling!D$3,TRUE)","v":1.522998194797788E-5}]
[{"$f":"(Normalfordeling!D$6-Normalfordeling!C$6)/1000+A84","v":0.84000000000000052},{"$f":"NORMDIST(A85,Normalfordeling!D$2,Normalfordeling!D$3,FALSE)","v":6.967015436921457E-5},0,{"$f":"NORMDIST(A85,Normalfordeling!D$2,Normalfordeling!D$3,TRUE)","v":1.5912379719082196E-5}]
[{"$f":"(Normalfordeling!D$6-Normalfordeling!C$6)/1000+A85","v":0.85000000000000053},{"$f":"NORMDIST(A86,Normalfordeling!D$2,Normalfordeling!D$3,FALSE)","v":7.2625930302252581E-5},0,{"$f":"NORMDIST(A86,Normalfordeling!D$2,Normalfordeling!D$3,TRUE)","v":1.6623763729652243E-5}]
[{"$f":"(Normalfordeling!D$6-Normalfordeling!C$6)/1000+A86","v":0.86000000000000054},{"$f":"NORMDIST(A87,Normalfordeling!D$2,Normalfordeling!D$3,FALSE)","v":7.5699535530161213E-5},0,{"$f":"NORMDIST(A87,Normalfordeling!D$2,Normalfordeling!D$3,TRUE)","v":1.7365291073604036E-5}]
[{"$f":"(Normalfordeling!D$6-Normalfordeling!C$6)/1000+A87","v":0.87000000000000055},{"$f":"NORMDIST(A88,Normalfordeling!D$2,Normalfordeling!D$3,FALSE)","v":7.8895329014293372E-5},0,{"$f":"NORMDIST(A88,Normalfordeling!D$2,Normalfordeling!D$3,TRUE)","v":1.8138161718130943E-5}]
[{"$f":"(Normalfordeling!D$6-Normalfordeling!C$6)/1000+A88","v":0.88000000000000056},{"$f":"NORMDIST(A89,Normalfordeling!D$2,Normalfordeling!D$3,FALSE)","v":8.2217816536286288E-5},0,{"$f":"NORMDIST(A89,Normalfordeling!D$2,Normalfordeling!D$3,TRUE)","v":1.8943619950553297E-5}]
[{"$f":"(Normalfordeling!D$6-Normalfordeling!C$6)/1000+A89","v":0.89000000000000057},{"$f":"NORMDIST(A90,Normalfordeling!D$2,Normalfordeling!D$3,FALSE)","v":8.5671655056182163E-5},0,{"$f":"NORMDIST(A90,Normalfordeling!D$2,Normalfordeling!D$3,TRUE)","v":1.9782955868224062E-5}]
[{"$f":"(Normalfordeling!D$6-Normalfordeling!C$6)/1000+A90","v":0.90000000000000058},{"$f":"NORMDIST(A91,Normalfordeling!D$2,Normalfordeling!D$3,FALSE)","v":8.9261657177132928E-5},0,{"$f":"NORMDIST(A91,Normalfordeling!D$2,Normalfordeling!D$3,TRUE)","v":2.0657506912546714E-5}]
[{"$f":"(Normalfordeling!D$6-Normalfordeling!C$6)/1000+A91","v":0.91000000000000059},{"$f":"NORMDIST(A92,Normalfordeling!D$2,Normalfordeling!D$3,FALSE)","v":9.2992795718445907E-5},0,{"$f":"NORMDIST(A92,Normalfordeling!D$2,Normalfordeling!D$3,TRUE)","v":2.1568659448180566E-5}]
[{"$f":"(Normalfordeling!D$6-Normalfordeling!C$6)/1000+A92","v":0.9200000000000006},{"$f":"NORMDIST(A93,Normalfordeling!D$2,Normalfordeling!D$3,FALSE)","v":9.6870208398719613E-5},0,{"$f":"NORMDIST(A93,Normalfordeling!D$2,Normalfordeling!D$3,TRUE)","v":2.2517850388525485E-5}]
[{"$f":"(Normalfordeling!D$6-Normalfordeling!C$6)/1000+A93","v":0.9300000000000006},{"$f":"NORMDIST(A94,Normalfordeling!D$2,Normalfordeling!D$3,FALSE)","v":1.0089920263081478E-4},0,{"$f":"NORMDIST(A94,Normalfordeling!D$2,Normalfordeling!D$3,TRUE)","v":2.3506568868595616E-5}]
[{"$f":"(Normalfordeling!D$6-Normalfordeling!C$6)/1000+A94","v":0.94000000000000061},{"$f":"NORMDIST(A95,Normalfordeling!D$2,Normalfordeling!D$3,FALSE)","v":1.0508526043040047E-4},0,{"$f":"NORMDIST(A95,Normalfordeling!D$2,Normalfordeling!D$3,TRUE)","v":2.4536357966409732E-5}]
[{"$f":"(Normalfordeling!D$6-Normalfordeling!C$6)/1000+A95","v":0.95000000000000062},{"$f":"NORMDIST(A96,Normalfordeling!D$2,Normalfordeling!D$3,FALSE)","v":1.0943404343980093E-4},0,{"$f":"NORMDIST(A96,Normalfordeling!D$2,Normalfordeling!D$3,TRUE)","v":2.5608816474041584E-5}]
[{"$f":"(Normalfordeling!D$6-Normalfordeling!C$6)/1000+A96","v":0.96000000000000063},{"$f":"NORMDIST(A97,Normalfordeling!D$2,Normalfordeling!D$3,FALSE)","v":1.1395139806886501E-4},0,{"$f":"NORMDIST(A97,Normalfordeling!D$2,Normalfordeling!D$3,TRUE)","v":2.6725600719492178E-5}]
[{"$f":"(Normalfordeling!D$6-Normalfordeling!C$6)/1000+A97","v":0.97000000000000064},{"$f":"NORMDIST(A98,Normalfordeling!D$2,Normalfordeling!D$3,FALSE)","v":1.1864336075456619E-4},0,{"$f":"NORMDIST(A98,Normalfordeling!D$2,Normalfordeling!D$3,TRUE)","v":2.7888426440564004E-5}]
[{"$f":"(Normalfordeling!D$6-Normalfordeling!C$6)/1000+A98","v":0.98000000000000065},{"$f":"NORMDIST(A99,Normalfordeling!D$2,Normalfordeling!D$3,FALSE)","v":1.2351616334102368E-4},0,{"$f":"NORMDIST(A99,Normalfordeling!D$2,Normalfordeling!D$3,TRUE)","v":2.9099070711930998E-5}]
[{"$f":"(Normalfordeling!D$6-Normalfordeling!C$6)/1000+A99","v":0.99000000000000066},{"$f":"NORMDIST(A100,Normalfordeling!D$2,Normalfordeling!D$3,FALSE)","v":1.2857623858162108E-4},0,{"$f":"NORMDIST(A100,Normalfordeling!D$2,Normalfordeling!D$3,TRUE)","v":3.0359373926618166E-5}]
[{"$f":"(Normalfordeling!D$6-Normalfordeling!C$6)/1000+A100","v":1.0000000000000007},{"$f":"NORMDIST(A101,Normalfordeling!D$2,Normalfordeling!D$3,FALSE)","v":1.3383022576488583E-4},0,{"$f":"NORMDIST(A101,Normalfordeling!D$2,Normalfordeling!D$3,TRUE)","v":3.1671241833119972E-5}]
[{"$f":"(Normalfordeling!D$6-Normalfordeling!C$6)/1000+A101","v":1.0100000000000007},{"$f":"NORMDIST(A102,Normalfordeling!D$2,Normalfordeling!D$3,FALSE)","v":1.392849764657604E-4},0,{"$f":"NORMDIST(A102,Normalfordeling!D$2,Normalfordeling!D$3,TRUE)","v":3.3036647629402546E-5}]
[{"$f":"(Normalfordeling!D$6-Normalfordeling!C$6)/1000+A102","v":1.0200000000000007},{"$f":"NORMDIST(A103,Normalfordeling!D$2,Normalfordeling!D$3,FALSE)","v":1.4494756042389127E-4},0,{"$f":"NORMDIST(A103,Normalfordeling!D$2,Normalfordeling!D$3,TRUE)","v":3.4457634115053115E-5}]
[{"$f":"(Normalfordeling!D$6-Normalfordeling!C$6)/1000+A103","v":1.0300000000000007},{"$f":"NORMDIST(A104,Normalfordeling!D$2,Normalfordeling!D$3,FALSE)","v":1.5082527155051834E-4},0,{"$f":"NORMDIST(A104,Normalfordeling!D$2,Normalfordeling!D$3,TRUE)","v":3.5936315902853819E-5}]
[{"$f":"(Normalfordeling!D$6-Normalfordeling!C$6)/1000+A104","v":1.0400000000000007},{"$f":"NORMDIST(A105,Normalfordeling!D$2,Normalfordeling!D$3,FALSE)","v":1.5692563406553283E-4},0,{"$f":"NORMDIST(A105,Normalfordeling!D$2,Normalfordeling!D$3,TRUE)","v":3.7474881691073518E-5}]
[{"$f":"(Normalfordeling!D$6-Normalfordeling!C$6)/1000+A105","v":1.0500000000000007},{"$f":"NORMDIST(A106,Normalfordeling!D$2,Normalfordeling!D$3,FALSE)","v":1.6325640876624259E-4},0,{"$f":"NORMDIST(A106,Normalfordeling!D$2,Normalfordeling!D$3,TRUE)","v":3.9075596597787565E-5}]
[{"$f":"(Normalfordeling!D$6-Normalfordeling!C$6)/1000+A106","v":1.0600000000000007},{"$f":"NORMDIST(A107,Normalfordeling!D$2,Normalfordeling!D$3,FALSE)","v":1.6982559942934388E-4},0,{"$f":"NORMDIST(A107,Normalfordeling!D$2,Normalfordeling!D$3,TRUE)","v":4.0740804558550716E-5}]
[{"$f":"(Normalfordeling!D$6-Normalfordeling!C$6)/1000+A107","v":1.0700000000000007},{"$f":"NORMDIST(A108,Normalfordeling!D$2,Normalfordeling!D$3,FALSE)","v":1.7664145934757154E-4},0,{"$f":"NORMDIST(A108,Normalfordeling!D$2,Normalfordeling!D$3,TRUE)","v":4.2472930788761261E-5}]
[{"$f":"(Normalfordeling!D$6-Normalfordeling!C$6)/1000+A108","v":1.0800000000000007},{"$f":"NORMDIST(A109,Normalfordeling!D$2,Normalfordeling!D$3,FALSE)","v":1.8371249800245776E-4},0,{"$f":"NORMDIST(A109,Normalfordeling!D$2,Normalfordeling!D$3,TRUE)","v":4.4274484312070818E-5}]
[{"$f":"(Normalfordeling!D$6-Normalfordeling!C$6)/1000+A109","v":1.0900000000000007},{"$f":"NORMDIST(A110,Normalfordeling!D$2,Normalfordeling!D$3,FALSE)","v":1.9104748787459827E-4},0,{"$f":"NORMDIST(A110,Normalfordeling!D$2,Normalfordeling!D$3,TRUE)","v":4.6148060556208891E-5}]
[{"$f":"(Normalfordeling!D$6-Normalfordeling!C$6)/1000+A110","v":1.1000000000000008},{"$f":"NORMDIST(A111,Normalfordeling!D$2,Normalfordeling!D$3,FALSE)","v":1.9865547139277307E-4},0,{"$f":"NORMDIST(A111,Normalfordeling!D$2,Normalfordeling!D$3,TRUE)","v":4.8096344017602743E-5}]
[{"$f":"(Normalfordeling!D$6-Normalfordeling!C$6)/1000+A111","v":1.1100000000000008},{"$f":"NORMDIST(A112,Normalfordeling!D$2,Normalfordeling!D$3,FALSE)","v":2.0654576802322622E-4},0,{"$f":"NORMDIST(A112,Normalfordeling!D$2,Normalfordeling!D$3,TRUE)","v":5.0122110996188463E-5}]
[{"$f":"(Normalfordeling!D$6-Normalfordeling!C$6)/1000+A112","v":1.1200000000000008},{"$f":"NORMDIST(A113,Normalfordeling!D$2,Normalfordeling!D$3,FALSE)","v":2.1472798150036778E-4},0,{"$f":"NORMDIST(A113,Normalfordeling!D$2,Normalfordeling!D$3,TRUE)","v":5.2228232401820311E-5}]
[{"$f":"(Normalfordeling!D$6-Normalfordeling!C$6)/1000+A113","v":1.1300000000000008},{"$f":"NORMDIST(A114,Normalfordeling!D$2,Normalfordeling!D$3,FALSE)","v":2.2321200720010285E-4},0,{"$f":"NORMDIST(A114,Normalfordeling!D$2,Normalfordeling!D$3,TRUE)","v":5.441767663369992E-5}]
[{"$f":"(Normalfordeling!D$6-Normalfordeling!C$6)/1000+A114","v":1.1400000000000008},{"$f":"NORMDIST(A115,Normalfordeling!D$2,Normalfordeling!D$3,FALSE)","v":2.3200803965694276E-4},0,{"$f":"NORMDIST(A115,Normalfordeling!D$2,Normalfordeling!D$3,TRUE)","v":5.6693512534256702E-5}]
[{"$f":"(Normalfordeling!D$6-Normalfordeling!C$6)/1000+A115","v":1.1500000000000008},{"$f":"NORMDIST(A116,Normalfordeling!D$2,Normalfordeling!D$3,FALSE)","v":2.411265802259941E-4},0,{"$f":"NORMDIST(A116,Normalfordeling!D$2,Normalfordeling!D$3,TRUE)","v":5.9058912418922713E-5}]
[{"$f":"(Normalfordeling!D$6-Normalfordeling!C$6)/1000+A116","v":1.1600000000000008},{"$f":"NORMDIST(A117,Normalfordeling!D$2,Normalfordeling!D$3,FALSE)","v":2.5057844489086167E-4},0,{"$f":"NORMDIST(A117,Normalfordeling!D$2,Normalfordeling!D$3,TRUE)","v":6.1517155183255515E-5}]
[{"$f":"(Normalfordeling!D$6-Normalfordeling!C$6)/1000+A117","v":1.1700000000000008},{"$f":"NORMDIST(A118,Normalfordeling!D$2,Normalfordeling!D$3,FALSE)","v":2.6037477221844339E-4},0,{"$f":"NORMDIST(A118,Normalfordeling!D$2,Normalfordeling!D$3,TRUE)","v":6.4071629488874794E-5}]
[{"$f":"(Normalfordeling!D$6-Normalfordeling!C$6)/1000+A118","v":1.1800000000000008},{"$f":"NORMDIST(A119,Normalfordeling!D$2,Normalfordeling!D$3,FALSE)","v":2.7052703146152149E-4},0,{"$f":"NORMDIST(A119,Normalfordeling!D$2,Normalfordeling!D$3,TRUE)","v":6.6725837029684885E-5}]
[{"$f":"(Normalfordeling!D$6-Normalfordeling!C$6)/1000+A119","v":1.1900000000000008},{"$f":"NORMDIST(A120,Normalfordeling!D$2,Normalfordeling!D$3,FALSE)","v":2.8104703080998703E-4},0,{"$f":"NORMDIST(A120,Normalfordeling!D$2,Normalfordeling!D$3,TRUE)","v":6.9483395879865441E-5}]
[{"$f":"(Normalfordeling!D$6-Normalfordeling!C$6)/1000+A120","v":1.2000000000000008},{"$f":"NORMDIST(A121,Normalfordeling!D$2,Normalfordeling!D$3,FALSE)","v":2.919469257914613E-4},0,{"$f":"NORMDIST(A121,Normalfordeling!D$2,Normalfordeling!D$3,TRUE)","v":7.2348043925120125E-5}]
[{"$f":"(Normalfordeling!D$6-Normalfordeling!C$6)/1000+A121","v":1.2100000000000009},{"$f":"NORMDIST(A122,Normalfordeling!D$2,Normalfordeling!D$3,FALSE)","v":3.0323922782200525E-4},0,{"$f":"NORMDIST(A122,Normalfordeling!D$2,Normalfordeling!D$3,TRUE)","v":7.5323642378683419E-5}]
[{"$f":"(Normalfordeling!D$6-Normalfordeling!C$6)/1000+A122","v":1.2200000000000009},{"$f":"NORMDIST(A123,Normalfordeling!D$2,Normalfordeling!D$3,FALSE)","v":3.1493681290752236E-4},0,{"$f":"NORMDIST(A123,Normalfordeling!D$2,Normalfordeling!D$3,TRUE)","v":7.8414179383585201E-5}]
[{"$f":"(Normalfordeling!D$6-Normalfordeling!C$6)/1000+A123","v":1.2300000000000009},{"$f":"NORMDIST(A124,Normalfordeling!D$2,Normalfordeling!D$3,FALSE)","v":3.2705293049637584E-4},0,{"$f":"NORMDIST(A124,Normalfordeling!D$2,Normalfordeling!D$3,TRUE)","v":8.162377370268623E-5}]
[{"$f":"(Normalfordeling!D$6-Normalfordeling!C$6)/1000+A124","v":1.2400000000000009},{"$f":"NORMDIST(A125,Normalfordeling!D$2,Normalfordeling!D$3,FALSE)","v":3.3960121248365597E-4},0,{"$f":"NORMDIST(A125,Normalfordeling!D$2,Normalfordeling!D$3,TRUE)","v":8.4956678497998133E-5}]
[{"$f":"(Normalfordeling!D$6-Normalfordeling!C$6)/1000+A125","v":1.2500000000000009},{"$f":"NORMDIST(A126,Normalfordeling!D$2,Normalfordeling!D$3,FALSE)","v":3.5259568236744665E-4},0,{"$f":"NORMDIST(A126,Normalfordeling!D$2,Normalfordeling!D$3,TRUE)","v":8.8417285200804031E-5}]
[{"$f":"(Normalfordeling!D$6-Normalfordeling!C$6)/1000+A126","v":1.2600000000000009},{"$f":"NORMDIST(A127,Normalfordeling!D$2,Normalfordeling!D$3,FALSE)","v":3.6605076455733626E-4},0,{"$f":"NORMDIST(A127,Normalfordeling!D$2,Normalfordeling!D$3,TRUE)","v":9.2010127474105566E-5}]
[{"$f":"(Normalfordeling!D$6-Normalfordeling!C$6)/1000+A127","v":1.2700000000000009},{"$f":"NORMDIST(A128,Normalfordeling!D$2,Normalfordeling!D$3,FALSE)","v":3.7998129383532282E-4},0,{"$f":"NORMDIST(A128,Normalfordeling!D$2,Normalfordeling!D$3,TRUE)","v":9.5739885268914746E-5}]
[{"$f":"(Normalfordeling!D$6-Normalfordeling!C$6)/1000+A128","v":1.2800000000000009},{"$f":"NORMDIST(A129,Normalfordeling!D$2,Normalfordeling!D$3,FALSE)","v":3.9440252496915839E-4},0,{"$f":"NORMDIST(A129,Normalfordeling!D$2,Normalfordeling!D$3,TRUE)","v":9.9611388975916979E-5}]
[{"$f":"(Normalfordeling!D$6-Normalfordeling!C$6)/1000+A129","v":1.2900000000000009},{"$f":"NORMDIST(A130,Normalfordeling!D$2,Normalfordeling!D$3,FALSE)","v":4.0933014247807991E-4},{"$f":"IF(AND(A130>=$C$1001,A130<=$C$1002),B130,0)","v":0},{"$f":"NORMDIST(A130,Normalfordeling!D$2,Normalfordeling!D$3,TRUE)","v":1.0362962367403136E-4}]
[{"$f":"(Normalfordeling!D$6-Normalfordeling!C$6)/1000+A130","v":1.3000000000000009},{"$f":"NORMDIST(A131,Normalfordeling!D$2,Normalfordeling!D$3,FALSE)","v":4.247802705507529E-4},0,{"$f":"NORMDIST(A131,Normalfordeling!D$2,Normalfordeling!D$3,TRUE)","v":1.0779973347738846E-4}]
[{"$f":"(Normalfordeling!D$6-Normalfordeling!C$6)/1000+A131","v":1.3100000000000009},{"$f":"NORMDIST(A132,Normalfordeling!D$2,Normalfordeling!D$3,FALSE)","v":4.4076948311513409E-4},0,{"$f":"NORMDIST(A132,Normalfordeling!D$2,Normalfordeling!D$3,TRUE)","v":1.1212702598224743E-4}]
[{"$f":"(Normalfordeling!D$6-Normalfordeling!C$6)/1000+A132","v":1.320000000000001},{"$f":"NORMDIST(A133,Normalfordeling!D$2,Normalfordeling!D$3,FALSE)","v":4.5731481405985881E-4},0,{"$f":"NORMDIST(A133,Normalfordeling!D$2,Normalfordeling!D$3,TRUE)","v":1.1661697681536874E-4}]
[{"$f":"(Normalfordeling!D$6-Normalfordeling!C$6)/1000+A133","v":1.330000000000001},{"$f":"NORMDIST(A134,Normalfordeling!D$2,Normalfordeling!D$3,FALSE)","v":4.7443376760662232E-4},0,{"$f":"NORMDIST(A134,Normalfordeling!D$2,Normalfordeling!D$3,TRUE)","v":1.2127523428535828E-4}]
[{"$f":"(Normalfordeling!D$6-Normalfordeling!C$6)/1000+A134","v":1.340000000000001},{"$f":"NORMDIST(A135,Normalfordeling!D$2,Normalfordeling!D$3,FALSE)","v":4.9214432883289486E-4},0,{"$f":"NORMDIST(A135,Normalfordeling!D$2,Normalfordeling!D$3,TRUE)","v":1.2610762413848696E-4}]
[{"$f":"(Normalfordeling!D$6-Normalfordeling!C$6)/1000+A135","v":1.350000000000001},{"$f":"NORMDIST(A136,Normalfordeling!D$2,Normalfordeling!D$3,FALSE)","v":5.1046497434418733E-4},0,{"$f":"NORMDIST(A136,Normalfordeling!D$2,Normalfordeling!D$3,TRUE)","v":1.3112015442048508E-4}]
[{"$f":"(Normalfordeling!D$6-Normalfordeling!C$6)/1000+A136","v":1.360000000000001},{"$f":"NORMDIST(A137,Normalfordeling!D$2,Normalfordeling!D$3,FALSE)","v":5.2941468309493703E-4},0,{"$f":"NORMDIST(A137,Normalfordeling!D$2,Normalfordeling!D$3,TRUE)","v":1.3631902044580229E-4}]
[{"$f":"(Normalfordeling!D$6-Normalfordeling!C$6)/1000+A137","v":1.370000000000001},{"$f":"NORMDIST(A138,Normalfordeling!D$2,Normalfordeling!D$3,FALSE)","v":5.4901294735696065E-4},0,{"$f":"NORMDIST(A138,Normalfordeling!D$2,Normalfordeling!D$3,TRUE)","v":1.4171060987581976E-4}]
[{"$f":"(Normalfordeling!D$6-Normalfordeling!C$6)/1000+A138","v":1.380000000000001},{"$f":"NORMDIST(A139,Normalfordeling!D$2,Normalfordeling!D$3,FALSE)","v":5.6927978383425413E-4},0,{"$f":"NORMDIST(A139,Normalfordeling!D$2,Normalfordeling!D$3,TRUE)","v":1.4730150790747299E-4}]
[{"$f":"(Normalfordeling!D$6-Normalfordeling!C$6)/1000+A139","v":1.390000000000001},{"$f":"NORMDIST(A140,Normalfordeling!D$2,Normalfordeling!D$3,FALSE)","v":5.9023574492278767E-4},0,{"$f":"NORMDIST(A140,Normalfordeling!D$2,Normalfordeling!D$3,TRUE)","v":1.5309850257375554E-4}]
[{"$f":"(Normalfordeling!D$6-Normalfordeling!C$6)/1000+A140","v":1.400000000000001},{"$f":"NORMDIST(A141,Normalfordeling!D$2,Normalfordeling!D$3,FALSE)","v":6.1190193011377515E-4},0,{"$f":"NORMDIST(A141,Normalfordeling!D$2,Normalfordeling!D$3,TRUE)","v":1.5910859015753445E-4}]
[{"$f":"(Normalfordeling!D$6-Normalfordeling!C$6)/1000+A141","v":1.410000000000001},{"$f":"NORMDIST(A142,Normalfordeling!D$2,Normalfordeling!D$3,FALSE)","v":6.3429999753875977E-4},0,{"$f":"NORMDIST(A142,Normalfordeling!D$2,Normalfordeling!D$3,TRUE)","v":1.6533898072011006E-4}]
[{"$f":"(Normalfordeling!D$6-Normalfordeling!C$6)/1000+A142","v":1.420000000000001},{"$f":"NORMDIST(A143,Normalfordeling!D$2,Normalfordeling!D$3,FALSE)","v":6.5745217565467819E-4},0,{"$f":"NORMDIST(A143,Normalfordeling!D$2,Normalfordeling!D$3,TRUE)","v":1.7179710374593096E-4}]
[{"$f":"(Normalfordeling!D$6-Normalfordeling!C$6)/1000+A143","v":1.430000000000001},{"$f":"NORMDIST(A144,Normalfordeling!D$2,Normalfordeling!D$3,FALSE)","v":6.813812750668945E-4},0,{"$f":"NORMDIST(A144,Normalfordeling!D$2,Normalfordeling!D$3,TRUE)","v":1.7849061390484773E-4}]
[{"$f":"(Normalfordeling!D$6-Normalfordeling!C$6)/1000+A144","v":1.4400000000000011},{"$f":"NORMDIST(A145,Normalfordeling!D$2,Normalfordeling!D$3,FALSE)","v":7.0611070048803935E-4},0,{"$f":"NORMDIST(A145,Normalfordeling!D$2,Normalfordeling!D$3,TRUE)","v":1.8542739693327856E-4}]
[{"$f":"(Normalfordeling!D$6-Normalfordeling!C$6)/1000+A145","v":1.4500000000000011},{"$f":"NORMDIST(A146,Normalfordeling!D$2,Normalfordeling!D$3,FALSE)","v":7.316644628303135E-4},0,{"$f":"NORMDIST(A146,Normalfordeling!D$2,Normalfordeling!D$3,TRUE)","v":1.9261557563563371E-4}]
[{"$f":"(Normalfordeling!D$6-Normalfordeling!C$6)/1000+A146","v":1.4600000000000011},{"$f":"NORMDIST(A147,Normalfordeling!D$2,Normalfordeling!D$3,FALSE)","v":7.5806719142871301E-4},0,{"$f":"NORMDIST(A147,Normalfordeling!D$2,Normalfordeling!D$3,TRUE)","v":2.0006351600732056E-4}]
[{"$f":"(Normalfordeling!D$6-Normalfordeling!C$6)/1000+A147","v":1.4700000000000011},{"$f":"NORMDIST(A148,Normalfordeling!D$2,Normalfordeling!D$3,FALSE)","v":7.8534414639247268E-4},0,{"$f":"NORMDIST(A148,Normalfordeling!D$2,Normalfordeling!D$3,TRUE)","v":2.0777983348062195E-4}]
[{"$f":"(Normalfordeling!D$6-Normalfordeling!C$6)/1000+A148","v":1.4800000000000011},{"$f":"NORMDIST(A149,Normalfordeling!D$2,Normalfordeling!D$3,FALSE)","v":8.135212310818121E-4},0,{"$f":"NORMDIST(A149,Normalfordeling!D$2,Normalfordeling!D$3,TRUE)","v":2.1577339929471843E-4}]
[{"$f":"(Normalfordeling!D$6-Normalfordeling!C$6)/1000+A149","v":1.4900000000000011},{"$f":"NORMDIST(A150,Normalfordeling!D$2,Normalfordeling!D$3,FALSE)","v":8.4262500470690495E-4},0,{"$f":"NORMDIST(A150,Normalfordeling!D$2,Normalfordeling!D$3,TRUE)","v":2.240533469910937E-4}]
[{"$f":"(Normalfordeling!D$6-Normalfordeling!C$6)/1000+A150","v":1.5000000000000011},{"$f":"NORMDIST(A151,Normalfordeling!D$2,Normalfordeling!D$3,FALSE)","v":8.7268269504576319E-4},0,{"$f":"NORMDIST(A151,Normalfordeling!D$2,Normalfordeling!D$3,TRUE)","v":2.3262907903552545E-4}]
[{"$f":"(Normalfordeling!D$6-Normalfordeling!C$6)/1000+A151","v":1.5100000000000011},{"$f":"NORMDIST(A152,Normalfordeling!D$2,Normalfordeling!D$3,FALSE)","v":9.037222112775286E-4},0,{"$f":"NORMDIST(A152,Normalfordeling!D$2,Normalfordeling!D$3,TRUE)","v":2.4151027356783726E-4}]
[{"$f":"(Normalfordeling!D$6-Normalfordeling!C$6)/1000+A152","v":1.5200000000000011},{"$f":"NORMDIST(A153,Normalfordeling!D$2,Normalfordeling!D$3,FALSE)","v":9.3577215692748389E-4},0,{"$f":"NORMDIST(A153,Normalfordeling!D$2,Normalfordeling!D$3,TRUE)","v":2.507068912805388E-4}]
[{"$f":"(Normalfordeling!D$6-Normalfordeling!C$6)/1000+A153","v":1.5300000000000011},{"$f":"NORMDIST(A154,Normalfordeling!D$2,Normalfordeling!D$3,FALSE)","v":9.6886184291985014E-4},0,{"$f":"NORMDIST(A154,Normalfordeling!D$2,Normalfordeling!D$3,TRUE)","v":2.6022918242746789E-4}]
[{"$f":"(Normalfordeling!D$6-Normalfordeling!C$6)/1000+A154","v":1.5400000000000011},{"$f":"NORMDIST(A155,Normalfordeling!D$2,Normalfordeling!D$3,FALSE)","v":1.0030213007342411E-3},0,{"$f":"NORMDIST(A155,Normalfordeling!D$2,Normalfordeling!D$3,TRUE)","v":2.7008769396347541E-4}]
[{"$f":"(Normalfordeling!D$6-Normalfordeling!C$6)/1000+A155","v":1.5500000000000012},{"$f":"NORMDIST(A156,Normalfordeling!D$2,Normalfordeling!D$3,FALSE)","v":1.0382812956614149E-3},0,{"$f":"NORMDIST(A156,Normalfordeling!D$2,Normalfordeling!D$3,TRUE)","v":2.8029327681617847E-4}]
[{"$f":"(Normalfordeling!D$6-Normalfordeling!C$6)/1000+A156","v":1.5600000000000012},{"$f":"NORMDIST(A157,Normalfordeling!D$2,Normalfordeling!D$3,FALSE)","v":1.0746733401537404E-3},0,{"$f":"NORMDIST(A157,Normalfordeling!D$2,Normalfordeling!D$3,TRUE)","v":2.9085709329074427E-4}]
[{"$f":"(Normalfordeling!D$6-Normalfordeling!C$6)/1000+A157","v":1.5700000000000012},{"$f":"NORMDIST(A158,Normalfordeling!D$2,Normalfordeling!D$3,FALSE)","v":1.1122297072655698E-3},0,{"$f":"NORMDIST(A158,Normalfordeling!D$2,Normalfordeling!D$3,TRUE)","v":3.017906246086387E-4}]
[{"$f":"(Normalfordeling!D$6-Normalfordeling!C$6)/1000+A158","v":1.5800000000000012},{"$f":"NORMDIST(A159,Normalfordeling!D$2,Normalfordeling!D$3,FALSE)","v":1.1509834441784876E-3},0,{"$f":"NORMDIST(A159,Normalfordeling!D$2,Normalfordeling!D$3,TRUE)","v":3.131056785812011E-4}]
[{"$f":"(Normalfordeling!D$6-Normalfordeling!C$6)/1000+A159","v":1.5900000000000012},{"$f":"NORMDIST(A160,Normalfordeling!D$2,Normalfordeling!D$3,FALSE)","v":1.1909683858061231E-3},0,{"$f":"NORMDIST(A160,Normalfordeling!D$2,Normalfordeling!D$3,TRUE)","v":3.2481439741887893E-4}]
[{"$f":"(Normalfordeling!D$6-Normalfordeling!C$6)/1000+A160","v":1.6000000000000012},{"$f":"NORMDIST(A161,Normalfordeling!D$2,Normalfordeling!D$3,FALSE)","v":1.2322191684730254E-3},0,{"$f":"NORMDIST(A161,Normalfordeling!D$2,Normalfordeling!D$3,TRUE)","v":3.3692926567688216E-4}]
[{"$f":"(Normalfordeling!D$6-Normalfordeling!C$6)/1000+A161","v":1.6100000000000012},{"$f":"NORMDIST(A162,Normalfordeling!D$2,Normalfordeling!D$3,FALSE)","v":1.2747712436618384E-3},0,{"$f":"NORMDIST(A162,Normalfordeling!D$2,Normalfordeling!D$3,TRUE)","v":3.4946311833797223E-4}]
[{"$f":"(Normalfordeling!D$6-Normalfordeling!C$6)/1000+A162","v":1.6200000000000012},{"$f":"NORMDIST(A163,Normalfordeling!D$2,Normalfordeling!D$3,FALSE)","v":1.3186608918227456E-3},0,{"$f":"NORMDIST(A163,Normalfordeling!D$2,Normalfordeling!D$3,TRUE)","v":3.6242914903304431E-4}]
[{"$f":"(Normalfordeling!D$6-Normalfordeling!C$6)/1000+A163","v":1.6300000000000012},{"$f":"NORMDIST(A164,Normalfordeling!D$2,Normalfordeling!D$3,FALSE)","v":1.3639252362389097E-3},0,{"$f":"NORMDIST(A164,Normalfordeling!D$2,Normalfordeling!D$3,TRUE)","v":3.7584091840008461E-4}]
[{"$f":"(Normalfordeling!D$6-Normalfordeling!C$6)/1000+A164","v":1.6400000000000012},{"$f":"NORMDIST(A165,Normalfordeling!D$2,Normalfordeling!D$3,FALSE)","v":1.4106022569413911E-3},0,{"$f":"NORMDIST(A165,Normalfordeling!D$2,Normalfordeling!D$3,TRUE)","v":3.8971236258203353E-4}]
[{"$f":"(Normalfordeling!D$6-Normalfordeling!C$6)/1000+A165","v":1.6500000000000012},{"$f":"NORMDIST(A166,Normalfordeling!D$2,Normalfordeling!D$3,FALSE)","v":1.4587308046667524E-3},0,{"$f":"NORMDIST(A166,Normalfordeling!D$2,Normalfordeling!D$3,TRUE)","v":4.0405780186402259E-4}]
[{"$f":"(Normalfordeling!D$6-Normalfordeling!C$6)/1000+A166","v":1.6600000000000013},{"$f":"NORMDIST(A167,Normalfordeling!D$2,Normalfordeling!D$3,FALSE)","v":1.5083506148503127E-3},0,{"$f":"NORMDIST(A167,Normalfordeling!D$2,Normalfordeling!D$3,TRUE)","v":4.1889194945037071E-4}]
[{"$f":"(Normalfordeling!D$6-Normalfordeling!C$6)/1000+A167","v":1.6700000000000013},{"$f":"NORMDIST(A168,Normalfordeling!D$2,Normalfordeling!D$3,FALSE)","v":1.5595023216476984E-3},0,{"$f":"NORMDIST(A168,Normalfordeling!D$2,Normalfordeling!D$3,TRUE)","v":4.3422992038165707E-4}]
[{"$f":"(Normalfordeling!D$6-Normalfordeling!C$6)/1000+A168","v":1.6800000000000013},{"$f":"NORMDIST(A169,Normalfordeling!D$2,Normalfordeling!D$3,FALSE)","v":1.6122274719771316E-3},0,{"$f":"NORMDIST(A169,Normalfordeling!D$2,Normalfordeling!D$3,TRUE)","v":4.5008724059211963E-4}]
[{"$f":"(Normalfordeling!D$6-Normalfordeling!C$6)/1000+A169","v":1.6900000000000013},{"$f":"NORMDIST(A170,Normalfordeling!D$2,Normalfordeling!D$3,FALSE)","v":1.6665685395745873E-3},0,{"$f":"NORMDIST(A170,Normalfordeling!D$2,Normalfordeling!D$3,TRUE)","v":4.664798561075515E-4}]
[{"$f":"(Normalfordeling!D$6-Normalfordeling!C$6)/1000+A170","v":1.7000000000000013},{"$f":"NORMDIST(A171,Normalfordeling!D$2,Normalfordeling!D$3,FALSE)","v":1.722568939053686E-3},0,{"$f":"NORMDIST(A171,Normalfordeling!D$2,Normalfordeling!D$3,TRUE)","v":4.8342414238377901E-4}]
[{"$f":"(Normalfordeling!D$6-Normalfordeling!C$6)/1000+A171","v":1.7100000000000013},{"$f":"NORMDIST(A172,Normalfordeling!D$2,Normalfordeling!D$3,FALSE)","v":1.7802730399618864E-3},0,{"$f":"NORMDIST(A172,Normalfordeling!D$2,Normalfordeling!D$3,TRUE)","v":5.0093691378572439E-4}]
[{"$f":"(Normalfordeling!D$6-Normalfordeling!C$6)/1000+A172","v":1.7200000000000013},{"$f":"NORMDIST(A173,Normalfordeling!D$2,Normalfordeling!D$3,FALSE)","v":1.839726180824289E-3},0,{"$f":"NORMDIST(A173,Normalfordeling!D$2,Normalfordeling!D$3,TRUE)","v":5.1903543320697598E-4}]
[{"$f":"(Normalfordeling!D$6-Normalfordeling!C$6)/1000+A173","v":1.7300000000000013},{"$f":"NORMDIST(A174,Normalfordeling!D$2,Normalfordeling!D$3,FALSE)","v":1.900974683166089E-3},0,{"$f":"NORMDIST(A174,Normalfordeling!D$2,Normalfordeling!D$3,TRUE)","v":5.3773742182969763E-4}]
[{"$f":"(Normalfordeling!D$6-Normalfordeling!C$6)/1000+A174","v":1.7400000000000013},{"$f":"NORMDIST(A175,Normalfordeling!D$2,Normalfordeling!D$3,FALSE)","v":1.9640658655043831E-3},0,{"$f":"NORMDIST(A175,Normalfordeling!D$2,Normalfordeling!D$3,TRUE)","v":5.5706106902462344E-4}]
[{"$f":"(Normalfordeling!D$6-Normalfordeling!C$6)/1000+A175","v":1.7500000000000013},{"$f":"NORMDIST(A176,Normalfordeling!D$2,Normalfordeling!D$3,FALSE)","v":2.0290480572997772E-3},0,{"$f":"NORMDIST(A176,Normalfordeling!D$2,Normalfordeling!D$3,TRUE)","v":5.770250423907696E-4}]
[{"$f":"(Normalfordeling!D$6-Normalfordeling!C$6)/1000+A176","v":1.7600000000000013},{"$f":"NORMDIST(A177,Normalfordeling!D$2,Normalfordeling!D$3,FALSE)","v":2.0959706128579549E-3},0,{"$f":"NORMDIST(A177,Normalfordeling!D$2,Normalfordeling!D$3,TRUE)","v":5.9764849793441798E-4}]
[{"$f":"(Normalfordeling!D$6-Normalfordeling!C$6)/1000+A177","v":1.7700000000000014},{"$f":"NORMDIST(A178,Normalfordeling!D$2,Normalfordeling!D$3,FALSE)","v":2.164883925171072E-3},0,{"$f":"NORMDIST(A178,Normalfordeling!D$2,Normalfordeling!D$3,TRUE)","v":6.1895109038683665E-4}]
[{"$f":"(Normalfordeling!D$6-Normalfordeling!C$6)/1000+A178","v":1.7800000000000014},{"$f":"NORMDIST(A179,Normalfordeling!D$2,Normalfordeling!D$3,FALSE)","v":2.2358394396885485E-3},0,{"$f":"NORMDIST(A179,Normalfordeling!D$2,Normalfordeling!D$3,TRUE)","v":6.4095298366005887E-4}]
[{"$f":"(Normalfordeling!D$6-Normalfordeling!C$6)/1000+A179","v":1.7900000000000014},{"$f":"NORMDIST(A180,Normalfordeling!D$2,Normalfordeling!D$3,FALSE)","v":2.3088896680065062E-3},0,{"$f":"NORMDIST(A180,Normalfordeling!D$2,Normalfordeling!D$3,TRUE)","v":6.6367486143996965E-4}]
[{"$f":"(Normalfordeling!D$6-Normalfordeling!C$6)/1000+A180","v":1.8000000000000014},{"$f":"NORMDIST(A181,Normalfordeling!D$2,Normalfordeling!D$3,FALSE)","v":2.3840882014648551E-3},0,{"$f":"NORMDIST(A181,Normalfordeling!D$2,Normalfordeling!D$3,TRUE)","v":6.8713793791585164E-4}]
[{"$f":"(Normalfordeling!D$6-Normalfordeling!C$6)/1000+A181","v":1.8100000000000014},{"$f":"NORMDIST(A182,Normalfordeling!D$2,Normalfordeling!D$3,FALSE)","v":2.4614897246407114E-3},0,{"$f":"NORMDIST(A182,Normalfordeling!D$2,Normalfordeling!D$3,TRUE)","v":7.1136396864536673E-4}]
[{"$f":"(Normalfordeling!D$6-Normalfordeling!C$6)/1000+A182","v":1.8200000000000014},{"$f":"NORMDIST(A183,Normalfordeling!D$2,Normalfordeling!D$3,FALSE)","v":2.5411500287265327E-3},0,{"$f":"NORMDIST(A183,Normalfordeling!D$2,Normalfordeling!D$3,TRUE)","v":7.3637526155393253E-4}]
[{"$f":"(Normalfordeling!D$6-Normalfordeling!C$6)/1000+A183","v":1.8300000000000014},{"$f":"NORMDIST(A184,Normalfordeling!D$2,Normalfordeling!D$3,FALSE)","v":2.6231260247810361E-3},0,{"$f":"NORMDIST(A184,Normalfordeling!D$2,Normalfordeling!D$3,TRUE)","v":7.6219468806723806E-4}]
[{"$f":"(Normalfordeling!D$6-Normalfordeling!C$6)/1000+A184","v":1.8400000000000014},{"$f":"NORMDIST(A185,Normalfordeling!D$2,Normalfordeling!D$3,FALSE)","v":2.7074757568407168E-3},0,{"$f":"NORMDIST(A185,Normalfordeling!D$2,Normalfordeling!D$3,TRUE)","v":7.8884569437557726E-4}]
[{"$f":"(Normalfordeling!D$6-Normalfordeling!C$6)/1000+A185","v":1.8500000000000014},{"$f":"NORMDIST(A186,Normalfordeling!D$2,Normalfordeling!D$3,FALSE)","v":2.7942584148794593E-3},0,{"$f":"NORMDIST(A186,Normalfordeling!D$2,Normalfordeling!D$3,TRUE)","v":8.1635231282856547E-4}]
[{"$f":"(Normalfordeling!D$6-Normalfordeling!C$6)/1000+A186","v":1.8600000000000014},{"$f":"NORMDIST(A187,Normalfordeling!D$2,Normalfordeling!D$3,FALSE)","v":2.8835343476034496E-3},0,{"$f":"NORMDIST(A187,Normalfordeling!D$2,Normalfordeling!D$3,TRUE)","v":8.4473917345862968E-4}]
[{"$f":"(Normalfordeling!D$6-Normalfordeling!C$6)/1000+A187","v":1.8700000000000014},{"$f":"NORMDIST(A188,Normalfordeling!D$2,Normalfordeling!D$3,FALSE)","v":2.9753650750682669E-3},0,{"$f":"NORMDIST(A188,Normalfordeling!D$2,Normalfordeling!D$3,TRUE)","v":8.7403151563157113E-4}]
[{"$f":"(Normalfordeling!D$6-Normalfordeling!C$6)/1000+A188","v":1.8800000000000014},{"$f":"NORMDIST(A189,Normalfordeling!D$2,Normalfordeling!D$3,FALSE)","v":3.0698133011047568E-3},0,{"$f":"NORMDIST(A189,Normalfordeling!D$2,Normalfordeling!D$3,TRUE)","v":9.0425519982234484E-4}]
[{"$f":"(Normalfordeling!D$6-Normalfordeling!C$6)/1000+A189","v":1.8900000000000015},{"$f":"NORMDIST(A190,Normalfordeling!D$2,Normalfordeling!D$3,FALSE)","v":3.1669429255400923E-3},0,{"$f":"NORMDIST(A190,Normalfordeling!D$2,Normalfordeling!D$3,TRUE)","v":9.35436719514104E-4}]
[{"$f":"(Normalfordeling!D$6-Normalfordeling!C$6)/1000+A190","v":1.9000000000000015},{"$f":"NORMDIST(A191,Normalfordeling!D$2,Normalfordeling!D$3,FALSE)","v":3.266819056199933E-3},0,{"$f":"NORMDIST(A191,Normalfordeling!D$2,Normalfordeling!D$3,TRUE)","v":9.6760321321835989E-4}]
[{"$f":"(Normalfordeling!D$6-Normalfordeling!C$6)/1000+A191","v":1.9100000000000015},{"$f":"NORMDIST(A192,Normalfordeling!D$2,Normalfordeling!D$3,FALSE)","v":3.3695080206774955E-3},0,{"$f":"NORMDIST(A192,Normalfordeling!D$2,Normalfordeling!D$3,TRUE)","v":1.0007824766140152E-3}]
[{"$f":"(Normalfordeling!D$6-Normalfordeling!C$6)/1000+A192","v":1.9200000000000015},{"$f":"NORMDIST(A193,Normalfordeling!D$2,Normalfordeling!D$3,FALSE)","v":3.4750773778549561E-3},0,{"$f":"NORMDIST(A193,Normalfordeling!D$2,Normalfordeling!D$3,TRUE)","v":1.0350029748028475E-3}]
[{"$f":"(Normalfordeling!D$6-Normalfordeling!C$6)/1000+A193","v":1.9300000000000015},{"$f":"NORMDIST(A194,Normalfordeling!D$2,Normalfordeling!D$3,FALSE)","v":3.5835959291623774E-3},{"$f":"IF(AND(A194>=$C$1001,A194<=$C$1002),B194,0)","v":0},{"$f":"NORMDIST(A194,Normalfordeling!D$2,Normalfordeling!D$3,TRUE)","v":1.0702938546789298E-3}]
[{"$f":"(Normalfordeling!D$6-Normalfordeling!C$6)/1000+A194","v":1.9400000000000015},{"$f":"NORMDIST(A195,Normalfordeling!D$2,Normalfordeling!D$3,FALSE)","v":3.6951337295590479E-3},0,{"$f":"NORMDIST(A195,Normalfordeling!D$2,Normalfordeling!D$3,TRUE)","v":1.1066849574092512E-3}]
[{"$f":"(Normalfordeling!D$6-Normalfordeling!C$6)/1000+A195","v":1.9500000000000015},{"$f":"NORMDIST(A196,Normalfordeling!D$2,Normalfordeling!D$3,FALSE)","v":3.8097620982218234E-3},0,{"$f":"NORMDIST(A196,Normalfordeling!D$2,Normalfordeling!D$3,TRUE)","v":1.144206831022703E-3}]
[{"$f":"(Normalfordeling!D$6-Normalfordeling!C$6)/1000+A196","v":1.9600000000000015},{"$f":"NORMDIST(A197,Normalfordeling!D$2,Normalfordeling!D$3,FALSE)","v":3.9275536289247997E-3},0,{"$f":"NORMDIST(A197,Normalfordeling!D$2,Normalfordeling!D$3,TRUE)","v":1.182890743104412E-3}]
[{"$f":"(Normalfordeling!D$6-Normalfordeling!C$6)/1000+A197","v":1.9700000000000015},{"$f":"NORMDIST(A198,Normalfordeling!D$2,Normalfordeling!D$3,FALSE)","v":4.0485822000944482E-3},0,{"$f":"NORMDIST(A198,Normalfordeling!D$2,Normalfordeling!D$3,TRUE)","v":1.2227686935922639E-3}]
[{"$f":"(Normalfordeling!D$6-Normalfordeling!C$6)/1000+A198","v":1.9800000000000015},{"$f":"NORMDIST(A199,Normalfordeling!D$2,Normalfordeling!D$3,FALSE)","v":4.1729229845239814E-3},0,{"$f":"NORMDIST(A199,Normalfordeling!D$2,Normalfordeling!D$3,TRUE)","v":1.2638734276723019E-3}]
[{"$f":"(Normalfordeling!D$6-Normalfordeling!C$6)/1000+A199","v":1.9900000000000015},{"$f":"NORMDIST(A200,Normalfordeling!D$2,Normalfordeling!D$3,FALSE)","v":4.3006524587304654E-3},0,{"$f":"NORMDIST(A200,Normalfordeling!D$2,Normalfordeling!D$3,TRUE)","v":1.3062384487694727E-3}]
[{"$f":"(Normalfordeling!D$6-Normalfordeling!C$6)/1000+A200","v":2.0000000000000013},{"$f":"NORMDIST(A201,Normalfordeling!D$2,Normalfordeling!D$3,FALSE)","v":4.4318484119380231E-3},0,{"$f":"NORMDIST(A201,Normalfordeling!D$2,Normalfordeling!D$3,TRUE)","v":1.3498980316300983E-3}]
[{"$f":"(Normalfordeling!D$6-Normalfordeling!C$6)/1000+A201","v":2.0100000000000011},{"$f":"NORMDIST(A202,Normalfordeling!D$2,Normalfordeling!D$3,FALSE)","v":4.5665899546701617E-3},0,{"$f":"NORMDIST(A202,Normalfordeling!D$2,Normalfordeling!D$3,TRUE)","v":1.3948872354922536E-3}]
[{"$f":"(Normalfordeling!D$6-Normalfordeling!C$6)/1000+A202","v":2.0200000000000009},{"$f":"NORMDIST(A203,Normalfordeling!D$2,Normalfordeling!D$3,FALSE)","v":4.7049575269339922E-3},0,{"$f":"NORMDIST(A203,Normalfordeling!D$2,Normalfordeling!D$3,TRUE)","v":1.4412419173400191E-3}]
[{"$f":"(Normalfordeling!D$6-Normalfordeling!C$6)/1000+A203","v":2.0300000000000007},{"$f":"NORMDIST(A204,Normalfordeling!D$2,Normalfordeling!D$3,FALSE)","v":4.847032905978957E-3},0,{"$f":"NORMDIST(A204,Normalfordeling!D$2,Normalfordeling!D$3,TRUE)","v":1.4889987452374686E-3}]
[{"$f":"(Normalfordeling!D$6-Normalfordeling!C$6)/1000+A204","v":2.0400000000000005},{"$f":"NORMDIST(A205,Normalfordeling!D$2,Normalfordeling!D$3,FALSE)","v":4.9928992136123807E-3},0,{"$f":"NORMDIST(A205,Normalfordeling!D$2,Normalfordeling!D$3,TRUE)","v":1.5381952117380605E-3}]
[{"$f":"(Normalfordeling!D$6-Normalfordeling!C$6)/1000+A205","v":2.0500000000000003},{"$f":"NORMDIST(A206,Normalfordeling!D$2,Normalfordeling!D$3,FALSE)","v":5.1426409230539436E-3},0,{"$f":"NORMDIST(A206,Normalfordeling!D$2,Normalfordeling!D$3,TRUE)","v":1.5888696473648693E-3}]
[{"$f":"(Normalfordeling!D$6-Normalfordeling!C$6)/1000+A206","v":2.06},{"$f":"NORMDIST(A207,Normalfordeling!D$2,Normalfordeling!D$3,FALSE)","v":5.2963438653110201E-3},0,{"$f":"NORMDIST(A207,Normalfordeling!D$2,Normalfordeling!D$3,TRUE)","v":1.6410612341569962E-3}]
[{"$f":"(Normalfordeling!D$6-Normalfordeling!C$6)/1000+A207","v":2.0699999999999998},{"$f":"NORMDIST(A208,Normalfordeling!D$2,Normalfordeling!D$3,FALSE)","v":5.4540952350565454E-3},0,{"$f":"NORMDIST(A208,Normalfordeling!D$2,Normalfordeling!D$3,TRUE)","v":1.6948100192772594E-3}]
[{"$f":"(Normalfordeling!D$6-Normalfordeling!C$6)/1000+A208","v":2.0799999999999996},{"$f":"NORMDIST(A209,Normalfordeling!D$2,Normalfordeling!D$3,FALSE)","v":5.6159835959909586E-3},0,{"$f":"NORMDIST(A209,Normalfordeling!D$2,Normalfordeling!D$3,TRUE)","v":1.7501569286760953E-3}]
[{"$f":"(Normalfordeling!D$6-Normalfordeling!C$6)/1000+A209","v":2.0899999999999994},{"$f":"NORMDIST(A210,Normalfordeling!D$2,Normalfordeling!D$3,FALSE)","v":5.7820988856694669E-3},0,{"$f":"NORMDIST(A210,Normalfordeling!D$2,Normalfordeling!D$3,TRUE)","v":1.8071437808064234E-3}]
[{"$f":"(Normalfordeling!D$6-Normalfordeling!C$6)/1000+A210","v":2.0999999999999992},{"$f":"NORMDIST(A211,Normalfordeling!D$2,Normalfordeling!D$3,FALSE)","v":5.9525324197758382E-3},0,{"$f":"NORMDIST(A211,Normalfordeling!D$2,Normalfordeling!D$3,TRUE)","v":1.8658133003840302E-3}]
[{"$f":"(Normalfordeling!D$6-Normalfordeling!C$6)/1000+A211","v":2.109999999999999},{"$f":"NORMDIST(A212,Normalfordeling!D$2,Normalfordeling!D$3,FALSE)","v":6.1273768958236717E-3},0,{"$f":"NORMDIST(A212,Normalfordeling!D$2,Normalfordeling!D$3,TRUE)","v":1.9262091321878511E-3}]
[{"$f":"(Normalfordeling!D$6-Normalfordeling!C$6)/1000+A212","v":2.1199999999999988},{"$f":"NORMDIST(A213,Normalfordeling!D$2,Normalfordeling!D$3,FALSE)","v":6.306726396265905E-3},0,{"$f":"NORMDIST(A213,Normalfordeling!D$2,Normalfordeling!D$3,TRUE)","v":1.988375854894313E-3}]
[{"$f":"(Normalfordeling!D$6-Normalfordeling!C$6)/1000+A213","v":2.1299999999999986},{"$f":"NORMDIST(A214,Normalfordeling!D$2,Normalfordeling!D$3,FALSE)","v":6.4906763909933409E-3},0,{"$f":"NORMDIST(A214,Normalfordeling!D$2,Normalfordeling!D$3,TRUE)","v":2.052358994939745E-3}]
[{"$f":"(Normalfordeling!D$6-Normalfordeling!C$6)/1000+A214","v":2.1399999999999983},{"$f":"NORMDIST(A215,Normalfordeling!D$2,Normalfordeling!D$3,FALSE)","v":6.6793237392025855E-3},0,{"$f":"NORMDIST(A215,Normalfordeling!D$2,Normalfordeling!D$3,TRUE)","v":2.1182050404046091E-3}]
[{"$f":"(Normalfordeling!D$6-Normalfordeling!C$6)/1000+A215","v":2.1499999999999981},{"$f":"NORMDIST(A216,Normalfordeling!D$2,Normalfordeling!D$3,FALSE)","v":6.8727666906139347E-3},0,{"$f":"NORMDIST(A216,Normalfordeling!D$2,Normalfordeling!D$3,TRUE)","v":2.1859614549132266E-3}]
[{"$f":"(Normalfordeling!D$6-Normalfordeling!C$6)/1000+A216","v":2.1599999999999979},{"$f":"NORMDIST(A217,Normalfordeling!D$2,Normalfordeling!D$3,FALSE)","v":7.0711048860194045E-3},0,{"$f":"NORMDIST(A217,Normalfordeling!D$2,Normalfordeling!D$3,TRUE)","v":2.2556766915423068E-3}]
[{"$f":"(Normalfordeling!D$6-Normalfordeling!C$6)/1000+A217","v":2.1699999999999977},{"$f":"NORMDIST(A218,Normalfordeling!D$2,Normalfordeling!D$3,FALSE)","v":7.2744393571411723E-3},0,{"$f":"NORMDIST(A218,Normalfordeling!D$2,Normalfordeling!D$3,TRUE)","v":2.3274002067315345E-3}]
[{"$f":"(Normalfordeling!D$6-Normalfordeling!C$6)/1000+A218","v":2.1799999999999975},{"$f":"NORMDIST(A219,Normalfordeling!D$2,Normalfordeling!D$3,FALSE)","v":7.4828725257805075E-3},0,{"$f":"NORMDIST(A219,Normalfordeling!D$2,Normalfordeling!D$3,TRUE)","v":2.4011824741892308E-3}]
[{"$f":"(Normalfordeling!D$6-Normalfordeling!C$6)/1000+A219","v":2.1899999999999973},{"$f":"NORMDIST(A220,Normalfordeling!D$2,Normalfordeling!D$3,FALSE)","v":7.6965082022372637E-3},0,{"$f":"NORMDIST(A220,Normalfordeling!D$2,Normalfordeling!D$3,TRUE)","v":2.4770749987858389E-3}]
[{"$f":"(Normalfordeling!D$6-Normalfordeling!C$6)/1000+A220","v":2.1999999999999971},{"$f":"NORMDIST(A221,Normalfordeling!D$2,Normalfordeling!D$3,FALSE)","v":7.9154515829798974E-3},0,{"$f":"NORMDIST(A221,Normalfordeling!D$2,Normalfordeling!D$3,TRUE)","v":2.5551303304279069E-3}]
[{"$f":"(Normalfordeling!D$6-Normalfordeling!C$6)/1000+A221","v":2.2099999999999969},{"$f":"NORMDIST(A222,Normalfordeling!D$2,Normalfordeling!D$3,FALSE)","v":8.1398092475459521E-3},0,{"$f":"NORMDIST(A222,Normalfordeling!D$2,Normalfordeling!D$3,TRUE)","v":2.6354020779049267E-3}]
[{"$f":"(Normalfordeling!D$6-Normalfordeling!C$6)/1000+A222","v":2.2199999999999966},{"$f":"NORMDIST(A223,Normalfordeling!D$2,Normalfordeling!D$3,FALSE)","v":8.3696891546529515E-3},0,{"$f":"NORMDIST(A223,Normalfordeling!D$2,Normalfordeling!D$3,TRUE)","v":2.7179449227012291E-3}]
[{"$f":"(Normalfordeling!D$6-Normalfordeling!C$6)/1000+A223","v":2.2299999999999964},{"$f":"NORMDIST(A224,Normalfordeling!D$2,Normalfordeling!D$3,FALSE)","v":8.6052006374995899E-3},0,{"$f":"NORMDIST(A224,Normalfordeling!D$2,Normalfordeling!D$3,TRUE)","v":2.8028146327649943E-3}]
[{"$f":"(Normalfordeling!D$6-Normalfordeling!C$6)/1000+A224","v":2.2399999999999962},{"$f":"NORMDIST(A225,Normalfordeling!D$2,Normalfordeling!D$3,FALSE)","v":8.8464543982371326E-3},0,{"$f":"NORMDIST(A225,Normalfordeling!D$2,Normalfordeling!D$3,TRUE)","v":2.8900680762261092E-3}]
[{"$f":"(Normalfordeling!D$6-Normalfordeling!C$6)/1000+A225","v":2.249999999999996},{"$f":"NORMDIST(A226,Normalfordeling!D$2,Normalfordeling!D$3,FALSE)","v":9.0935625015909523E-3},0,{"$f":"NORMDIST(A226,Normalfordeling!D$2,Normalfordeling!D$3,TRUE)","v":2.9797632350545169E-3}]
[{"$f":"(Normalfordeling!D$6-Normalfordeling!C$6)/1000+A226","v":2.2599999999999958},{"$f":"NORMDIST(A227,Normalfordeling!D$2,Normalfordeling!D$3,FALSE)","v":9.3466383676121794E-3},0,{"$f":"NORMDIST(A227,Normalfordeling!D$2,Normalfordeling!D$3,TRUE)","v":3.0719592186504528E-3}]
[{"$f":"(Normalfordeling!D$6-Normalfordeling!C$6)/1000+A227","v":2.2699999999999956},{"$f":"NORMDIST(A228,Normalfordeling!D$2,Normalfordeling!D$3,FALSE)","v":9.6057967635394675E-3},0,{"$f":"NORMDIST(A228,Normalfordeling!D$2,Normalfordeling!D$3,TRUE)","v":3.1667162773577526E-3}]
[{"$f":"(Normalfordeling!D$6-Normalfordeling!C$6)/1000+A228","v":2.2799999999999954},{"$f":"NORMDIST(A229,Normalfordeling!D$2,Normalfordeling!D$3,FALSE)","v":9.8711537947510138E-3},0,{"$f":"NORMDIST(A229,Normalfordeling!D$2,Normalfordeling!D$3,TRUE)","v":3.2640958158912645E-3}]
[{"$f":"(Normalfordeling!D$6-Normalfordeling!C$6)/1000+A229","v":2.2899999999999952},{"$f":"NORMDIST(A230,Normalfordeling!D$2,Normalfordeling!D$3,FALSE)","v":1.0142826894786941E-2},0,{"$f":"NORMDIST(A230,Normalfordeling!D$2,Normalfordeling!D$3,TRUE)","v":3.3641604066691421E-3}]
[{"$f":"(Normalfordeling!D$6-Normalfordeling!C$6)/1000+A230","v":2.2999999999999949},{"$f":"NORMDIST(A231,Normalfordeling!D$2,Normalfordeling!D$3,FALSE)","v":1.0420934814422453E-2},0,{"$f":"NORMDIST(A231,Normalfordeling!D$2,Normalfordeling!D$3,TRUE)","v":3.4669738030406118E-3}]
[{"$f":"(Normalfordeling!D$6-Normalfordeling!C$6)/1000+A231","v":2.3099999999999947},{"$f":"NORMDIST(A232,Normalfordeling!D$2,Normalfordeling!D$3,FALSE)","v":1.0705597609772036E-2},0,{"$f":"NORMDIST(A232,Normalfordeling!D$2,Normalfordeling!D$3,TRUE)","v":3.5726009523996826E-3}]
[{"$f":"(Normalfordeling!D$6-Normalfordeling!C$6)/1000+A232","v":2.3199999999999945},{"$f":"NORMDIST(A233,Normalfordeling!D$2,Normalfordeling!D$3,FALSE)","v":1.0996936629405415E-2},0,{"$f":"NORMDIST(A233,Normalfordeling!D$2,Normalfordeling!D$3,TRUE)","v":3.6811080091749188E-3}]
[{"$f":"(Normalfordeling!D$6-Normalfordeling!C$6)/1000+A233","v":2.3299999999999943},{"$f":"NORMDIST(A234,Normalfordeling!D$2,Normalfordeling!D$3,FALSE)","v":1.129507450045596E-2},0,{"$f":"NORMDIST(A234,Normalfordeling!D$2,Normalfordeling!D$3,TRUE)","v":3.792562347685424E-3}]
[{"$f":"(Normalfordeling!D$6-Normalfordeling!C$6)/1000+A234","v":2.3399999999999941},{"$f":"NORMDIST(A235,Normalfordeling!D$2,Normalfordeling!D$3,FALSE)","v":1.1600135113702382E-2},0,{"$f":"NORMDIST(A235,Normalfordeling!D$2,Normalfordeling!D$3,TRUE)","v":3.9070325748527066E-3}]
[{"$f":"(Normalfordeling!D$6-Normalfordeling!C$6)/1000+A235","v":2.3499999999999939},{"$f":"NORMDIST(A236,Normalfordeling!D$2,Normalfordeling!D$3,FALSE)","v":1.1912243607604983E-2},0,{"$f":"NORMDIST(A236,Normalfordeling!D$2,Normalfordeling!D$3,TRUE)","v":4.0245885427582315E-3}]
[{"$f":"(Normalfordeling!D$6-Normalfordeling!C$6)/1000+A236","v":2.3599999999999937},{"$f":"NORMDIST(A237,Normalfordeling!D$2,Normalfordeling!D$3,FALSE)","v":1.223152635127777E-2},0,{"$f":"NORMDIST(A237,Normalfordeling!D$2,Normalfordeling!D$3,TRUE)","v":4.1453013610359595E-3}]
[{"$f":"(Normalfordeling!D$6-Normalfordeling!C$6)/1000+A237","v":2.3699999999999934},{"$f":"NORMDIST(A238,Normalfordeling!D$2,Normalfordeling!D$3,FALSE)","v":1.2558110926377987E-2},0,{"$f":"NORMDIST(A238,Normalfordeling!D$2,Normalfordeling!D$3,TRUE)","v":4.2692434090892684E-3}]
[{"$f":"(Normalfordeling!D$6-Normalfordeling!C$6)/1000+A238","v":2.3799999999999932},{"$f":"NORMDIST(A239,Normalfordeling!D$2,Normalfordeling!D$3,FALSE)","v":1.2892126107895082E-2},0,{"$f":"NORMDIST(A239,Normalfordeling!D$2,Normalfordeling!D$3,TRUE)","v":4.3964883481212224E-3}]
[{"$f":"(Normalfordeling!D$6-Normalfordeling!C$6)/1000+A239","v":2.389999999999993},{"$f":"NORMDIST(A240,Normalfordeling!D$2,Normalfordeling!D$3,FALSE)","v":1.3233701843821128E-2},0,{"$f":"NORMDIST(A240,Normalfordeling!D$2,Normalfordeling!D$3,TRUE)","v":4.5271111329672287E-3}]
[{"$f":"(Normalfordeling!D$6-Normalfordeling!C$6)/1000+A240","v":2.3999999999999928},{"$f":"NORMDIST(A241,Normalfordeling!D$2,Normalfordeling!D$3,FALSE)","v":1.3582969233685366E-2},0,{"$f":"NORMDIST(A241,Normalfordeling!D$2,Normalfordeling!D$3,TRUE)","v":4.6611880237186487E-3}]
[{"$f":"(Normalfordeling!D$6-Normalfordeling!C$6)/1000+A241","v":2.4099999999999926},{"$f":"NORMDIST(A242,Normalfordeling!D$2,Normalfordeling!D$3,FALSE)","v":1.3940060505935551E-2},0,{"$f":"NORMDIST(A242,Normalfordeling!D$2,Normalfordeling!D$3,TRUE)","v":4.7987965971260736E-3}]
[{"$f":"(Normalfordeling!D$6-Normalfordeling!C$6)/1000+A242","v":2.4199999999999924},{"$f":"NORMDIST(A243,Normalfordeling!D$2,Normalfordeling!D$3,FALSE)","v":1.4305108994149411E-2},0,{"$f":"NORMDIST(A243,Normalfordeling!D$2,Normalfordeling!D$3,TRUE)","v":4.9400157577705354E-3}]
[{"$f":"(Normalfordeling!D$6-Normalfordeling!C$6)/1000+A243","v":2.4299999999999922},{"$f":"NORMDIST(A244,Normalfordeling!D$2,Normalfordeling!D$3,FALSE)","v":1.4678249112059737E-2},0,{"$f":"NORMDIST(A244,Normalfordeling!D$2,Normalfordeling!D$3,TRUE)","v":5.0849257489909219E-3}]
[{"$f":"(Normalfordeling!D$6-Normalfordeling!C$6)/1000+A244","v":2.439999999999992},{"$f":"NORMDIST(A245,Normalfordeling!D$2,Normalfordeling!D$3,FALSE)","v":1.5059616327377142E-2},0,{"$f":"NORMDIST(A245,Normalfordeling!D$2,Normalfordeling!D$3,TRUE)","v":5.2336081635556654E-3}]
[{"$f":"(Normalfordeling!D$6-Normalfordeling!C$6)/1000+A245","v":2.4499999999999917},{"$f":"NORMDIST(A246,Normalfordeling!D$2,Normalfordeling!D$3,FALSE)","v":1.5449347134394845E-2},0,{"$f":"NORMDIST(A246,Normalfordeling!D$2,Normalfordeling!D$3,TRUE)","v":5.3861459540665586E-3}]
[{"$f":"(Normalfordeling!D$6-Normalfordeling!C$6)/1000+A246","v":2.4599999999999915},{"$f":"NORMDIST(A247,Normalfordeling!D$2,Normalfordeling!D$3,FALSE)","v":1.5847579025360482E-2},0,{"$f":"NORMDIST(A247,Normalfordeling!D$2,Normalfordeling!D$3,TRUE)","v":5.5426234430824657E-3}]
[{"$f":"(Normalfordeling!D$6-Normalfordeling!C$6)/1000+A247","v":2.4699999999999913},{"$f":"NORMDIST(A248,Normalfordeling!D$2,Normalfordeling!D$3,FALSE)","v":1.6254450460600145E-2},0,{"$f":"NORMDIST(A248,Normalfordeling!D$2,Normalfordeling!D$3,TRUE)","v":5.7031263329505501E-3}]
[{"$f":"(Normalfordeling!D$6-Normalfordeling!C$6)/1000+A248","v":2.4799999999999911},{"$f":"NORMDIST(A249,Normalfordeling!D$2,Normalfordeling!D$3,FALSE)","v":1.6670100837380689E-2},0,{"$f":"NORMDIST(A249,Normalfordeling!D$2,Normalfordeling!D$3,TRUE)","v":5.8677417153324167E-3}]
[{"$f":"(Normalfordeling!D$6-Normalfordeling!C$6)/1000+A249","v":2.4899999999999909},{"$f":"NORMDIST(A250,Normalfordeling!D$2,Normalfordeling!D$3,FALSE)","v":1.709467045749655E-2},0,{"$f":"NORMDIST(A250,Normalfordeling!D$2,Normalfordeling!D$3,TRUE)","v":6.0365580804125005E-3}]
[{"$f":"(Normalfordeling!D$6-Normalfordeling!C$6)/1000+A250","v":2.4999999999999907},{"$f":"NORMDIST(A251,Normalfordeling!D$2,Normalfordeling!D$3,FALSE)","v":1.7528300493568134E-2},0,{"$f":"NORMDIST(A251,Normalfordeling!D$2,Normalfordeling!D$3,TRUE)","v":6.2096653257759675E-3}]
[{"$f":"(Normalfordeling!D$6-Normalfordeling!C$6)/1000+A251","v":2.5099999999999905},{"$f":"NORMDIST(A252,Normalfordeling!D$2,Normalfordeling!D$3,FALSE)","v":1.797113295403921E-2},0,{"$f":"NORMDIST(A252,Normalfordeling!D$2,Normalfordeling!D$3,TRUE)","v":6.3871547649430004E-3}]
[{"$f":"(Normalfordeling!D$6-Normalfordeling!C$6)/1000+A252","v":2.5199999999999902},{"$f":"NORMDIST(A253,Normalfordeling!D$2,Normalfordeling!D$3,FALSE)","v":1.8423310646861604E-2},0,{"$f":"NORMDIST(A253,Normalfordeling!D$2,Normalfordeling!D$3,TRUE)","v":6.5691191355465757E-3}]
[{"$f":"(Normalfordeling!D$6-Normalfordeling!C$6)/1000+A253","v":2.52999999999999},{"$f":"NORMDIST(A254,Normalfordeling!D$2,Normalfordeling!D$3,FALSE)","v":1.8884977141855712E-2},0,{"$f":"NORMDIST(A254,Normalfordeling!D$2,Normalfordeling!D$3,TRUE)","v":6.7556526071404647E-3}]
[{"$f":"(Normalfordeling!D$6-Normalfordeling!C$6)/1000+A254","v":2.5399999999999898},{"$f":"NORMDIST(A255,Normalfordeling!D$2,Normalfordeling!D$3,FALSE)","v":1.9356276731736472E-2},0,{"$f":"NORMDIST(A255,Normalfordeling!D$2,Normalfordeling!D$3,TRUE)","v":6.9468507886241175E-3}]
[{"$f":"(Normalfordeling!D$6-Normalfordeling!C$6)/1000+A255","v":2.5499999999999896},{"$f":"NORMDIST(A256,Normalfordeling!D$2,Normalfordeling!D$3,FALSE)","v":1.983735439179482E-2},0,{"$f":"NORMDIST(A256,Normalfordeling!D$2,Normalfordeling!D$3,TRUE)","v":7.1428107352712097E-3}]
[{"$f":"(Normalfordeling!D$6-Normalfordeling!C$6)/1000+A256","v":2.5599999999999894},{"$f":"NORMDIST(A257,Normalfordeling!D$2,Normalfordeling!D$3,FALSE)","v":2.0328355738225303E-2},0,{"$f":"NORMDIST(A257,Normalfordeling!D$2,Normalfordeling!D$3,TRUE)","v":7.3436309553481282E-3}]
[{"$f":"(Normalfordeling!D$6-Normalfordeling!C$6)/1000+A257","v":2.5699999999999892},{"$f":"NORMDIST(A258,Normalfordeling!D$2,Normalfordeling!D$3,FALSE)","v":2.0829426985091638E-2},{"$f":"IF(AND(A258>=$C$1001,A258<=$C$1002),B258,0)","v":0},{"$f":"NORMDIST(A258,Normalfordeling!D$2,Normalfordeling!D$3,TRUE)","v":7.5494114163089758E-3}]
[{"$f":"(Normalfordeling!D$6-Normalfordeling!C$6)/1000+A258","v":2.579999999999989},{"$f":"NORMDIST(A259,Normalfordeling!D$2,Normalfordeling!D$3,FALSE)","v":2.1340714899922217E-2},0,{"$f":"NORMDIST(A259,Normalfordeling!D$2,Normalfordeling!D$3,TRUE)","v":7.7602535505534092E-3}]
[{"$f":"(Normalfordeling!D$6-Normalfordeling!C$6)/1000+A259","v":2.5899999999999888},{"$f":"NORMDIST(A260,Normalfordeling!D$2,Normalfordeling!D$3,FALSE)","v":2.1862366757928804E-2},0,{"$f":"NORMDIST(A260,Normalfordeling!D$2,Normalfordeling!D$3,TRUE)","v":7.9762602607334823E-3}]
[{"$f":"(Normalfordeling!D$6-Normalfordeling!C$6)/1000+A260","v":2.5999999999999885},{"$f":"NORMDIST(A261,Normalfordeling!D$2,Normalfordeling!D$3,FALSE)","v":2.2394530294842285E-2},0,{"$f":"NORMDIST(A261,Normalfordeling!D$2,Normalfordeling!D$3,TRUE)","v":8.1975359245958709E-3}]
[{"$f":"(Normalfordeling!D$6-Normalfordeling!C$6)/1000+A261","v":2.6099999999999883},{"$f":"NORMDIST(A262,Normalfordeling!D$2,Normalfordeling!D$3,FALSE)","v":2.2937353658360062E-2},0,{"$f":"NORMDIST(A262,Normalfordeling!D$2,Normalfordeling!D$3,TRUE)","v":8.4241863993454232E-3}]
[{"$f":"(Normalfordeling!D$6-Normalfordeling!C$6)/1000+A262","v":2.6199999999999881},{"$f":"NORMDIST(A263,Normalfordeling!D$2,Normalfordeling!D$3,FALSE)","v":2.3490985358200697E-2},0,{"$f":"NORMDIST(A263,Normalfordeling!D$2,Normalfordeling!D$3,TRUE)","v":8.6563190255162636E-3}]
[{"$f":"(Normalfordeling!D$6-Normalfordeling!C$6)/1000+A263","v":2.6299999999999879},{"$f":"NORMDIST(A264,Normalfordeling!D$2,Normalfordeling!D$3,FALSE)","v":2.4055574214762288E-2},0,{"$f":"NORMDIST(A264,Normalfordeling!D$2,Normalfordeling!D$3,TRUE)","v":8.8940426303364788E-3}]
[{"$f":"(Normalfordeling!D$6-Normalfordeling!C$6)/1000+A264","v":2.6399999999999877},{"$f":"NORMDIST(A265,Normalfordeling!D$2,Normalfordeling!D$3,FALSE)","v":2.4631269306381785E-2},0,{"$f":"NORMDIST(A265,Normalfordeling!D$2,Normalfordeling!D$3,TRUE)","v":9.1374675305723671E-3}]
[{"$f":"(Normalfordeling!D$6-Normalfordeling!C$6)/1000+A265","v":2.6499999999999875},{"$f":"NORMDIST(A266,Normalfordeling!D$2,Normalfordeling!D$3,FALSE)","v":2.521821991519365E-2},0,{"$f":"NORMDIST(A266,Normalfordeling!D$2,Normalfordeling!D$3,TRUE)","v":9.3867055348382574E-3}]
[{"$f":"(Normalfordeling!D$6-Normalfordeling!C$6)/1000+A266","v":2.6599999999999873},{"$f":"NORMDIST(A267,Normalfordeling!D$2,Normalfordeling!D$3,FALSE)","v":2.5816575471586917E-2},0,{"$f":"NORMDIST(A267,Normalfordeling!D$2,Normalfordeling!D$3,TRUE)","v":9.6418699453579993E-3}]
[{"$f":"(Normalfordeling!D$6-Normalfordeling!C$6)/1000+A267","v":2.6699999999999871},{"$f":"NORMDIST(A268,Normalfordeling!D$2,Normalfordeling!D$3,FALSE)","v":2.6426485497260937E-2},0,{"$f":"NORMDIST(A268,Normalfordeling!D$2,Normalfordeling!D$3,TRUE)","v":9.9030755591639017E-3}]
[{"$f":"(Normalfordeling!D$6-Normalfordeling!C$6)/1000+A268","v":2.6799999999999868},{"$f":"NORMDIST(A269,Normalfordeling!D$2,Normalfordeling!D$3,FALSE)","v":2.704809954688096E-2},0,{"$f":"NORMDIST(A269,Normalfordeling!D$2,Normalfordeling!D$3,TRUE)","v":1.0170438668719309E-2}]
[{"$f":"(Normalfordeling!D$6-Normalfordeling!C$6)/1000+A269","v":2.6899999999999866},{"$f":"NORMDIST(A270,Normalfordeling!D$2,Normalfordeling!D$3,FALSE)","v":2.7681567148335709E-2},0,{"$f":"NORMDIST(A270,Normalfordeling!D$2,Normalfordeling!D$3,TRUE)","v":1.0444077061950713E-2}]
[{"$f":"(Normalfordeling!D$6-Normalfordeling!C$6)/1000+A270","v":2.6999999999999864},{"$f":"NORMDIST(A271,Normalfordeling!D$2,Normalfordeling!D$3,FALSE)","v":2.8327037741600294E-2},0,{"$f":"NORMDIST(A271,Normalfordeling!D$2,Normalfordeling!D$3,TRUE)","v":1.0724110021675413E-2}]
[{"$f":"(Normalfordeling!D$6-Normalfordeling!C$6)/1000+A271","v":2.7099999999999862},{"$f":"NORMDIST(A272,Normalfordeling!D$2,Normalfordeling!D$3,FALSE)","v":2.89846606162085E-2},0,{"$f":"NORMDIST(A272,Normalfordeling!D$2,Normalfordeling!D$3,TRUE)","v":1.1010658324410985E-2}]
[{"$f":"(Normalfordeling!D$6-Normalfordeling!C$6)/1000+A272","v":2.719999999999986},{"$f":"NORMDIST(A273,Normalfordeling!D$2,Normalfordeling!D$3,FALSE)","v":2.9654584847340314E-2},0,{"$f":"NORMDIST(A273,Normalfordeling!D$2,Normalfordeling!D$3,TRUE)","v":1.1303844238552366E-2}]
[{"$f":"(Normalfordeling!D$6-Normalfordeling!C$6)/1000+A273","v":2.7299999999999858},{"$f":"NORMDIST(A274,Normalfordeling!D$2,Normalfordeling!D$3,FALSE)","v":3.0336959230530657E-2},0,{"$f":"NORMDIST(A274,Normalfordeling!D$2,Normalfordeling!D$3,TRUE)","v":1.1603791521903099E-2}]
[{"$f":"(Normalfordeling!D$6-Normalfordeling!C$6)/1000+A274","v":2.7399999999999856},{"$f":"NORMDIST(A275,Normalfordeling!D$2,Normalfordeling!D$3,FALSE)","v":3.1031932215007243E-2},0,{"$f":"NORMDIST(A275,Normalfordeling!D$2,Normalfordeling!D$3,TRUE)","v":1.1910625418546615E-2}]
[{"$f":"(Normalfordeling!D$6-Normalfordeling!C$6)/1000+A275","v":2.7499999999999853},{"$f":"NORMDIST(A276,Normalfordeling!D$2,Normalfordeling!D$3,FALSE)","v":3.173965183566637E-2},0,{"$f":"NORMDIST(A276,Normalfordeling!D$2,Normalfordeling!D$3,TRUE)","v":1.2224472655044238E-2}]
[{"$f":"(Normalfordeling!D$6-Normalfordeling!C$6)/1000+A276","v":2.7599999999999851},{"$f":"NORMDIST(A277,Normalfordeling!D$2,Normalfordeling!D$3,FALSE)","v":3.2460265643696376E-2},0,{"$f":"NORMDIST(A277,Normalfordeling!D$2,Normalfordeling!D$3,TRUE)","v":1.2545461435946086E-2}]
[{"$f":"(Normalfordeling!D$6-Normalfordeling!C$6)/1000+A277","v":2.7699999999999849},{"$f":"NORMDIST(A278,Normalfordeling!D$2,Normalfordeling!D$3,FALSE)","v":3.3193920635859998E-2},0,{"$f":"NORMDIST(A278,Normalfordeling!D$2,Normalfordeling!D$3,TRUE)","v":1.2873721438601516E-2}]
[{"$f":"(Normalfordeling!D$6-Normalfordeling!C$6)/1000+A278","v":2.7799999999999847},{"$f":"NORMDIST(A279,Normalfordeling!D$2,Normalfordeling!D$3,FALSE)","v":3.3940763182448035E-2},0,{"$f":"NORMDIST(A279,Normalfordeling!D$2,Normalfordeling!D$3,TRUE)","v":1.3209383807255752E-2}]
[{"$f":"(Normalfordeling!D$6-Normalfordeling!C$6)/1000+A279","v":2.7899999999999845},{"$f":"NORMDIST(A280,Normalfordeling!D$2,Normalfordeling!D$3,FALSE)","v":3.4700938953917633E-2},0,{"$f":"NORMDIST(A280,Normalfordeling!D$2,Normalfordeling!D$3,TRUE)","v":1.355258114641943E-2}]
[{"$f":"(Normalfordeling!D$6-Normalfordeling!C$6)/1000+A280","v":2.7999999999999843},{"$f":"NORMDIST(A281,Normalfordeling!D$2,Normalfordeling!D$3,FALSE)","v":3.547459284623021E-2},0,{"$f":"NORMDIST(A281,Normalfordeling!D$2,Normalfordeling!D$3,TRUE)","v":1.3903447513498051E-2}]
[{"$f":"(Normalfordeling!D$6-Normalfordeling!C$6)/1000+A281","v":2.8099999999999841},{"$f":"NORMDIST(A282,Normalfordeling!D$2,Normalfordeling!D$3,FALSE)","v":3.6261868904904952E-2},0,{"$f":"NORMDIST(A282,Normalfordeling!D$2,Normalfordeling!D$3,TRUE)","v":1.4262118410668293E-2}]
[{"$f":"(Normalfordeling!D$6-Normalfordeling!C$6)/1000+A282","v":2.8199999999999839},{"$f":"NORMDIST(A283,Normalfordeling!D$2,Normalfordeling!D$3,FALSE)","v":3.706291024780517E-2},0,{"$f":"NORMDIST(A283,Normalfordeling!D$2,Normalfordeling!D$3,TRUE)","v":1.4628730775988658E-2}]
[{"$f":"(Normalfordeling!D$6-Normalfordeling!C$6)/1000+A283","v":2.8299999999999836},{"$f":"NORMDIST(A284,Normalfordeling!D$2,Normalfordeling!D$3,FALSE)","v":3.7877858986676137E-2},0,{"$f":"NORMDIST(A284,Normalfordeling!D$2,Normalfordeling!D$3,TRUE)","v":1.5003422973731579E-2}]
[{"$f":"(Normalfordeling!D$6-Normalfordeling!C$6)/1000+A284","v":2.8399999999999834},{"$f":"NORMDIST(A285,Normalfordeling!D$2,Normalfordeling!D$3,FALSE)","v":3.8706856147454234E-2},0,{"$f":"NORMDIST(A285,Normalfordeling!D$2,Normalfordeling!D$3,TRUE)","v":1.53863347839248E-2}]
[{"$f":"(Normalfordeling!D$6-Normalfordeling!C$6)/1000+A285","v":2.8499999999999832},{"$f":"NORMDIST(A286,Normalfordeling!D$2,Normalfordeling!D$3,FALSE)","v":3.9550041589368784E-2},0,{"$f":"NORMDIST(A286,Normalfordeling!D$2,Normalfordeling!D$3,TRUE)","v":1.5777607391089847E-2}]
[{"$f":"(Normalfordeling!D$6-Normalfordeling!C$6)/1000+A286","v":2.859999999999983},{"$f":"NORMDIST(A287,Normalfordeling!D$2,Normalfordeling!D$3,FALSE)","v":4.0407553922858837E-2},0,{"$f":"NORMDIST(A287,Normalfordeling!D$2,Normalfordeling!D$3,TRUE)","v":1.6177383372165406E-2}]
[{"$f":"(Normalfordeling!D$6-Normalfordeling!C$6)/1000+A287","v":2.8699999999999828},{"$f":"NORMDIST(A288,Normalfordeling!D$2,Normalfordeling!D$3,FALSE)","v":4.1279530426328898E-2},0,{"$f":"NORMDIST(A288,Normalfordeling!D$2,Normalfordeling!D$3,TRUE)","v":1.6585806683604293E-2}]
[{"$f":"(Normalfordeling!D$6-Normalfordeling!C$6)/1000+A288","v":2.8799999999999826},{"$f":"NORMDIST(A289,Normalfordeling!D$2,Normalfordeling!D$3,FALSE)","v":4.2166106961768771E-2},0,{"$f":"NORMDIST(A289,Normalfordeling!D$2,Normalfordeling!D$3,TRUE)","v":1.7003022647632066E-2}]
[{"$f":"(Normalfordeling!D$6-Normalfordeling!C$6)/1000+A289","v":2.8899999999999824},{"$f":"NORMDIST(A290,Normalfordeling!D$2,Normalfordeling!D$3,FALSE)","v":4.3067417889264131E-2},0,{"$f":"NORMDIST(A290,Normalfordeling!D$2,Normalfordeling!D$3,TRUE)","v":1.7429177937656321E-2}]
[{"$f":"(Normalfordeling!D$6-Normalfordeling!C$6)/1000+A290","v":2.8999999999999821},{"$f":"NORMDIST(A291,Normalfordeling!D$2,Normalfordeling!D$3,FALSE)","v":4.3983595980425554E-2},0,{"$f":"NORMDIST(A291,Normalfordeling!D$2,Normalfordeling!D$3,TRUE)","v":1.7864420562815755E-2}]
[{"$f":"(Normalfordeling!D$6-Normalfordeling!C$6)/1000+A291","v":2.9099999999999819},{"$f":"NORMDIST(A292,Normalfordeling!D$2,Normalfordeling!D$3,FALSE)","v":4.4914772330765386E-2},0,{"$f":"NORMDIST(A292,Normalfordeling!D$2,Normalfordeling!D$3,TRUE)","v":1.830889985165815E-2}]
[{"$f":"(Normalfordeling!D$6-Normalfordeling!C$6)/1000+A292","v":2.9199999999999817},{"$f":"NORMDIST(A293,Normalfordeling!D$2,Normalfordeling!D$3,FALSE)","v":4.586107627105316E-2},0,{"$f":"NORMDIST(A293,Normalfordeling!D$2,Normalfordeling!D$3,TRUE)","v":1.8762766434936906E-2}]
[{"$f":"(Normalfordeling!D$6-Normalfordeling!C$6)/1000+A293","v":2.9299999999999815},{"$f":"NORMDIST(A294,Normalfordeling!D$2,Normalfordeling!D$3,FALSE)","v":4.6822635277681351E-2},0,{"$f":"NORMDIST(A294,Normalfordeling!D$2,Normalfordeling!D$3,TRUE)","v":1.9226172227516415E-2}]
[{"$f":"(Normalfordeling!D$6-Normalfordeling!C$6)/1000+A294","v":2.9399999999999813},{"$f":"NORMDIST(A295,Normalfordeling!D$2,Normalfordeling!D$3,FALSE)","v":4.7799574882075181E-2},0,{"$f":"NORMDIST(A295,Normalfordeling!D$2,Normalfordeling!D$3,TRUE)","v":1.9699270409375989E-2}]
[{"$f":"(Normalfordeling!D$6-Normalfordeling!C$6)/1000+A295","v":2.9499999999999811},{"$f":"NORMDIST(A296,Normalfordeling!D$2,Normalfordeling!D$3,FALSE)","v":4.8792018579180856E-2},0,{"$f":"NORMDIST(A296,Normalfordeling!D$2,Normalfordeling!D$3,TRUE)","v":2.0182215405703467E-2}]
[{"$f":"(Normalfordeling!D$6-Normalfordeling!C$6)/1000+A296","v":2.9599999999999809},{"$f":"NORMDIST(A297,Normalfordeling!D$2,Normalfordeling!D$3,FALSE)","v":4.9800087735068825E-2},0,{"$f":"NORMDIST(A297,Normalfordeling!D$2,Normalfordeling!D$3,TRUE)","v":2.0675162866069099E-2}]
[{"$f":"(Normalfordeling!D$6-Normalfordeling!C$6)/1000+A297","v":2.9699999999999807},{"$f":"NORMDIST(A298,Normalfordeling!D$2,Normalfordeling!D$3,FALSE)","v":5.0823901493689178E-2},0,{"$f":"NORMDIST(A298,Normalfordeling!D$2,Normalfordeling!D$3,TRUE)","v":2.1178269642671284E-2}]
[{"$f":"(Normalfordeling!D$6-Normalfordeling!C$6)/1000+A298","v":2.9799999999999804},{"$f":"NORMDIST(A299,Normalfordeling!D$2,Normalfordeling!D$3,FALSE)","v":5.1863576682818505E-2},0,{"$f":"NORMDIST(A299,Normalfordeling!D$2,Normalfordeling!D$3,TRUE)","v":2.1691693767645757E-2}]
[{"$f":"(Normalfordeling!D$6-Normalfordeling!C$6)/1000+A299","v":2.9899999999999802},{"$f":"NORMDIST(A300,Normalfordeling!D$2,Normalfordeling!D$3,FALSE)","v":5.2919227719238175E-2},0,{"$f":"NORMDIST(A300,Normalfordeling!D$2,Normalfordeling!D$3,TRUE)","v":2.2215594429430417E-2}]
[{"$f":"(Normalfordeling!D$6-Normalfordeling!C$6)/1000+A300","v":2.99999999999998},{"$f":"NORMDIST(A301,Normalfordeling!D$2,Normalfordeling!D$3,FALSE)","v":5.3990966513185898E-2},0,{"$f":"NORMDIST(A301,Normalfordeling!D$2,Normalfordeling!D$3,TRUE)","v":2.2750131948178116E-2}]
[{"$f":"(Normalfordeling!D$6-Normalfordeling!C$6)/1000+A301","v":3.0099999999999798},{"$f":"NORMDIST(A302,Normalfordeling!D$2,Normalfordeling!D$3,FALSE)","v":5.5078902372123546E-2},0,{"$f":"NORMDIST(A302,Normalfordeling!D$2,Normalfordeling!D$3,TRUE)","v":2.3295467750210706E-2}]
[{"$f":"(Normalfordeling!D$6-Normalfordeling!C$6)/1000+A302","v":3.0199999999999796},{"$f":"NORMDIST(A303,Normalfordeling!D$2,Normalfordeling!D$3,FALSE)","v":5.618314190386578E-2},0,{"$f":"NORMDIST(A303,Normalfordeling!D$2,Normalfordeling!D$3,TRUE)","v":2.3851764341507375E-2}]
[{"$f":"(Normalfordeling!D$6-Normalfordeling!C$6)/1000+A303","v":3.0299999999999794},{"$f":"NORMDIST(A304,Normalfordeling!D$2,Normalfordeling!D$3,FALSE)","v":5.7303788919114806E-2},0,{"$f":"NORMDIST(A304,Normalfordeling!D$2,Normalfordeling!D$3,TRUE)","v":2.4419185280221363E-2}]
[{"$f":"(Normalfordeling!D$6-Normalfordeling!C$6)/1000+A304","v":3.0399999999999792},{"$f":"NORMDIST(A305,Normalfordeling!D$2,Normalfordeling!D$3,FALSE)","v":5.8440944333449069E-2},0,{"$f":"NORMDIST(A305,Normalfordeling!D$2,Normalfordeling!D$3,TRUE)","v":2.4997895148219207E-2}]
[{"$f":"(Normalfordeling!D$6-Normalfordeling!C$6)/1000+A305","v":3.049999999999979},{"$f":"NORMDIST(A306,Normalfordeling!D$2,Normalfordeling!D$3,FALSE)","v":5.9594706068813626E-2},0,{"$f":"NORMDIST(A306,Normalfordeling!D$2,Normalfordeling!D$3,TRUE)","v":2.5588059521637365E-2}]
[{"$f":"(Normalfordeling!D$6-Normalfordeling!C$6)/1000+A306","v":3.0599999999999787},{"$f":"NORMDIST(A307,Normalfordeling!D$2,Normalfordeling!D$3,FALSE)","v":6.0765168954562278E-2},0,{"$f":"NORMDIST(A307,Normalfordeling!D$2,Normalfordeling!D$3,TRUE)","v":2.618984494045138E-2}]
[{"$f":"(Normalfordeling!D$6-Normalfordeling!C$6)/1000+A307","v":3.0699999999999785},{"$f":"NORMDIST(A308,Normalfordeling!D$2,Normalfordeling!D$3,FALSE)","v":6.195242462810259E-2},0,{"$f":"NORMDIST(A308,Normalfordeling!D$2,Normalfordeling!D$3,TRUE)","v":2.6803418877053627E-2}]
[{"$f":"(Normalfordeling!D$6-Normalfordeling!C$6)/1000+A308","v":3.0799999999999783},{"$f":"NORMDIST(A309,Normalfordeling!D$2,Normalfordeling!D$3,FALSE)","v":6.3156561435196004E-2},0,{"$f":"NORMDIST(A309,Normalfordeling!D$2,Normalfordeling!D$3,TRUE)","v":2.7428949703835446E-2}]
[{"$f":"(Normalfordeling!D$6-Normalfordeling!C$6)/1000+A309","v":3.0899999999999781},{"$f":"NORMDIST(A310,Normalfordeling!D$2,Normalfordeling!D$3,FALSE)","v":6.4377664329966652E-2},0,{"$f":"NORMDIST(A310,Normalfordeling!D$2,Normalfordeling!D$3,TRUE)","v":2.8066606659771093E-2}]
[{"$f":"(Normalfordeling!D$6-Normalfordeling!C$6)/1000+A310","v":3.0999999999999779},{"$f":"NORMDIST(A311,Normalfordeling!D$2,Normalfordeling!D$3,FALSE)","v":6.5615814774673833E-2},0,{"$f":"NORMDIST(A311,Normalfordeling!D$2,Normalfordeling!D$3,TRUE)","v":2.8716559816000336E-2}]
[{"$f":"(Normalfordeling!D$6-Normalfordeling!C$6)/1000+A311","v":3.1099999999999777},{"$f":"NORMDIST(A312,Normalfordeling!D$2,Normalfordeling!D$3,FALSE)","v":6.6871090639304326E-2},0,{"$f":"NORMDIST(A312,Normalfordeling!D$2,Normalfordeling!D$3,TRUE)","v":2.9378980040407912E-2}]
[{"$f":"(Normalfordeling!D$6-Normalfordeling!C$6)/1000+A312","v":3.1199999999999775},{"$f":"NORMDIST(A313,Normalfordeling!D$2,Normalfordeling!D$3,FALSE)","v":6.8143566101041692E-2},0,{"$f":"NORMDIST(A313,Normalfordeling!D$2,Normalfordeling!D$3,TRUE)","v":3.0054038961198255E-2}]
[{"$f":"(Normalfordeling!D$6-Normalfordeling!C$6)/1000+A313","v":3.1299999999999772},{"$f":"NORMDIST(A314,Normalfordeling!D$2,Normalfordeling!D$3,FALSE)","v":6.9433311543671244E-2},0,{"$f":"NORMDIST(A314,Normalfordeling!D$2,Normalfordeling!D$3,TRUE)","v":3.0741908929464379E-2}]
[{"$f":"(Normalfordeling!D$6-Normalfordeling!C$6)/1000+A314","v":3.139999999999977},{"$f":"NORMDIST(A315,Normalfordeling!D$2,Normalfordeling!D$3,FALSE)","v":7.0740393456980369E-2},0,{"$f":"NORMDIST(A315,Normalfordeling!D$2,Normalfordeling!D$3,TRUE)","v":3.1442762980751077E-2}]
[{"$f":"(Normalfordeling!D$6-Normalfordeling!C$6)/1000+A315","v":3.1499999999999768},{"$f":"NORMDIST(A316,Normalfordeling!D$2,Normalfordeling!D$3,FALSE)","v":7.2064874336214904E-2},0,{"$f":"NORMDIST(A316,Normalfordeling!D$2,Normalfordeling!D$3,TRUE)","v":3.2156774795612034E-2}]
[{"$f":"(Normalfordeling!D$6-Normalfordeling!C$6)/1000+A316","v":3.1599999999999766},{"$f":"NORMDIST(A317,Normalfordeling!D$2,Normalfordeling!D$3,FALSE)","v":7.3406812581653741E-2},0,{"$f":"NORMDIST(A317,Normalfordeling!D$2,Normalfordeling!D$3,TRUE)","v":3.2884118659162159E-2}]
[{"$f":"(Normalfordeling!D$6-Normalfordeling!C$6)/1000+A317","v":3.1699999999999764},{"$f":"NORMDIST(A318,Normalfordeling!D$2,Normalfordeling!D$3,FALSE)","v":7.4766262398364383E-2},0,{"$f":"NORMDIST(A318,Normalfordeling!D$2,Normalfordeling!D$3,TRUE)","v":3.3624969419626574E-2}]
[{"$f":"(Normalfordeling!D$6-Normalfordeling!C$6)/1000+A318","v":3.1799999999999762},{"$f":"NORMDIST(A319,Normalfordeling!D$2,Normalfordeling!D$3,FALSE)","v":7.6143273696204009E-2},0,{"$f":"NORMDIST(A319,Normalfordeling!D$2,Normalfordeling!D$3,TRUE)","v":3.4379502445888194E-2}]
[{"$f":"(Normalfordeling!D$6-Normalfordeling!C$6)/1000+A319","v":3.189999999999976},{"$f":"NORMDIST(A320,Normalfordeling!D$2,Normalfordeling!D$3,FALSE)","v":7.7537891990130614E-2},0,{"$f":"NORMDIST(A320,Normalfordeling!D$2,Normalfordeling!D$3,TRUE)","v":3.5147893584036929E-2}]
[{"$f":"(Normalfordeling!D$6-Normalfordeling!C$6)/1000+A320","v":3.1999999999999758},{"$f":"NORMDIST(A321,Normalfordeling!D$2,Normalfordeling!D$3,FALSE)","v":7.8950158300890722E-2},0,{"$f":"NORMDIST(A321,Normalfordeling!D$2,Normalfordeling!D$3,TRUE)","v":3.5930319112923888E-2}]
[{"$f":"(Normalfordeling!D$6-Normalfordeling!C$6)/1000+A321","v":3.2099999999999755},{"$f":"NORMDIST(A322,Normalfordeling!D$2,Normalfordeling!D$3,FALSE)","v":8.0380109056150645E-2},{"$f":"IF(AND(A322>=$C$1001,A322<=$C$1002),B322,0)","v":0},{"$f":"NORMDIST(A322,Normalfordeling!D$2,Normalfordeling!D$3,TRUE)","v":3.6726955698724313E-2}]
[{"$f":"(Normalfordeling!D$6-Normalfordeling!C$6)/1000+A322","v":3.2199999999999753},{"$f":"NORMDIST(A323,Normalfordeling!D$2,Normalfordeling!D$3,FALSE)","v":8.1827775992139209E-2},0,{"$f":"NORMDIST(A323,Normalfordeling!D$2,Normalfordeling!D$3,TRUE)","v":3.7537980348514757E-2}]
[{"$f":"(Normalfordeling!D$6-Normalfordeling!C$6)/1000+A323","v":3.2299999999999751},{"$f":"NORMDIST(A324,Normalfordeling!D$2,Normalfordeling!D$3,FALSE)","v":8.3293186055870799E-2},0,{"$f":"NORMDIST(A324,Normalfordeling!D$2,Normalfordeling!D$3,TRUE)","v":3.8363570362869165E-2}]
[{"$f":"(Normalfordeling!D$6-Normalfordeling!C$6)/1000+A324","v":3.2399999999999749},{"$f":"NORMDIST(A325,Normalfordeling!D$2,Normalfordeling!D$3,FALSE)","v":8.4776361308018494E-2},0,{"$f":"NORMDIST(A325,Normalfordeling!D$2,Normalfordeling!D$3,TRUE)","v":3.920390328748051E-2}]
[{"$f":"(Normalfordeling!D$6-Normalfordeling!C$6)/1000+A325","v":3.2499999999999747},{"$f":"NORMDIST(A326,Normalfordeling!D$2,Normalfordeling!D$3,FALSE)","v":8.6277318826507687E-2},0,{"$f":"NORMDIST(A326,Normalfordeling!D$2,Normalfordeling!D$3,TRUE)","v":4.0059156863814893E-2}]
[{"$f":"(Normalfordeling!D$6-Normalfordeling!C$6)/1000+A326","v":3.2599999999999745},{"$f":"NORMDIST(A327,Normalfordeling!D$2,Normalfordeling!D$3,FALSE)","v":8.7796070610901722E-2},0,{"$f":"NORMDIST(A327,Normalfordeling!D$2,Normalfordeling!D$3,TRUE)","v":4.0929508978805117E-2}]
[{"$f":"(Normalfordeling!D$6-Normalfordeling!C$6)/1000+A327","v":3.2699999999999743},{"$f":"NORMDIST(A328,Normalfordeling!D$2,Normalfordeling!D$3,FALSE)","v":8.9332623487651031E-2},0,{"$f":"NORMDIST(A328,Normalfordeling!D$2,Normalfordeling!D$3,TRUE)","v":4.181513761359263E-2}]
[{"$f":"(Normalfordeling!D$6-Normalfordeling!C$6)/1000+A328","v":3.279999999999974},{"$f":"NORMDIST(A329,Normalfordeling!D$2,Normalfordeling!D$3,FALSE)","v":9.0886979016278804E-2},0,{"$f":"NORMDIST(A329,Normalfordeling!D$2,Normalfordeling!D$3,TRUE)","v":4.271622079132658E-2}]
[{"$f":"(Normalfordeling!D$6-Normalfordeling!C$6)/1000+A329","v":3.2899999999999738},{"$f":"NORMDIST(A330,Normalfordeling!D$2,Normalfordeling!D$3,FALSE)","v":9.2459133396576534E-2},0,{"$f":"NORMDIST(A330,Normalfordeling!D$2,Normalfordeling!D$3,TRUE)","v":4.363293652402947E-2}]
[{"$f":"(Normalfordeling!D$6-Normalfordeling!C$6)/1000+A330","v":3.2999999999999736},{"$f":"NORMDIST(A331,Normalfordeling!D$2,Normalfordeling!D$3,FALSE)","v":9.40490773768827E-2},0,{"$f":"NORMDIST(A331,Normalfordeling!D$2,Normalfordeling!D$3,TRUE)","v":4.4565462758540557E-2}]
[{"$f":"(Normalfordeling!D$6-Normalfordeling!C$6)/1000+A331","v":3.3099999999999734},{"$f":"NORMDIST(A332,Normalfordeling!D$2,Normalfordeling!D$3,FALSE)","v":9.56567961635197E-2},0,{"$f":"NORMDIST(A332,Normalfordeling!D$2,Normalfordeling!D$3,TRUE)","v":4.5513977321547251E-2}]
[{"$f":"(Normalfordeling!D$6-Normalfordeling!C$6)/1000+A332","v":3.3199999999999732},{"$f":"NORMDIST(A333,Normalfordeling!D$2,Normalfordeling!D$3,FALSE)","v":9.7282269331463112E-2},0,{"$f":"NORMDIST(A333,Normalfordeling!D$2,Normalfordeling!D$3,TRUE)","v":4.6478657863717417E-2}]
[{"$f":"(Normalfordeling!D$6-Normalfordeling!C$6)/1000+A333","v":3.329999999999973},{"$f":"NORMDIST(A334,Normalfordeling!D$2,Normalfordeling!D$3,FALSE)","v":9.8925470736319257E-2},0,{"$f":"NORMDIST(A334,Normalfordeling!D$2,Normalfordeling!D$3,TRUE)","v":4.7459681802944666E-2}]
[{"$f":"(Normalfordeling!D$6-Normalfordeling!C$6)/1000+A334","v":3.3399999999999728},{"$f":"NORMDIST(A335,Normalfordeling!D$2,Normalfordeling!D$3,FALSE)","v":0.10058636842768601},0,{"$f":"NORMDIST(A335,Normalfordeling!D$2,Normalfordeling!D$3,TRUE)","v":4.8457226266720083E-2}]
[{"$f":"(Normalfordeling!D$6-Normalfordeling!C$6)/1000+A335","v":3.3499999999999726},{"$f":"NORMDIST(A336,Normalfordeling!D$2,Normalfordeling!D$3,FALSE)","v":0.10226492456397338},0,{"$f":"NORMDIST(A336,Normalfordeling!D$2,Normalfordeling!D$3,TRUE)","v":4.9471468033645286E-2}]
[{"$f":"(Normalfordeling!D$6-Normalfordeling!C$6)/1000+A336","v":3.3599999999999723},{"$f":"NORMDIST(A337,Normalfordeling!D$2,Normalfordeling!D$3,FALSE)","v":0.1039610953287595},0,{"$f":"NORMDIST(A337,Normalfordeling!D$2,Normalfordeling!D$3,TRUE)","v":5.0502583474100832E-2}]
[{"$f":"(Normalfordeling!D$6-Normalfordeling!C$6)/1000+A337","v":3.3699999999999721},{"$f":"NORMDIST(A338,Normalfordeling!D$2,Normalfordeling!D$3,FALSE)","v":0.10567483084875882},0,{"$f":"NORMDIST(A338,Normalfordeling!D$2,Normalfordeling!D$3,TRUE)","v":5.1550748490086416E-2}]
[{"$f":"(Normalfordeling!D$6-Normalfordeling!C$6)/1000+A338","v":3.3799999999999719},{"$f":"NORMDIST(A339,Normalfordeling!D$2,Normalfordeling!D$3,FALSE)","v":0.10740607511347894},0,{"$f":"NORMDIST(A339,Normalfordeling!D$2,Normalfordeling!D$3,TRUE)","v":5.2616138454248999E-2}]
[{"$f":"(Normalfordeling!D$6-Normalfordeling!C$6)/1000+A339","v":3.3899999999999717},{"$f":"NORMDIST(A340,Normalfordeling!D$2,Normalfordeling!D$3,FALSE)","v":0.1091547658966424},0,{"$f":"NORMDIST(A340,Normalfordeling!D$2,Normalfordeling!D$3,TRUE)","v":5.369892814811663E-2}]
[{"$f":"(Normalfordeling!D$6-Normalfordeling!C$6)/1000+A340","v":3.3999999999999715},{"$f":"NORMDIST(A341,Normalfordeling!D$2,Normalfordeling!D$3,FALSE)","v":0.11092083467945052},0,{"$f":"NORMDIST(A341,Normalfordeling!D$2,Normalfordeling!D$3,TRUE)","v":5.4799291699554838E-2}]
[{"$f":"(Normalfordeling!D$6-Normalfordeling!C$6)/1000+A341","v":3.4099999999999713},{"$f":"NORMDIST(A342,Normalfordeling!D$2,Normalfordeling!D$3,FALSE)","v":0.11270420657576542},0,{"$f":"NORMDIST(A342,Normalfordeling!D$2,Normalfordeling!D$3,TRUE)","v":5.591740251946619E-2}]
[{"$f":"(Normalfordeling!D$6-Normalfordeling!C$6)/1000+A342","v":3.4199999999999711},{"$f":"NORMDIST(A343,Normalfordeling!D$2,Normalfordeling!D$3,FALSE)","v":0.11450480025928715},0,{"$f":"NORMDIST(A343,Normalfordeling!D$2,Normalfordeling!D$3,TRUE)","v":5.7053433237750903E-2}]
[{"$f":"(Normalfordeling!D$6-Normalfordeling!C$6)/1000+A343","v":3.4299999999999708},{"$f":"NORMDIST(A344,Normalfordeling!D$2,Normalfordeling!D$3,FALSE)","v":0.11632252789280177},0,{"$f":"NORMDIST(A344,Normalfordeling!D$2,Normalfordeling!D$3,TRUE)","v":5.8207555638549617E-2}]
[{"$f":"(Normalfordeling!D$6-Normalfordeling!C$6)/1000+A344","v":3.4399999999999706},{"$f":"NORMDIST(A345,Normalfordeling!D$2,Normalfordeling!D$3,FALSE)","v":0.11815729505957687},0,{"$f":"NORMDIST(A345,Normalfordeling!D$2,Normalfordeling!D$3,TRUE)","v":5.9379940594789571E-2}]
[{"$f":"(Normalfordeling!D$6-Normalfordeling!C$6)/1000+A345","v":3.4499999999999704},{"$f":"NORMDIST(A346,Normalfordeling!D$2,Normalfordeling!D$3,FALSE)","v":0.12000900069698009},0,{"$f":"NORMDIST(A346,Normalfordeling!D$2,Normalfordeling!D$3,TRUE)","v":6.0570758002055455E-2}]
[{"$f":"(Normalfordeling!D$6-Normalfordeling!C$6)/1000+A346","v":3.4599999999999702},{"$f":"NORMDIST(A347,Normalfordeling!D$2,Normalfordeling!D$3,FALSE)","v":0.12187753703239618},0,{"$f":"NORMDIST(A347,Normalfordeling!D$2,Normalfordeling!D$3,TRUE)","v":6.178017671180825E-2}]
[{"$f":"(Normalfordeling!D$6-Normalfordeling!C$6)/1000+A347","v":3.46999999999997},{"$f":"NORMDIST(A348,Normalfordeling!D$2,Normalfordeling!D$3,FALSE)","v":0.12376278952151744},0,{"$f":"NORMDIST(A348,Normalfordeling!D$2,Normalfordeling!D$3,TRUE)","v":6.3008364463974703E-2}]
[{"$f":"(Normalfordeling!D$6-Normalfordeling!C$6)/1000+A348","v":3.4799999999999698},{"$f":"NORMDIST(A349,Normalfordeling!D$2,Normalfordeling!D$3,FALSE)","v":0.12566463678908235},0,{"$f":"NORMDIST(A349,Normalfordeling!D$2,Normalfordeling!D$3,TRUE)","v":6.4255487818932006E-2}]
[{"$f":"(Normalfordeling!D$6-Normalfordeling!C$6)/1000+A349","v":3.4899999999999696},{"$f":"NORMDIST(A350,Normalfordeling!D$2,Normalfordeling!D$3,FALSE)","v":0.12758295057213603},0,{"$f":"NORMDIST(A350,Normalfordeling!D$2,Normalfordeling!D$3,TRUE)","v":6.5521712088912581E-2}]
[{"$f":"(Normalfordeling!D$6-Normalfordeling!C$6)/1000+A350","v":3.4999999999999694},{"$f":"NORMDIST(A351,Normalfordeling!D$2,Normalfordeling!D$3,FALSE)","v":0.12951759566588578},0,{"$f":"NORMDIST(A351,Normalfordeling!D$2,Normalfordeling!D$3,TRUE)","v":6.6807201268854088E-2}]
[{"$f":"(Normalfordeling!D$6-Normalfordeling!C$6)/1000+A351","v":3.5099999999999691},{"$f":"NORMDIST(A352,Normalfordeling!D$2,Normalfordeling!D$3,FALSE)","v":0.13146842987222501},0,{"$f":"NORMDIST(A352,Normalfordeling!D$2,Normalfordeling!D$3,TRUE)","v":6.8112117966721369E-2}]
[{"$f":"(Normalfordeling!D$6-Normalfordeling!C$6)/1000+A352","v":3.5199999999999689},{"$f":"NORMDIST(A353,Normalfordeling!D$2,Normalfordeling!D$3,FALSE)","v":0.13343530395099618},0,{"$f":"NORMDIST(A353,Normalfordeling!D$2,Normalfordeling!D$3,TRUE)","v":6.9436623333327563E-2}]
[{"$f":"(Normalfordeling!D$6-Normalfordeling!C$6)/1000+A353","v":3.5299999999999687},{"$f":"NORMDIST(A354,Normalfordeling!D$2,Normalfordeling!D$3,FALSE)","v":0.13541806157406508},0,{"$f":"NORMDIST(A354,Normalfordeling!D$2,Normalfordeling!D$3,TRUE)","v":7.0780876991681285E-2}]
[{"$f":"(Normalfordeling!D$6-Normalfordeling!C$6)/1000+A354","v":3.5399999999999685},{"$f":"NORMDIST(A355,Normalfordeling!D$2,Normalfordeling!D$3,FALSE)","v":0.13741653928227543},0,{"$f":"NORMDIST(A355,Normalfordeling!D$2,Normalfordeling!D$3,TRUE)","v":7.2145036965889434E-2}]
[{"$f":"(Normalfordeling!D$6-Normalfordeling!C$6)/1000+A355","v":3.5499999999999683},{"$f":"NORMDIST(A356,Normalfordeling!D$2,Normalfordeling!D$3,FALSE)","v":0.13943056644535384},0,{"$f":"NORMDIST(A356,Normalfordeling!D$2,Normalfordeling!D$3,TRUE)","v":7.3529259609643918E-2}]
[{"$f":"(Normalfordeling!D$6-Normalfordeling!C$6)/1000+A356","v":3.5599999999999681},{"$f":"NORMDIST(A357,Normalfordeling!D$2,Normalfordeling!D$3,FALSE)","v":0.14145996522483231},0,{"$f":"NORMDIST(A357,Normalfordeling!D$2,Normalfordeling!D$3,TRUE)","v":7.4933699534322523E-2}]
[{"$f":"(Normalfordeling!D$6-Normalfordeling!C$6)/1000+A357","v":3.5699999999999679},{"$f":"NORMDIST(A358,Normalfordeling!D$2,Normalfordeling!D$3,FALSE)","v":0.14350455054005579},0,{"$f":"NORMDIST(A358,Normalfordeling!D$2,Normalfordeling!D$3,TRUE)","v":7.6358509536734481E-2}]
[{"$f":"(Normalfordeling!D$6-Normalfordeling!C$6)/1000+A358","v":3.5799999999999677},{"$f":"NORMDIST(A359,Normalfordeling!D$2,Normalfordeling!D$3,FALSE)","v":0.14556413003734092},0,{"$f":"NORMDIST(A359,Normalfordeling!D$2,Normalfordeling!D$3,TRUE)","v":7.7803840526541657E-2}]
[{"$f":"(Normalfordeling!D$6-Normalfordeling!C$6)/1000+A359","v":3.5899999999999674},{"$f":"NORMDIST(A360,Normalfordeling!D$2,Normalfordeling!D$3,FALSE)","v":0.14763850406234894},0,{"$f":"NORMDIST(A360,Normalfordeling!D$2,Normalfordeling!D$3,TRUE)","v":7.9269841453387557E-2}]
[{"$f":"(Normalfordeling!D$6-Normalfordeling!C$6)/1000+A360","v":3.5999999999999672},{"$f":"NORMDIST(A361,Normalfordeling!D$2,Normalfordeling!D$3,FALSE)","v":0.14972746563573802},0,{"$f":"NORMDIST(A361,Normalfordeling!D$2,Normalfordeling!D$3,TRUE)","v":8.075665923376614E-2}]
[{"$f":"(Normalfordeling!D$6-Normalfordeling!C$6)/1000+A361","v":3.609999999999967},{"$f":"NORMDIST(A362,Normalfordeling!D$2,Normalfordeling!D$3,FALSE)","v":0.15183080043215472},0,{"$f":"NORMDIST(A362,Normalfordeling!D$2,Normalfordeling!D$3,TRUE)","v":8.2264438677663906E-2}]
[{"$f":"(Normalfordeling!D$6-Normalfordeling!C$6)/1000+A362","v":3.6199999999999668},{"$f":"NORMDIST(A363,Normalfordeling!D$2,Normalfordeling!D$3,FALSE)","v":0.15394828676262665},0,{"$f":"NORMDIST(A363,Normalfordeling!D$2,Normalfordeling!D$3,TRUE)","v":8.3793322415009155E-2}]
[{"$f":"(Normalfordeling!D$6-Normalfordeling!C$6)/1000+A363","v":3.6299999999999666},{"$f":"NORMDIST(A364,Normalfordeling!D$2,Normalfordeling!D$3,FALSE)","v":0.15607969556041373},0,{"$f":"NORMDIST(A364,Normalfordeling!D$2,Normalfordeling!D$3,TRUE)","v":8.5343450821961736E-2}]
[{"$f":"(Normalfordeling!D$6-Normalfordeling!C$6)/1000+A364","v":3.6399999999999664},{"$f":"NORMDIST(A365,Normalfordeling!D$2,Normalfordeling!D$3,FALSE)","v":0.15822479037037582},0,{"$f":"NORMDIST(A365,Normalfordeling!D$2,Normalfordeling!D$3,TRUE)","v":8.6914961947079705E-2}]
[{"$f":"(Normalfordeling!D$6-Normalfordeling!C$6)/1000+A365","v":3.6499999999999662},{"$f":"NORMDIST(A366,Normalfordeling!D$2,Normalfordeling!D$3,FALSE)","v":0.1603833273419123},0,{"$f":"NORMDIST(A366,Normalfordeling!D$2,Normalfordeling!D$3,TRUE)","v":8.8507991437396585E-2}]
[{"$f":"(Normalfordeling!D$6-Normalfordeling!C$6)/1000+A366","v":3.6599999999999659},{"$f":"NORMDIST(A367,Normalfordeling!D$2,Normalfordeling!D$3,FALSE)","v":0.16255505522552674},0,{"$f":"NORMDIST(A367,Normalfordeling!D$2,Normalfordeling!D$3,TRUE)","v":9.0122672464446912E-2}]
[{"$f":"(Normalfordeling!D$6-Normalfordeling!C$6)/1000+A367","v":3.6699999999999657},{"$f":"NORMDIST(A368,Normalfordeling!D$2,Normalfordeling!D$3,FALSE)","v":0.16473971537306931},0,{"$f":"NORMDIST(A368,Normalfordeling!D$2,Normalfordeling!D$3,TRUE)","v":9.1759135650275173E-2}]
[{"$f":"(Normalfordeling!D$6-Normalfordeling!C$6)/1000+A368","v":3.6799999999999655},{"$f":"NORMDIST(A369,Normalfordeling!D$2,Normalfordeling!D$3,FALSE)","v":0.16693704174170623},0,{"$f":"NORMDIST(A369,Normalfordeling!D$2,Normalfordeling!D$3,TRUE)","v":9.3417508993466028E-2}]
[{"$f":"(Normalfordeling!D$6-Normalfordeling!C$6)/1000+A369","v":3.6899999999999653},{"$f":"NORMDIST(A370,Normalfordeling!D$2,Normalfordeling!D$3,FALSE)","v":0.16914676090166469},0,{"$f":"NORMDIST(A370,Normalfordeling!D$2,Normalfordeling!D$3,TRUE)","v":9.5097917795233147E-2}]
[{"$f":"(Normalfordeling!D$6-Normalfordeling!C$6)/1000+A370","v":3.6999999999999651},{"$f":"NORMDIST(A371,Normalfordeling!D$2,Normalfordeling!D$3,FALSE)","v":0.17136859204779958},0,{"$f":"NORMDIST(A371,Normalfordeling!D$2,Normalfordeling!D$3,TRUE)","v":9.6800484585604321E-2}]
[{"$f":"(Normalfordeling!D$6-Normalfordeling!C$6)/1000+A371","v":3.7099999999999649},{"$f":"NORMDIST(A372,Normalfordeling!D$2,Normalfordeling!D$3,FALSE)","v":0.17360224701502514},0,{"$f":"NORMDIST(A372,Normalfordeling!D$2,Normalfordeling!D$3,TRUE)","v":9.8525329049741719E-2}]
[{"$f":"(Normalfordeling!D$6-Normalfordeling!C$6)/1000+A372","v":3.7199999999999647},{"$f":"NORMDIST(A373,Normalfordeling!D$2,Normalfordeling!D$3,FALSE)","v":0.17584743029765443},0,{"$f":"NORMDIST(A373,Normalfordeling!D$2,Normalfordeling!D$3,TRUE)","v":0.1002725679544359}]
[{"$f":"(Normalfordeling!D$6-Normalfordeling!C$6)/1000+A373","v":3.7299999999999645},{"$f":"NORMDIST(A374,Normalfordeling!D$2,Normalfordeling!D$3,FALSE)","v":0.17810383907268554},0,{"$f":"NORMDIST(A374,Normalfordeling!D$2,Normalfordeling!D$3,TRUE)","v":0.1020423150748128}]
[{"$f":"(Normalfordeling!D$6-Normalfordeling!C$6)/1000+A374","v":3.7399999999999642},{"$f":"NORMDIST(A375,Normalfordeling!D$2,Normalfordeling!D$3,FALSE)","v":0.18037116322707222},0,{"$f":"NORMDIST(A375,Normalfordeling!D$2,Normalfordeling!D$3,TRUE)","v":0.10383468112129392}]
[{"$f":"(Normalfordeling!D$6-Normalfordeling!C$6)/1000+A375","v":3.749999999999964},{"$f":"NORMDIST(A376,Normalfordeling!D$2,Normalfordeling!D$3,FALSE)","v":0.1826490853890137},0,{"$f":"NORMDIST(A376,Normalfordeling!D$2,Normalfordeling!D$3,TRUE)","v":0.10564977366684868}]
[{"$f":"(Normalfordeling!D$6-Normalfordeling!C$6)/1000+A376","v":3.7599999999999638},{"$f":"NORMDIST(A377,Normalfordeling!D$2,Normalfordeling!D$3,FALSE)","v":0.18493728096329698},0,{"$f":"NORMDIST(A377,Normalfordeling!D$2,Normalfordeling!D$3,TRUE)","v":0.10748769707458018}]
[{"$f":"(Normalfordeling!D$6-Normalfordeling!C$6)/1000+A377","v":3.7699999999999636},{"$f":"NORMDIST(A378,Normalfordeling!D$2,Normalfordeling!D$3,FALSE)","v":0.18723541817072115},0,{"$f":"NORMDIST(A378,Normalfordeling!D$2,Normalfordeling!D$3,TRUE)","v":0.10934855242568507}]
[{"$f":"(Normalfordeling!D$6-Normalfordeling!C$6)/1000+A378","v":3.7799999999999634},{"$f":"NORMDIST(A379,Normalfordeling!D$2,Normalfordeling!D$3,FALSE)","v":0.18954315809163177},0,{"$f":"NORMDIST(A379,Normalfordeling!D$2,Normalfordeling!D$3,TRUE)","v":0.11123243744782764}]
[{"$f":"(Normalfordeling!D$6-Normalfordeling!C$6)/1000+A379","v":3.7899999999999632},{"$f":"NORMDIST(A380,Normalfordeling!D$2,Normalfordeling!D$3,FALSE)","v":0.19186015471359083},0,{"$f":"NORMDIST(A380,Normalfordeling!D$2,Normalfordeling!D$3,TRUE)","v":0.11313944644397021}]
[{"$f":"(Normalfordeling!D$6-Normalfordeling!C$6)/1000+A380","v":3.799999999999963},{"$f":"NORMDIST(A381,Normalfordeling!D$2,Normalfordeling!D$3,FALSE)","v":0.19418605498320429},0,{"$f":"NORMDIST(A381,Normalfordeling!D$2,Normalfordeling!D$3,TRUE)","v":0.11506967022170103}]
[{"$f":"(Normalfordeling!D$6-Normalfordeling!C$6)/1000+A381","v":3.8099999999999627},{"$f":"NORMDIST(A382,Normalfordeling!D$2,Normalfordeling!D$3,FALSE)","v":0.1965204988621278},0,{"$f":"NORMDIST(A382,Normalfordeling!D$2,Normalfordeling!D$3,TRUE)","v":0.11702319602310138}]
[{"$f":"(Normalfordeling!D$6-Normalfordeling!C$6)/1000+A382","v":3.8199999999999625},{"$f":"NORMDIST(A383,Normalfordeling!D$2,Normalfordeling!D$3,FALSE)","v":0.19886311938726711},0,{"$f":"NORMDIST(A383,Normalfordeling!D$2,Normalfordeling!D$3,TRUE)","v":0.11900010745519321}]
[{"$f":"(Normalfordeling!D$6-Normalfordeling!C$6)/1000+A383","v":3.8299999999999623},{"$f":"NORMDIST(A384,Normalfordeling!D$2,Normalfordeling!D$3,FALSE)","v":0.20121354273518849},0,{"$f":"NORMDIST(A384,Normalfordeling!D$2,Normalfordeling!D$3,TRUE)","v":0.12100048442101061}]
[{"$f":"(Normalfordeling!D$6-Normalfordeling!C$6)/1000+A384","v":3.8399999999999621},{"$f":"NORMDIST(A385,Normalfordeling!D$2,Normalfordeling!D$3,FALSE)","v":0.2035713882907505},0,{"$f":"NORMDIST(A385,Normalfordeling!D$2,Normalfordeling!D$3,TRUE)","v":0.12302440305133565}]
[{"$f":"(Normalfordeling!D$6-Normalfordeling!C$6)/1000+A385","v":3.8499999999999619},{"$f":"NORMDIST(A386,Normalfordeling!D$2,Normalfordeling!D$3,FALSE)","v":0.20593626871996576},{"$f":"IF(AND(A386>=$C$1001,A386<=$C$1002),B386,0)","v":0},{"$f":"NORMDIST(A386,Normalfordeling!D$2,Normalfordeling!D$3,TRUE)","v":0.12507193563714236}]
[{"$f":"(Normalfordeling!D$6-Normalfordeling!C$6)/1000+A386","v":3.8599999999999617},{"$f":"NORMDIST(A387,Normalfordeling!D$2,Normalfordeling!D$3,FALSE)","v":0.20830779004709926},0,{"$f":"NORMDIST(A387,Normalfordeling!D$2,Normalfordeling!D$3,TRUE)","v":0.12714315056279024}]
[{"$f":"(Normalfordeling!D$6-Normalfordeling!C$6)/1000+A387","v":3.8699999999999615},{"$f":"NORMDIST(A388,Normalfordeling!D$2,Normalfordeling!D$3,FALSE)","v":0.21068555173600612},0,{"$f":"NORMDIST(A388,Normalfordeling!D$2,Normalfordeling!D$3,TRUE)","v":0.12923811224000972}]
[{"$f":"(Normalfordeling!D$6-Normalfordeling!C$6)/1000+A388","v":3.8799999999999613},{"$f":"NORMDIST(A389,Normalfordeling!D$2,Normalfordeling!D$3,FALSE)","v":0.21306914677570862},0,{"$f":"NORMDIST(A389,Normalfordeling!D$2,Normalfordeling!D$3,TRUE)","v":0.13135688104272239}]
[{"$f":"(Normalfordeling!D$6-Normalfordeling!C$6)/1000+A389","v":3.889999999999961},{"$f":"NORMDIST(A390,Normalfordeling!D$2,Normalfordeling!D$3,FALSE)","v":0.21545816177021038},0,{"$f":"NORMDIST(A390,Normalfordeling!D$2,Normalfordeling!D$3,TRUE)","v":0.13349951324273884}]
[{"$f":"(Normalfordeling!D$6-Normalfordeling!C$6)/1000+A390","v":3.8999999999999608},{"$f":"NORMDIST(A391,Normalfordeling!D$2,Normalfordeling!D$3,FALSE)","v":0.21785217703254114},0,{"$f":"NORMDIST(A391,Normalfordeling!D$2,Normalfordeling!D$3,TRUE)","v":0.13566606094637412}]
[{"$f":"(Normalfordeling!D$6-Normalfordeling!C$6)/1000+A391","v":3.9099999999999606},{"$f":"NORMDIST(A392,Normalfordeling!D$2,Normalfordeling!D$3,FALSE)","v":0.22025076668302382},0,{"$f":"NORMDIST(A392,Normalfordeling!D$2,Normalfordeling!D$3,TRUE)","v":0.13785657203202678}]
[{"$f":"(Normalfordeling!D$6-Normalfordeling!C$6)/1000+A392","v":3.9199999999999604},{"$f":"NORMDIST(A393,Normalfordeling!D$2,Normalfordeling!D$3,FALSE)","v":0.22265349875175161},0,{"$f":"NORMDIST(A393,Normalfordeling!D$2,Normalfordeling!D$3,TRUE)","v":0.14007109008876026}]
[{"$f":"(Normalfordeling!D$6-Normalfordeling!C$6)/1000+A393","v":3.9299999999999602},{"$f":"NORMDIST(A394,Normalfordeling!D$2,Normalfordeling!D$3,FALSE)","v":0.22505993528526005},0,{"$f":"NORMDIST(A394,Normalfordeling!D$2,Normalfordeling!D$3,TRUE)","v":0.14230965435593029}]
[{"$f":"(Normalfordeling!D$6-Normalfordeling!C$6)/1000+A394","v":3.93999999999996},{"$f":"NORMDIST(A395,Normalfordeling!D$2,Normalfordeling!D$3,FALSE)","v":0.22746963245737625},0,{"$f":"NORMDIST(A395,Normalfordeling!D$2,Normalfordeling!D$3,TRUE)","v":0.14457229966390048}]
[{"$f":"(Normalfordeling!D$6-Normalfordeling!C$6)/1000+A395","v":3.9499999999999598},{"$f":"NORMDIST(A396,Normalfordeling!D$2,Normalfordeling!D$3,FALSE)","v":0.22988214068422336},0,{"$f":"NORMDIST(A396,Normalfordeling!D$2,Normalfordeling!D$3,TRUE)","v":0.14685905637588673}]
[{"$f":"(Normalfordeling!D$6-Normalfordeling!C$6)/1000+A396","v":3.9599999999999596},{"$f":"NORMDIST(A397,Normalfordeling!D$2,Normalfordeling!D$3,FALSE)","v":0.23229700474335643},0,{"$f":"NORMDIST(A397,Normalfordeling!D$2,Normalfordeling!D$3,TRUE)","v":0.149169950330972}]
[{"$f":"(Normalfordeling!D$6-Normalfordeling!C$6)/1000+A397","v":3.9699999999999593},{"$f":"NORMDIST(A398,Normalfordeling!D$2,Normalfordeling!D$3,FALSE)","v":0.23471376389700199},0,{"$f":"NORMDIST(A398,Normalfordeling!D$2,Normalfordeling!D$3,TRUE)","v":0.15150500278833412}]
[{"$f":"(Normalfordeling!D$6-Normalfordeling!C$6)/1000+A398","v":3.9799999999999591},{"$f":"NORMDIST(A399,Normalfordeling!D$2,Normalfordeling!D$3,FALSE)","v":0.23713195201936968},0,{"$f":"NORMDIST(A399,Normalfordeling!D$2,Normalfordeling!D$3,TRUE)","v":0.15386423037272509}]
[{"$f":"(Normalfordeling!D$6-Normalfordeling!C$6)/1000+A399","v":3.9899999999999589},{"$f":"NORMDIST(A400,Normalfordeling!D$2,Normalfordeling!D$3,FALSE)","v":0.23955109772800343},0,{"$f":"NORMDIST(A400,Normalfordeling!D$2,Normalfordeling!D$3,TRUE)","v":0.15624764502124477}]
[{"$f":"(Normalfordeling!D$6-Normalfordeling!C$6)/1000+A400","v":3.9999999999999587},{"$f":"NORMDIST(A401,Normalfordeling!D$2,Normalfordeling!D$3,FALSE)","v":0.24197072451913335},0,{"$f":"NORMDIST(A401,Normalfordeling!D$2,Normalfordeling!D$3,TRUE)","v":0.15865525393144705}]
[{"$f":"(Normalfordeling!D$6-Normalfordeling!C$6)/1000+A401","v":4.0099999999999589},{"$f":"NORMDIST(A402,Normalfordeling!D$2,Normalfordeling!D$3,FALSE)","v":0.24439035090698966},0,{"$f":"NORMDIST(A402,Normalfordeling!D$2,Normalfordeling!D$3,TRUE)","v":0.16108705951082086}]
[{"$f":"(Normalfordeling!D$6-Normalfordeling!C$6)/1000+A402","v":4.0199999999999587},{"$f":"NORMDIST(A403,Normalfordeling!D$2,Normalfordeling!D$3,FALSE)","v":0.24680949056703272},0,{"$f":"NORMDIST(A403,Normalfordeling!D$2,Normalfordeling!D$3,TRUE)","v":0.16354305932768221}]
[{"$f":"(Normalfordeling!D$6-Normalfordeling!C$6)/1000+A403","v":4.0299999999999585},{"$f":"NORMDIST(A404,Normalfordeling!D$2,Normalfordeling!D$3,FALSE)","v":0.24922765248305589},0,{"$f":"NORMDIST(A404,Normalfordeling!D$2,Normalfordeling!D$3,TRUE)","v":0.16602324606351926}]
[{"$f":"(Normalfordeling!D$6-Normalfordeling!C$6)/1000+A404","v":4.0399999999999583},{"$f":"NORMDIST(A405,Normalfordeling!D$2,Normalfordeling!D$3,FALSE)","v":0.25164434109810702},0,{"$f":"NORMDIST(A405,Normalfordeling!D$2,Normalfordeling!D$3,TRUE)","v":0.16852760746682729}]
[{"$f":"(Normalfordeling!D$6-Normalfordeling!C$6)/1000+A405","v":4.0499999999999581},{"$f":"NORMDIST(A406,Normalfordeling!D$2,Normalfordeling!D$3,FALSE)","v":0.25405905646917887},0,{"$f":"NORMDIST(A406,Normalfordeling!D$2,Normalfordeling!D$3,TRUE)","v":0.17105612630847111}]
[{"$f":"(Normalfordeling!D$6-Normalfordeling!C$6)/1000+A406","v":4.0599999999999579},{"$f":"NORMDIST(A407,Normalfordeling!D$2,Normalfordeling!D$3,FALSE)","v":0.25647129442561023},0,{"$f":"NORMDIST(A407,Normalfordeling!D$2,Normalfordeling!D$3,TRUE)","v":0.17360878033861379}]
[{"$f":"(Normalfordeling!D$6-Normalfordeling!C$6)/1000+A407","v":4.0699999999999577},{"$f":"NORMDIST(A408,Normalfordeling!D$2,Normalfordeling!D$3,FALSE)","v":0.25888054673113869},0,{"$f":"NORMDIST(A408,Normalfordeling!D$2,Normalfordeling!D$3,TRUE)","v":0.17618554224524696}]
[{"$f":"(Normalfordeling!D$6-Normalfordeling!C$6)/1000+A408","v":4.0799999999999574},{"$f":"NORMDIST(A409,Normalfordeling!D$2,Normalfordeling!D$3,FALSE)","v":0.26128630124954294},0,{"$f":"NORMDIST(A409,Normalfordeling!D$2,Normalfordeling!D$3,TRUE)","v":0.17878637961436059}]
[{"$f":"(Normalfordeling!D$6-Normalfordeling!C$6)/1000+A409","v":4.0899999999999572},{"$f":"NORMDIST(A410,Normalfordeling!D$2,Normalfordeling!D$3,FALSE)","v":0.26368804211380786},0,{"$f":"NORMDIST(A410,Normalfordeling!D$2,Normalfordeling!D$3,TRUE)","v":0.18141125489178594}]
[{"$f":"(Normalfordeling!D$6-Normalfordeling!C$6)/1000+A410","v":4.099999999999957},{"$f":"NORMDIST(A411,Normalfordeling!D$2,Normalfordeling!D$3,FALSE)","v":0.26608524989874455},0,{"$f":"NORMDIST(A411,Normalfordeling!D$2,Normalfordeling!D$3,TRUE)","v":0.18406012534674807}]
[{"$f":"(Normalfordeling!D$6-Normalfordeling!C$6)/1000+A411","v":4.1099999999999568},{"$f":"NORMDIST(A412,Normalfordeling!D$2,Normalfordeling!D$3,FALSE)","v":0.26847740179699209},0,{"$f":"NORMDIST(A412,Normalfordeling!D$2,Normalfordeling!D$3,TRUE)","v":0.18673294303716104}]
[{"$f":"(Normalfordeling!D$6-Normalfordeling!C$6)/1000+A412","v":4.1199999999999566},{"$f":"NORMDIST(A413,Normalfordeling!D$2,Normalfordeling!D$3,FALSE)","v":0.27086397179832766},0,{"$f":"NORMDIST(A413,Normalfordeling!D$2,Normalfordeling!D$3,TRUE)","v":0.18942965477670035}]
[{"$f":"(Normalfordeling!D$6-Normalfordeling!C$6)/1000+A413","v":4.1299999999999564},{"$f":"NORMDIST(A414,Normalfordeling!D$2,Normalfordeling!D$3,FALSE)","v":0.27324443087220585},0,{"$f":"NORMDIST(A414,Normalfordeling!D$2,Normalfordeling!D$3,TRUE)","v":0.19215020210368428}]
[{"$f":"(Normalfordeling!D$6-Normalfordeling!C$6)/1000+A414","v":4.1399999999999562},{"$f":"NORMDIST(A415,Normalfordeling!D$2,Normalfordeling!D$3,FALSE)","v":0.27561824715344629},0,{"$f":"NORMDIST(A415,Normalfordeling!D$2,Normalfordeling!D$3,TRUE)","v":0.19489452125179627}]
[{"$f":"(Normalfordeling!D$6-Normalfordeling!C$6)/1000+A415","v":4.1499999999999559},{"$f":"NORMDIST(A416,Normalfordeling!D$2,Normalfordeling!D$3,FALSE)","v":0.2779848861309861},0,{"$f":"NORMDIST(A416,Normalfordeling!D$2,Normalfordeling!D$3,TRUE)","v":0.19766254312268006}]
[{"$f":"(Normalfordeling!D$6-Normalfordeling!C$6)/1000+A416","v":4.1599999999999557},{"$f":"NORMDIST(A417,Normalfordeling!D$2,Normalfordeling!D$3,FALSE)","v":0.28034381083961013},0,{"$f":"NORMDIST(A417,Normalfordeling!D$2,Normalfordeling!D$3,TRUE)","v":0.20045419326043731}]
[{"$f":"(Normalfordeling!D$6-Normalfordeling!C$6)/1000+A417","v":4.1699999999999555},{"$f":"NORMDIST(A418,Normalfordeling!D$2,Normalfordeling!D$3,FALSE)","v":0.28269448205456982},0,{"$f":"NORMDIST(A418,Normalfordeling!D$2,Normalfordeling!D$3,TRUE)","v":0.20326939182805578}]
[{"$f":"(Normalfordeling!D$6-Normalfordeling!C$6)/1000+A418","v":4.1799999999999553},{"$f":"NORMDIST(A419,Normalfordeling!D$2,Normalfordeling!D$3,FALSE)","v":0.28503635848899678},0,{"$f":"NORMDIST(A419,Normalfordeling!D$2,Normalfordeling!D$3,TRUE)","v":0.20610805358580028}]
[{"$f":"(Normalfordeling!D$6-Normalfordeling!C$6)/1000+A419","v":4.1899999999999551},{"$f":"NORMDIST(A420,Normalfordeling!D$2,Normalfordeling!D$3,FALSE)","v":0.28736889699401785},0,{"$f":"NORMDIST(A420,Normalfordeling!D$2,Normalfordeling!D$3,TRUE)","v":0.20897008787158872}]
[{"$f":"(Normalfordeling!D$6-Normalfordeling!C$6)/1000+A420","v":4.1999999999999549},{"$f":"NORMDIST(A421,Normalfordeling!D$2,Normalfordeling!D$3,FALSE)","v":0.28969155276147229},0,{"$f":"NORMDIST(A421,Normalfordeling!D$2,Normalfordeling!D$3,TRUE)","v":0.21185539858338356}]
[{"$f":"(Normalfordeling!D$6-Normalfordeling!C$6)/1000+A421","v":4.2099999999999547},{"$f":"NORMDIST(A422,Normalfordeling!D$2,Normalfordeling!D$3,FALSE)","v":0.29200377952913104},0,{"$f":"NORMDIST(A422,Normalfordeling!D$2,Normalfordeling!D$3,TRUE)","v":0.21476388416362396}]
[{"$f":"(Normalfordeling!D$6-Normalfordeling!C$6)/1000+A422","v":4.2199999999999545},{"$f":"NORMDIST(A423,Normalfordeling!D$2,Normalfordeling!D$3,FALSE)","v":0.29430502978831469},0,{"$f":"NORMDIST(A423,Normalfordeling!D$2,Normalfordeling!D$3,TRUE)","v":0.21769543758571974}]
[{"$f":"(Normalfordeling!D$6-Normalfordeling!C$6)/1000+A423","v":4.2299999999999542},{"$f":"NORMDIST(A424,Normalfordeling!D$2,Normalfordeling!D$3,FALSE)","v":0.29659475499380528},0,{"$f":"NORMDIST(A424,Normalfordeling!D$2,Normalfordeling!D$3,TRUE)","v":0.22064994634263599}]
[{"$f":"(Normalfordeling!D$6-Normalfordeling!C$6)/1000+A424","v":4.239999999999954},{"$f":"NORMDIST(A425,Normalfordeling!D$2,Normalfordeling!D$3,FALSE)","v":0.29887240577594232},0,{"$f":"NORMDIST(A425,Normalfordeling!D$2,Normalfordeling!D$3,TRUE)","v":0.22362729243758567}]
[{"$f":"(Normalfordeling!D$6-Normalfordeling!C$6)/1000+A425","v":4.2499999999999538},{"$f":"NORMDIST(A426,Normalfordeling!D$2,Normalfordeling!D$3,FALSE)","v":0.30113743215479399},0,{"$f":"NORMDIST(A426,Normalfordeling!D$2,Normalfordeling!D$3,TRUE)","v":0.22662735237685425}]
[{"$f":"(Normalfordeling!D$6-Normalfordeling!C$6)/1000+A426","v":4.2599999999999536},{"$f":"NORMDIST(A427,Normalfordeling!D$2,Normalfordeling!D$3,FALSE)","v":0.30338928375628971},0,{"$f":"NORMDIST(A427,Normalfordeling!D$2,Normalfordeling!D$3,TRUE)","v":0.22964999716477641}]
[{"$f":"(Normalfordeling!D$6-Normalfordeling!C$6)/1000+A427","v":4.2699999999999534},{"$f":"NORMDIST(A428,Normalfordeling!D$2,Normalfordeling!D$3,FALSE)","v":0.3056274100301995},0,{"$f":"NORMDIST(A428,Normalfordeling!D$2,Normalfordeling!D$3,TRUE)","v":0.23269509230088317}]
[{"$f":"(Normalfordeling!D$6-Normalfordeling!C$6)/1000+A428","v":4.2799999999999532},{"$f":"NORMDIST(A429,Normalfordeling!D$2,Normalfordeling!D$3,FALSE)","v":0.30785126046984257},0,{"$f":"NORMDIST(A429,Normalfordeling!D$2,Normalfordeling!D$3,TRUE)","v":0.23576249777923669}]
[{"$f":"(Normalfordeling!D$6-Normalfordeling!C$6)/1000+A429","v":4.289999999999953},{"$f":"NORMDIST(A430,Normalfordeling!D$2,Normalfordeling!D$3,FALSE)","v":0.31006028483340581},0,{"$f":"NORMDIST(A430,Normalfordeling!D$2,Normalfordeling!D$3,TRUE)","v":0.23885206808997214}]
[{"$f":"(Normalfordeling!D$6-Normalfordeling!C$6)/1000+A430","v":4.2999999999999527},{"$f":"NORMDIST(A431,Normalfordeling!D$2,Normalfordeling!D$3,FALSE)","v":0.31225393336675095},0,{"$f":"NORMDIST(A431,Normalfordeling!D$2,Normalfordeling!D$3,TRUE)","v":0.24196365222305821}]
[{"$f":"(Normalfordeling!D$6-Normalfordeling!C$6)/1000+A431","v":4.3099999999999525},{"$f":"NORMDIST(A432,Normalfordeling!D$2,Normalfordeling!D$3,FALSE)","v":0.31443165702758702},0,{"$f":"NORMDIST(A432,Normalfordeling!D$2,Normalfordeling!D$3,TRUE)","v":0.24509709367429455}]
[{"$f":"(Normalfordeling!D$6-Normalfordeling!C$6)/1000+A432","v":4.3199999999999523},{"$f":"NORMDIST(A433,Normalfordeling!D$2,Normalfordeling!D$3,FALSE)","v":0.31659290771088255},0,{"$f":"NORMDIST(A433,Normalfordeling!D$2,Normalfordeling!D$3,TRUE)","v":0.24825223045355543}]
[{"$f":"(Normalfordeling!D$6-Normalfordeling!C$6)/1000+A433","v":4.3299999999999521},{"$f":"NORMDIST(A434,Normalfordeling!D$2,Normalfordeling!D$3,FALSE)","v":0.31873713847539131},0,{"$f":"NORMDIST(A434,Normalfordeling!D$2,Normalfordeling!D$3,TRUE)","v":0.25142889509529487}]
[{"$f":"(Normalfordeling!D$6-Normalfordeling!C$6)/1000+A434","v":4.3399999999999519},{"$f":"NORMDIST(A435,Normalfordeling!D$2,Normalfordeling!D$3,FALSE)","v":0.3208638037711623},0,{"$f":"NORMDIST(A435,Normalfordeling!D$2,Normalfordeling!D$3,TRUE)","v":0.2546269146713207}]
[{"$f":"(Normalfordeling!D$6-Normalfordeling!C$6)/1000+A435","v":4.3499999999999517},{"$f":"NORMDIST(A436,Normalfordeling!D$2,Normalfordeling!D$3,FALSE)","v":0.32297235966790416},0,{"$f":"NORMDIST(A436,Normalfordeling!D$2,Normalfordeling!D$3,TRUE)","v":0.25784611080584913}]
[{"$f":"(Normalfordeling!D$6-Normalfordeling!C$6)/1000+A436","v":4.3599999999999515},{"$f":"NORMDIST(A437,Normalfordeling!D$2,Normalfordeling!D$3,FALSE)","v":0.32506226408407207},0,{"$f":"NORMDIST(A437,Normalfordeling!D$2,Normalfordeling!D$3,TRUE)","v":0.2610862996928458}]
[{"$f":"(Normalfordeling!D$6-Normalfordeling!C$6)/1000+A437","v":4.3699999999999513},{"$f":"NORMDIST(A438,Normalfordeling!D$2,Normalfordeling!D$3,FALSE)","v":0.32713297701654442},0,{"$f":"NORMDIST(A438,Normalfordeling!D$2,Normalfordeling!D$3,TRUE)","v":0.2643472921156616}]
[{"$f":"(Normalfordeling!D$6-Normalfordeling!C$6)/1000+A438","v":4.379999999999951},{"$f":"NORMDIST(A439,Normalfordeling!D$2,Normalfordeling!D$3,FALSE)","v":0.32918396077075479},0,{"$f":"NORMDIST(A439,Normalfordeling!D$2,Normalfordeling!D$3,TRUE)","v":0.2676288934689669}]
[{"$f":"(Normalfordeling!D$6-Normalfordeling!C$6)/1000+A439","v":4.3899999999999508},{"$f":"NORMDIST(A440,Normalfordeling!D$2,Normalfordeling!D$3,FALSE)","v":0.33121468019114303},0,{"$f":"NORMDIST(A440,Normalfordeling!D$2,Normalfordeling!D$3,TRUE)","v":0.27093090378298934}]
[{"$f":"(Normalfordeling!D$6-Normalfordeling!C$6)/1000+A440","v":4.3999999999999506},{"$f":"NORMDIST(A441,Normalfordeling!D$2,Normalfordeling!D$3,FALSE)","v":0.33322460289178979},0,{"$f":"NORMDIST(A441,Normalfordeling!D$2,Normalfordeling!D$3,TRUE)","v":0.27425311775005712}]
[{"$f":"(Normalfordeling!D$6-Normalfordeling!C$6)/1000+A441","v":4.4099999999999504},{"$f":"NORMDIST(A442,Normalfordeling!D$2,Normalfordeling!D$3,FALSE)","v":0.33521319948709632},0,{"$f":"NORMDIST(A442,Normalfordeling!D$2,Normalfordeling!D$3,TRUE)","v":0.27759532475344822}]
[{"$f":"(Normalfordeling!D$6-Normalfordeling!C$6)/1000+A442","v":4.4199999999999502},{"$f":"NORMDIST(A443,Normalfordeling!D$2,Normalfordeling!D$3,FALSE)","v":0.33717994382237082},0,{"$f":"NORMDIST(A443,Normalfordeling!D$2,Normalfordeling!D$3,TRUE)","v":0.28095730889854753}]
[{"$f":"(Normalfordeling!D$6-Normalfordeling!C$6)/1000+A443","v":4.42999999999995},{"$f":"NORMDIST(A444,Normalfordeling!D$2,Normalfordeling!D$3,FALSE)","v":0.33912431320418251},0,{"$f":"NORMDIST(A444,Normalfordeling!D$2,Normalfordeling!D$3,TRUE)","v":0.28433884904630718}]
[{"$f":"(Normalfordeling!D$6-Normalfordeling!C$6)/1000+A444","v":4.4399999999999498},{"$f":"NORMDIST(A445,Normalfordeling!D$2,Normalfordeling!D$3,FALSE)","v":0.34104578863034296},0,{"$f":"NORMDIST(A445,Normalfordeling!D$2,Normalfordeling!D$3,TRUE)","v":0.28773971884900984}]
[{"$f":"(Normalfordeling!D$6-Normalfordeling!C$6)/1000+A445","v":4.4499999999999496},{"$f":"NORMDIST(A446,Normalfordeling!D$2,Normalfordeling!D$3,FALSE)","v":0.34294385501937441},0,{"$f":"NORMDIST(A446,Normalfordeling!D$2,Normalfordeling!D$3,TRUE)","v":0.29115968678832904}]
[{"$f":"(Normalfordeling!D$6-Normalfordeling!C$6)/1000+A446","v":4.4599999999999493},{"$f":"NORMDIST(A447,Normalfordeling!D$2,Normalfordeling!D$3,FALSE)","v":0.34481800143932395},0,{"$f":"NORMDIST(A447,Normalfordeling!D$2,Normalfordeling!D$3,TRUE)","v":0.29459851621568051}]
[{"$f":"(Normalfordeling!D$6-Normalfordeling!C$6)/1000+A447","v":4.4699999999999491},{"$f":"NORMDIST(A448,Normalfordeling!D$2,Normalfordeling!D$3,FALSE)","v":0.34666772133578228},0,{"$f":"NORMDIST(A448,Normalfordeling!D$2,Normalfordeling!D$3,TRUE)","v":0.29805596539485874}]
[{"$f":"(Normalfordeling!D$6-Normalfordeling!C$6)/1000+A448","v":4.4799999999999489},{"$f":"NORMDIST(A449,Normalfordeling!D$2,Normalfordeling!D$3,FALSE)","v":0.34849251275896526},0,{"$f":"NORMDIST(A449,Normalfordeling!D$2,Normalfordeling!D$3,TRUE)","v":0.30153178754694832}]
[{"$f":"(Normalfordeling!D$6-Normalfordeling!C$6)/1000+A449","v":4.4899999999999487},{"$f":"NORMDIST(A450,Normalfordeling!D$2,Normalfordeling!D$3,FALSE)","v":0.35029187858971667},{"$f":"IF(AND(A450>=$C$1001,A450<=$C$1002),B450,0)","v":0},{"$f":"NORMDIST(A450,Normalfordeling!D$2,Normalfordeling!D$3,TRUE)","v":0.3050257308975014}]
[{"$f":"(Normalfordeling!D$6-Normalfordeling!C$6)/1000+A450","v":4.4999999999999485},{"$f":"NORMDIST(A451,Normalfordeling!D$2,Normalfordeling!D$3,FALSE)","v":0.35206532676429042},0,{"$f":"NORMDIST(A451,Normalfordeling!D$2,Normalfordeling!D$3,TRUE)","v":0.30853753872596879}]
[{"$f":"(Normalfordeling!D$6-Normalfordeling!C$6)/1000+A451","v":4.5099999999999483},{"$f":"NORMDIST(A452,Normalfordeling!D$2,Normalfordeling!D$3,FALSE)","v":0.3538123704977707},0,{"$f":"NORMDIST(A452,Normalfordeling!D$2,Normalfordeling!D$3,TRUE)","v":0.31206694941737223}]
[{"$f":"(Normalfordeling!D$6-Normalfordeling!C$6)/1000+A452","v":4.5199999999999481},{"$f":"NORMDIST(A453,Normalfordeling!D$2,Normalfordeling!D$3,FALSE)","v":0.35553252850598821},0,{"$f":"NORMDIST(A453,Normalfordeling!D$2,Normalfordeling!D$3,TRUE)","v":0.31561369651620408}]
[{"$f":"(Normalfordeling!D$6-Normalfordeling!C$6)/1000+A453","v":4.5299999999999478},{"$f":"NORMDIST(A454,Normalfordeling!D$2,Normalfordeling!D$3,FALSE)","v":0.35722532522579209},0,{"$f":"NORMDIST(A454,Normalfordeling!D$2,Normalfordeling!D$3,TRUE)","v":0.31917750878253714}]
[{"$f":"(Normalfordeling!D$6-Normalfordeling!C$6)/1000+A454","v":4.5399999999999476},{"$f":"NORMDIST(A455,Normalfordeling!D$2,Normalfordeling!D$3,FALSE)","v":0.35889029103353598},0,{"$f":"NORMDIST(A455,Normalfordeling!D$2,Normalfordeling!D$3,TRUE)","v":0.32275811025032886}]
[{"$f":"(Normalfordeling!D$6-Normalfordeling!C$6)/1000+A455","v":4.5499999999999474},{"$f":"NORMDIST(A456,Normalfordeling!D$2,Normalfordeling!D$3,FALSE)","v":0.36052696246163946},0,{"$f":"NORMDIST(A456,Normalfordeling!D$2,Normalfordeling!D$3,TRUE)","v":0.32635522028790109}]
[{"$f":"(Normalfordeling!D$6-Normalfordeling!C$6)/1000+A456","v":4.5599999999999472},{"$f":"NORMDIST(A457,Normalfordeling!D$2,Normalfordeling!D$3,FALSE)","v":0.36213488241308384},0,{"$f":"NORMDIST(A457,Normalfordeling!D$2,Normalfordeling!D$3,TRUE)","v":0.32996855366057454}]
[{"$f":"(Normalfordeling!D$6-Normalfordeling!C$6)/1000+A457","v":4.569999999999947},{"$f":"NORMDIST(A458,Normalfordeling!D$2,Normalfordeling!D$3,FALSE)","v":0.36371360037370515},0,{"$f":"NORMDIST(A458,Normalfordeling!D$2,Normalfordeling!D$3,TRUE)","v":0.33359782059543835}]
[{"$f":"(Normalfordeling!D$6-Normalfordeling!C$6)/1000+A458","v":4.5799999999999468},{"$f":"NORMDIST(A459,Normalfordeling!D$2,Normalfordeling!D$3,FALSE)","v":0.36526267262214573},0,{"$f":"NORMDIST(A459,Normalfordeling!D$2,Normalfordeling!D$3,TRUE)","v":0.33724272684823009}]
[{"$f":"(Normalfordeling!D$6-Normalfordeling!C$6)/1000+A459","v":4.5899999999999466},{"$f":"NORMDIST(A460,Normalfordeling!D$2,Normalfordeling!D$3,FALSE)","v":0.36678166243732813},0,{"$f":"NORMDIST(A460,Normalfordeling!D$2,Normalfordeling!D$3,TRUE)","v":0.340902973772303}]
[{"$f":"(Normalfordeling!D$6-Normalfordeling!C$6)/1000+A460","v":4.5999999999999464},{"$f":"NORMDIST(A461,Normalfordeling!D$2,Normalfordeling!D$3,FALSE)","v":0.36827014030331545},0,{"$f":"NORMDIST(A461,Normalfordeling!D$2,Normalfordeling!D$3,TRUE)","v":0.34457825838965606}]
[{"$f":"(Normalfordeling!D$6-Normalfordeling!C$6)/1000+A461","v":4.6099999999999461},{"$f":"NORMDIST(A462,Normalfordeling!D$2,Normalfordeling!D$3,FALSE)","v":0.36972768411142459},0,{"$f":"NORMDIST(A462,Normalfordeling!D$2,Normalfordeling!D$3,TRUE)","v":0.34826827346399769}]
[{"$f":"(Normalfordeling!D$6-Normalfordeling!C$6)/1000+A462","v":4.6199999999999459},{"$f":"NORMDIST(A463,Normalfordeling!D$2,Normalfordeling!D$3,FALSE)","v":0.37115387935945837},0,{"$f":"NORMDIST(A463,Normalfordeling!D$2,Normalfordeling!D$3,TRUE)","v":0.35197270757581711}]
[{"$f":"(Normalfordeling!D$6-Normalfordeling!C$6)/1000+A463","v":4.6299999999999457},{"$f":"NORMDIST(A464,Normalfordeling!D$2,Normalfordeling!D$3,FALSE)","v":0.37254831934792593},0,{"$f":"NORMDIST(A464,Normalfordeling!D$2,Normalfordeling!D$3,TRUE)","v":0.35569124519943296}]
[{"$f":"(Normalfordeling!D$6-Normalfordeling!C$6)/1000+A464","v":4.6399999999999455},{"$f":"NORMDIST(A465,Normalfordeling!D$2,Normalfordeling!D$3,FALSE)","v":0.37391060537312104},0,{"$f":"NORMDIST(A465,Normalfordeling!D$2,Normalfordeling!D$3,TRUE)","v":0.35942356678198839}]
[{"$f":"(Normalfordeling!D$6-Normalfordeling!C$6)/1000+A465","v":4.6499999999999453},{"$f":"NORMDIST(A466,Normalfordeling!D$2,Normalfordeling!D$3,FALSE)","v":0.37524034691693076},0,{"$f":"NORMDIST(A466,Normalfordeling!D$2,Normalfordeling!D$3,TRUE)","v":0.36316934882436036}]
[{"$f":"(Normalfordeling!D$6-Normalfordeling!C$6)/1000+A466","v":4.6599999999999451},{"$f":"NORMDIST(A467,Normalfordeling!D$2,Normalfordeling!D$3,FALSE)","v":0.37653716183324687},0,{"$f":"NORMDIST(A467,Normalfordeling!D$2,Normalfordeling!D$3,TRUE)","v":0.36692826396395117}]
[{"$f":"(Normalfordeling!D$6-Normalfordeling!C$6)/1000+A467","v":4.6699999999999449},{"$f":"NORMDIST(A468,Normalfordeling!D$2,Normalfordeling!D$3,FALSE)","v":0.37780067653085775},0,{"$f":"NORMDIST(A468,Normalfordeling!D$2,Normalfordeling!D$3,TRUE)","v":0.37069998105932567}]
[{"$f":"(Normalfordeling!D$6-Normalfordeling!C$6)/1000+A468","v":4.6799999999999446},{"$f":"NORMDIST(A469,Normalfordeling!D$2,Normalfordeling!D$3,FALSE)","v":0.379030526152695},0,{"$f":"NORMDIST(A469,Normalfordeling!D$2,Normalfordeling!D$3,TRUE)","v":0.37448416527665895}]
[{"$f":"(Normalfordeling!D$6-Normalfordeling!C$6)/1000+A469","v":4.6899999999999444},{"$f":"NORMDIST(A470,Normalfordeling!D$2,Normalfordeling!D$3,FALSE)","v":0.38022635475131839},0,{"$f":"NORMDIST(A470,Normalfordeling!D$2,Normalfordeling!D$3,TRUE)","v":0.37828047817795957}]
[{"$f":"(Normalfordeling!D$6-Normalfordeling!C$6)/1000+A470","v":4.6999999999999442},{"$f":"NORMDIST(A471,Normalfordeling!D$2,Normalfordeling!D$3,FALSE)","v":0.3813878154605177},0,{"$f":"NORMDIST(A471,Normalfordeling!D$2,Normalfordeling!D$3,TRUE)","v":0.38208857781102606}]
[{"$f":"(Normalfordeling!D$6-Normalfordeling!C$6)/1000+A471","v":4.709999999999944},{"$f":"NORMDIST(A472,Normalfordeling!D$2,Normalfordeling!D$3,FALSE)","v":0.38251457066291783},0,{"$f":"NORMDIST(A472,Normalfordeling!D$2,Normalfordeling!D$3,TRUE)","v":0.38590811880110126}]
[{"$f":"(Normalfordeling!D$6-Normalfordeling!C$6)/1000+A472","v":4.7199999999999438},{"$f":"NORMDIST(A473,Normalfordeling!D$2,Normalfordeling!D$3,FALSE)","v":0.38360629215347247},0,{"$f":"NORMDIST(A473,Normalfordeling!D$2,Normalfordeling!D$3,TRUE)","v":0.38973875244418121}]
[{"$f":"(Normalfordeling!D$6-Normalfordeling!C$6)/1000+A473","v":4.7299999999999436},{"$f":"NORMDIST(A474,Normalfordeling!D$2,Normalfordeling!D$3,FALSE)","v":0.38466266129873694},0,{"$f":"NORMDIST(A474,Normalfordeling!D$2,Normalfordeling!D$3,TRUE)","v":0.39358012680193877}]
[{"$f":"(Normalfordeling!D$6-Normalfordeling!C$6)/1000+A474","v":4.7399999999999434},{"$f":"NORMDIST(A475,Normalfordeling!D$2,Normalfordeling!D$3,FALSE)","v":0.3856833691918104},0,{"$f":"NORMDIST(A475,Normalfordeling!D$2,Normalfordeling!D$3,TRUE)","v":0.39743188679821762}]
[{"$f":"(Normalfordeling!D$6-Normalfordeling!C$6)/1000+A475","v":4.7499999999999432},{"$f":"NORMDIST(A476,Normalfordeling!D$2,Normalfordeling!D$3,FALSE)","v":0.38666811680284374},0,{"$f":"NORMDIST(A476,Normalfordeling!D$2,Normalfordeling!D$3,TRUE)","v":0.40129367431705426}]
[{"$f":"(Normalfordeling!D$6-Normalfordeling!C$6)/1000+A476","v":4.7599999999999429},{"$f":"NORMDIST(A477,Normalfordeling!D$2,Normalfordeling!D$3,FALSE)","v":0.38761661512500883},0,{"$f":"NORMDIST(A477,Normalfordeling!D$2,Normalfordeling!D$3,TRUE)","v":0.40516512830218199}]
[{"$f":"(Normalfordeling!D$6-Normalfordeling!C$6)/1000+A477","v":4.7699999999999427},{"$f":"NORMDIST(A478,Normalfordeling!D$2,Normalfordeling!D$3,FALSE)","v":0.38852858531583079},0,{"$f":"NORMDIST(A478,Normalfordeling!D$2,Normalfordeling!D$3,TRUE)","v":0.40904588485797189}]
[{"$f":"(Normalfordeling!D$6-Normalfordeling!C$6)/1000+A478","v":4.7799999999999425},{"$f":"NORMDIST(A479,Normalfordeling!D$2,Normalfordeling!D$3,FALSE)","v":0.38940375883378553},0,{"$f":"NORMDIST(A479,Normalfordeling!D$2,Normalfordeling!D$3,TRUE)","v":0.41293557735176301}]
[{"$f":"(Normalfordeling!D$6-Normalfordeling!C$6)/1000+A479","v":4.7899999999999423},{"$f":"NORMDIST(A480,Normalfordeling!D$2,Normalfordeling!D$3,FALSE)","v":0.39024187757006956},0,{"$f":"NORMDIST(A480,Normalfordeling!D$2,Normalfordeling!D$3,TRUE)","v":0.41683383651753514}]
[{"$f":"(Normalfordeling!D$6-Normalfordeling!C$6)/1000+A480","v":4.7999999999999421},{"$f":"NORMDIST(A481,Normalfordeling!D$2,Normalfordeling!D$3,FALSE)","v":0.39104269397545138},0,{"$f":"NORMDIST(A481,Normalfordeling!D$2,Normalfordeling!D$3,TRUE)","v":0.42074029056087431}]
[{"$f":"(Normalfordeling!D$6-Normalfordeling!C$6)/1000+A481","v":4.8099999999999419},{"$f":"NORMDIST(A482,Normalfordeling!D$2,Normalfordeling!D$3,FALSE)","v":0.39180597118211674},0,{"$f":"NORMDIST(A482,Normalfordeling!D$2,Normalfordeling!D$3,TRUE)","v":0.42465456526518175}]
[{"$f":"(Normalfordeling!D$6-Normalfordeling!C$6)/1000+A482","v":4.8199999999999417},{"$f":"NORMDIST(A483,Normalfordeling!D$2,Normalfordeling!D$3,FALSE)","v":0.3925314831204248},0,{"$f":"NORMDIST(A483,Normalfordeling!D$2,Normalfordeling!D$3,TRUE)","v":0.42857628409907633}]
[{"$f":"(Normalfordeling!D$6-Normalfordeling!C$6)/1000+A483","v":4.8299999999999415},{"$f":"NORMDIST(A484,Normalfordeling!D$2,Normalfordeling!D$3,FALSE)","v":0.3932190146304933},0,{"$f":"NORMDIST(A484,Normalfordeling!D$2,Normalfordeling!D$3,TRUE)","v":0.43250506832493857}]
[{"$f":"(Normalfordeling!D$6-Normalfordeling!C$6)/1000+A484","v":4.8399999999999412},{"$f":"NORMDIST(A485,Normalfordeling!D$2,Normalfordeling!D$3,FALSE)","v":0.39386836156853716},0,{"$f":"NORMDIST(A485,Normalfordeling!D$2,Normalfordeling!D$3,TRUE)","v":0.43644053710854402}]
[{"$f":"(Normalfordeling!D$6-Normalfordeling!C$6)/1000+A485","v":4.849999999999941},{"$f":"NORMDIST(A486,Normalfordeling!D$2,Normalfordeling!D$3,FALSE)","v":0.39447933090788545},0,{"$f":"NORMDIST(A486,Normalfordeling!D$2,Normalfordeling!D$3,TRUE)","v":0.44038230762973418}]
[{"$f":"(Normalfordeling!D$6-Normalfordeling!C$6)/1000+A486","v":4.8599999999999408},{"$f":"NORMDIST(A487,Normalfordeling!D$2,Normalfordeling!D$3,FALSE)","v":0.39505174083460798},0,{"$f":"NORMDIST(A487,Normalfordeling!D$2,Normalfordeling!D$3,TRUE)","v":0.44432999519407018}]
[{"$f":"(Normalfordeling!D$6-Normalfordeling!C$6)/1000+A487","v":4.8699999999999406},{"$f":"NORMDIST(A488,Normalfordeling!D$2,Normalfordeling!D$3,FALSE)","v":0.39558542083768433},0,{"$f":"NORMDIST(A488,Normalfordeling!D$2,Normalfordeling!D$3,TRUE)","v":0.44828321334541538}]
[{"$f":"(Normalfordeling!D$6-Normalfordeling!C$6)/1000+A488","v":4.8799999999999404},{"$f":"NORMDIST(A489,Normalfordeling!D$2,Normalfordeling!D$3,FALSE)","v":0.39608021179365327},0,{"$f":"NORMDIST(A489,Normalfordeling!D$2,Normalfordeling!D$3,TRUE)","v":0.45224157397939252}]
[{"$f":"(Normalfordeling!D$6-Normalfordeling!C$6)/1000+A489","v":4.8899999999999402},{"$f":"NORMDIST(A490,Normalfordeling!D$2,Normalfordeling!D$3,FALSE)","v":0.39653596604568314},0,{"$f":"NORMDIST(A490,Normalfordeling!D$2,Normalfordeling!D$3,TRUE)","v":0.45620468745765946}]
[{"$f":"(Normalfordeling!D$6-Normalfordeling!C$6)/1000+A490","v":4.89999999999994},{"$f":"NORMDIST(A491,Normalfordeling!D$2,Normalfordeling!D$3,FALSE)","v":0.39695254747700942},0,{"$f":"NORMDIST(A491,Normalfordeling!D$2,Normalfordeling!D$3,TRUE)","v":0.46017216272294714}]
[{"$f":"(Normalfordeling!D$6-Normalfordeling!C$6)/1000+A491","v":4.9099999999999397},{"$f":"NORMDIST(A492,Normalfordeling!D$2,Normalfordeling!D$3,FALSE)","v":0.39732983157868618},0,{"$f":"NORMDIST(A492,Normalfordeling!D$2,Normalfordeling!D$3,TRUE)","v":0.46414360741480393}]
[{"$f":"(Normalfordeling!D$6-Normalfordeling!C$6)/1000+A492","v":4.9199999999999395},{"$f":"NORMDIST(A493,Normalfordeling!D$2,Normalfordeling!D$3,FALSE)","v":0.39766770551160696},0,{"$f":"NORMDIST(A493,Normalfordeling!D$2,Normalfordeling!D$3,TRUE)","v":0.46811862798598858}]
[{"$f":"(Normalfordeling!D$6-Normalfordeling!C$6)/1000+A493","v":4.9299999999999393},{"$f":"NORMDIST(A494,Normalfordeling!D$2,Normalfordeling!D$3,FALSE)","v":0.39796606816274932},0,{"$f":"NORMDIST(A494,Normalfordeling!D$2,Normalfordeling!D$3,TRUE)","v":0.47209682981945472}]
[{"$f":"(Normalfordeling!D$6-Normalfordeling!C$6)/1000+A494","v":4.9399999999999391},{"$f":"NORMDIST(A495,Normalfordeling!D$2,Normalfordeling!D$3,FALSE)","v":0.39822483019560545},0,{"$f":"NORMDIST(A495,Normalfordeling!D$2,Normalfordeling!D$3,TRUE)","v":0.4760778173458689}]
[{"$f":"(Normalfordeling!D$6-Normalfordeling!C$6)/1000+A495","v":4.9499999999999389},{"$f":"NORMDIST(A496,Normalfordeling!D$2,Normalfordeling!D$3,FALSE)","v":0.39844391409476282},0,{"$f":"NORMDIST(A496,Normalfordeling!D$2,Normalfordeling!D$3,TRUE)","v":0.4800611941616032}]
[{"$f":"(Normalfordeling!D$6-Normalfordeling!C$6)/1000+A496","v":4.9599999999999387},{"$f":"NORMDIST(A497,Normalfordeling!D$2,Normalfordeling!D$3,FALSE)","v":0.39862325420460404},0,{"$f":"NORMDIST(A497,Normalfordeling!D$2,Normalfordeling!D$3,TRUE)","v":0.48404656314714478}]
[{"$f":"(Normalfordeling!D$6-Normalfordeling!C$6)/1000+A497","v":4.9699999999999385},{"$f":"NORMDIST(A498,Normalfordeling!D$2,Normalfordeling!D$3,FALSE)","v":0.39876279676209897},0,{"$f":"NORMDIST(A498,Normalfordeling!D$2,Normalfordeling!D$3,TRUE)","v":0.4880335265858628}]
[{"$f":"(Normalfordeling!D$6-Normalfordeling!C$6)/1000+A498","v":4.9799999999999383},{"$f":"NORMDIST(A499,Normalfordeling!D$2,Normalfordeling!D$3,FALSE)","v":0.39886249992366563},0,{"$f":"NORMDIST(A499,Normalfordeling!D$2,Normalfordeling!D$3,TRUE)","v":0.49202168628307341}]
[{"$f":"(Normalfordeling!D$6-Normalfordeling!C$6)/1000+A499","v":4.989999999999938},{"$f":"NORMDIST(A500,Normalfordeling!D$2,Normalfordeling!D$3,FALSE)","v":0.39892233378608194},0,{"$f":"NORMDIST(A500,Normalfordeling!D$2,Normalfordeling!D$3,TRUE)","v":0.4960106436853437}]
[{"$f":"(Normalfordeling!D$6-Normalfordeling!C$6)/1000+A500","v":4.9999999999999378},{"$f":"NORMDIST(A501,Normalfordeling!D$2,Normalfordeling!D$3,FALSE)","v":0.3989422804014327},0,{"$f":"NORMDIST(A501,Normalfordeling!D$2,Normalfordeling!D$3,TRUE)","v":0.49999999999997519}]
[{"$f":"(Normalfordeling!D$6-Normalfordeling!C$6)/1000+A501","v":5.0099999999999376},{"$f":"NORMDIST(A502,Normalfordeling!D$2,Normalfordeling!D$3,FALSE)","v":0.39892233378608244},0,{"$f":"NORMDIST(A502,Normalfordeling!D$2,Normalfordeling!D$3,TRUE)","v":0.50398935631460673}]
[{"$f":"(Normalfordeling!D$6-Normalfordeling!C$6)/1000+A502","v":5.0199999999999374},{"$f":"NORMDIST(A503,Normalfordeling!D$2,Normalfordeling!D$3,FALSE)","v":0.39886249992366662},0,{"$f":"NORMDIST(A503,Normalfordeling!D$2,Normalfordeling!D$3,TRUE)","v":0.50797831371687696}]
[{"$f":"(Normalfordeling!D$6-Normalfordeling!C$6)/1000+A503","v":5.0299999999999372},{"$f":"NORMDIST(A504,Normalfordeling!D$2,Normalfordeling!D$3,FALSE)","v":0.39876279676210047},0,{"$f":"NORMDIST(A504,Normalfordeling!D$2,Normalfordeling!D$3,TRUE)","v":0.51196647341408763}]
[{"$f":"(Normalfordeling!D$6-Normalfordeling!C$6)/1000+A504","v":5.039999999999937},{"$f":"NORMDIST(A505,Normalfordeling!D$2,Normalfordeling!D$3,FALSE)","v":0.39862325420460604},0,{"$f":"NORMDIST(A505,Normalfordeling!D$2,Normalfordeling!D$3,TRUE)","v":0.51595343685280559}]
[{"$f":"(Normalfordeling!D$6-Normalfordeling!C$6)/1000+A505","v":5.0499999999999368},{"$f":"NORMDIST(A506,Normalfordeling!D$2,Normalfordeling!D$3,FALSE)","v":0.39844391409476526},0,{"$f":"NORMDIST(A506,Normalfordeling!D$2,Normalfordeling!D$3,TRUE)","v":0.51993880583834728}]
[{"$f":"(Normalfordeling!D$6-Normalfordeling!C$6)/1000+A506","v":5.0599999999999365},{"$f":"NORMDIST(A507,Normalfordeling!D$2,Normalfordeling!D$3,FALSE)","v":0.39822483019560845},0,{"$f":"NORMDIST(A507,Normalfordeling!D$2,Normalfordeling!D$3,TRUE)","v":0.52392218265408164}]
[{"$f":"(Normalfordeling!D$6-Normalfordeling!C$6)/1000+A507","v":5.0699999999999363},{"$f":"NORMDIST(A508,Normalfordeling!D$2,Normalfordeling!D$3,FALSE)","v":0.39796606816275276},0,{"$f":"NORMDIST(A508,Normalfordeling!D$2,Normalfordeling!D$3,TRUE)","v":0.52790317018049571}]
[{"$f":"(Normalfordeling!D$6-Normalfordeling!C$6)/1000+A508","v":5.0799999999999361},{"$f":"NORMDIST(A509,Normalfordeling!D$2,Normalfordeling!D$3,FALSE)","v":0.3976677055116109},0,{"$f":"NORMDIST(A509,Normalfordeling!D$2,Normalfordeling!D$3,TRUE)","v":0.53188137201396191}]
[{"$f":"(Normalfordeling!D$6-Normalfordeling!C$6)/1000+A509","v":5.0899999999999359},{"$f":"NORMDIST(A510,Normalfordeling!D$2,Normalfordeling!D$3,FALSE)","v":0.39732983157869062},0,{"$f":"NORMDIST(A510,Normalfordeling!D$2,Normalfordeling!D$3,TRUE)","v":0.53585639258514672}]
[{"$f":"(Normalfordeling!D$6-Normalfordeling!C$6)/1000+A510","v":5.0999999999999357},{"$f":"NORMDIST(A511,Normalfordeling!D$2,Normalfordeling!D$3,FALSE)","v":0.39695254747701436},0,{"$f":"NORMDIST(A511,Normalfordeling!D$2,Normalfordeling!D$3,TRUE)","v":0.53982783727700345}]
[{"$f":"(Normalfordeling!D$6-Normalfordeling!C$6)/1000+A511","v":5.1099999999999355},{"$f":"NORMDIST(A512,Normalfordeling!D$2,Normalfordeling!D$3,FALSE)","v":0.39653596604568858},0,{"$f":"NORMDIST(A512,Normalfordeling!D$2,Normalfordeling!D$3,TRUE)","v":0.54379531254229119}]
[{"$f":"(Normalfordeling!D$6-Normalfordeling!C$6)/1000+A512","v":5.1199999999999353},{"$f":"NORMDIST(A513,Normalfordeling!D$2,Normalfordeling!D$3,FALSE)","v":0.39608021179365915},0,{"$f":"NORMDIST(A513,Normalfordeling!D$2,Normalfordeling!D$3,TRUE)","v":0.54775842602055824}]
[{"$f":"(Normalfordeling!D$6-Normalfordeling!C$6)/1000+A513","v":5.1299999999999351},{"$f":"NORMDIST(A514,Normalfordeling!D$2,Normalfordeling!D$3,FALSE)","v":0.39558542083769077},{"$f":"IF(AND(A514>=$C$1001,A514<=$C$1002),B514,0)","v":0},{"$f":"NORMDIST(A514,Normalfordeling!D$2,Normalfordeling!D$3,TRUE)","v":0.55171678665453538}]
[{"$f":"(Normalfordeling!D$6-Normalfordeling!C$6)/1000+A514","v":5.1399999999999348},{"$f":"NORMDIST(A515,Normalfordeling!D$2,Normalfordeling!D$3,FALSE)","v":0.39505174083461481},0,{"$f":"NORMDIST(A515,Normalfordeling!D$2,Normalfordeling!D$3,TRUE)","v":0.55567000480588069}]
[{"$f":"(Normalfordeling!D$6-Normalfordeling!C$6)/1000+A515","v":5.1499999999999346},{"$f":"NORMDIST(A516,Normalfordeling!D$2,Normalfordeling!D$3,FALSE)","v":0.39447933090789278},0,{"$f":"NORMDIST(A516,Normalfordeling!D$2,Normalfordeling!D$3,TRUE)","v":0.55961769237021675}]
[{"$f":"(Normalfordeling!D$6-Normalfordeling!C$6)/1000+A516","v":5.1599999999999344},{"$f":"NORMDIST(A517,Normalfordeling!D$2,Normalfordeling!D$3,FALSE)","v":0.39386836156854493},0,{"$f":"NORMDIST(A517,Normalfordeling!D$2,Normalfordeling!D$3,TRUE)","v":0.56355946289140701}]
[{"$f":"(Normalfordeling!D$6-Normalfordeling!C$6)/1000+A517","v":5.1699999999999342},{"$f":"NORMDIST(A518,Normalfordeling!D$2,Normalfordeling!D$3,FALSE)","v":0.39321901463050163},0,{"$f":"NORMDIST(A518,Normalfordeling!D$2,Normalfordeling!D$3,TRUE)","v":0.56749493167501264}]
[{"$f":"(Normalfordeling!D$6-Normalfordeling!C$6)/1000+A518","v":5.179999999999934},{"$f":"NORMDIST(A519,Normalfordeling!D$2,Normalfordeling!D$3,FALSE)","v":0.39253148312043362},0,{"$f":"NORMDIST(A519,Normalfordeling!D$2,Normalfordeling!D$3,TRUE)","v":0.57142371590087482}]
[{"$f":"(Normalfordeling!D$6-Normalfordeling!C$6)/1000+A519","v":5.1899999999999338},{"$f":"NORMDIST(A520,Normalfordeling!D$2,Normalfordeling!D$3,FALSE)","v":0.39180597118212601},0,{"$f":"NORMDIST(A520,Normalfordeling!D$2,Normalfordeling!D$3,TRUE)","v":0.57534543473476951}]
[{"$f":"(Normalfordeling!D$6-Normalfordeling!C$6)/1000+A520","v":5.1999999999999336},{"$f":"NORMDIST(A521,Normalfordeling!D$2,Normalfordeling!D$3,FALSE)","v":0.3910426939754611},0,{"$f":"NORMDIST(A521,Normalfordeling!D$2,Normalfordeling!D$3,TRUE)","v":0.57925970943907701}]
[{"$f":"(Normalfordeling!D$6-Normalfordeling!C$6)/1000+A521","v":5.2099999999999334},{"$f":"NORMDIST(A522,Normalfordeling!D$2,Normalfordeling!D$3,FALSE)","v":0.39024187757007978},0,{"$f":"NORMDIST(A522,Normalfordeling!D$2,Normalfordeling!D$3,TRUE)","v":0.58316616348241634}]
[{"$f":"(Normalfordeling!D$6-Normalfordeling!C$6)/1000+A522","v":5.2199999999999331},{"$f":"NORMDIST(A523,Normalfordeling!D$2,Normalfordeling!D$3,FALSE)","v":0.38940375883379619},0,{"$f":"NORMDIST(A523,Normalfordeling!D$2,Normalfordeling!D$3,TRUE)","v":0.58706442264818859}]
[{"$f":"(Normalfordeling!D$6-Normalfordeling!C$6)/1000+A523","v":5.2299999999999329},{"$f":"NORMDIST(A524,Normalfordeling!D$2,Normalfordeling!D$3,FALSE)","v":0.38852858531584189},0,{"$f":"NORMDIST(A524,Normalfordeling!D$2,Normalfordeling!D$3,TRUE)","v":0.59095411514197982}]
[{"$f":"(Normalfordeling!D$6-Normalfordeling!C$6)/1000+A524","v":5.2399999999999327},{"$f":"NORMDIST(A525,Normalfordeling!D$2,Normalfordeling!D$3,FALSE)","v":0.38761661512502038},0,{"$f":"NORMDIST(A525,Normalfordeling!D$2,Normalfordeling!D$3,TRUE)","v":0.59483487169776983}]
[{"$f":"(Normalfordeling!D$6-Normalfordeling!C$6)/1000+A525","v":5.2499999999999325},{"$f":"NORMDIST(A526,Normalfordeling!D$2,Normalfordeling!D$3,FALSE)","v":0.38666811680285579},0,{"$f":"NORMDIST(A526,Normalfordeling!D$2,Normalfordeling!D$3,TRUE)","v":0.59870632568289761}]
[{"$f":"(Normalfordeling!D$6-Normalfordeling!C$6)/1000+A526","v":5.2599999999999323},{"$f":"NORMDIST(A527,Normalfordeling!D$2,Normalfordeling!D$3,FALSE)","v":0.38568336919182289},0,{"$f":"NORMDIST(A527,Normalfordeling!D$2,Normalfordeling!D$3,TRUE)","v":0.60256811320173442}]
[{"$f":"(Normalfordeling!D$6-Normalfordeling!C$6)/1000+A527","v":5.2699999999999321},{"$f":"NORMDIST(A528,Normalfordeling!D$2,Normalfordeling!D$3,FALSE)","v":0.38466266129874988},0,{"$f":"NORMDIST(A528,Normalfordeling!D$2,Normalfordeling!D$3,TRUE)","v":0.60641987319801338}]
[{"$f":"(Normalfordeling!D$6-Normalfordeling!C$6)/1000+A528","v":5.2799999999999319},{"$f":"NORMDIST(A529,Normalfordeling!D$2,Normalfordeling!D$3,FALSE)","v":0.38360629215348585},0,{"$f":"NORMDIST(A529,Normalfordeling!D$2,Normalfordeling!D$3,TRUE)","v":0.61026124755577116}]
[{"$f":"(Normalfordeling!D$6-Normalfordeling!C$6)/1000+A529","v":5.2899999999999316},{"$f":"NORMDIST(A530,Normalfordeling!D$2,Normalfordeling!D$3,FALSE)","v":0.3825145706629316},0,{"$f":"NORMDIST(A530,Normalfordeling!D$2,Normalfordeling!D$3,TRUE)","v":0.61409188119885116}]
[{"$f":"(Normalfordeling!D$6-Normalfordeling!C$6)/1000+A530","v":5.2999999999999314},{"$f":"NORMDIST(A531,Normalfordeling!D$2,Normalfordeling!D$3,FALSE)","v":0.38138781546053196},0,{"$f":"NORMDIST(A531,Normalfordeling!D$2,Normalfordeling!D$3,TRUE)","v":0.61791142218892647}]
[{"$f":"(Normalfordeling!D$6-Normalfordeling!C$6)/1000+A531","v":5.3099999999999312},{"$f":"NORMDIST(A532,Normalfordeling!D$2,Normalfordeling!D$3,FALSE)","v":0.38022635475133304},0,{"$f":"NORMDIST(A532,Normalfordeling!D$2,Normalfordeling!D$3,TRUE)","v":0.62171952182199319}]
[{"$f":"(Normalfordeling!D$6-Normalfordeling!C$6)/1000+A532","v":5.319999999999931},{"$f":"NORMDIST(A533,Normalfordeling!D$2,Normalfordeling!D$3,FALSE)","v":0.37903052615271005},0,{"$f":"NORMDIST(A533,Normalfordeling!D$2,Normalfordeling!D$3,TRUE)","v":0.62551583472329386}]
[{"$f":"(Normalfordeling!D$6-Normalfordeling!C$6)/1000+A533","v":5.3299999999999308},{"$f":"NORMDIST(A534,Normalfordeling!D$2,Normalfordeling!D$3,FALSE)","v":0.37780067653087324},0,{"$f":"NORMDIST(A534,Normalfordeling!D$2,Normalfordeling!D$3,TRUE)","v":0.62930001894062737}]
[{"$f":"(Normalfordeling!D$6-Normalfordeling!C$6)/1000+A534","v":5.3399999999999306},{"$f":"NORMDIST(A535,Normalfordeling!D$2,Normalfordeling!D$3,FALSE)","v":0.37653716183326286},0,{"$f":"NORMDIST(A535,Normalfordeling!D$2,Normalfordeling!D$3,TRUE)","v":0.63307173603600198}]
[{"$f":"(Normalfordeling!D$6-Normalfordeling!C$6)/1000+A535","v":5.3499999999999304},{"$f":"NORMDIST(A536,Normalfordeling!D$2,Normalfordeling!D$3,FALSE)","v":0.37524034691694702},0,{"$f":"NORMDIST(A536,Normalfordeling!D$2,Normalfordeling!D$3,TRUE)","v":0.63683065117559301}]
[{"$f":"(Normalfordeling!D$6-Normalfordeling!C$6)/1000+A536","v":5.3599999999999302},{"$f":"NORMDIST(A537,Normalfordeling!D$2,Normalfordeling!D$3,FALSE)","v":0.37391060537313781},0,{"$f":"NORMDIST(A537,Normalfordeling!D$2,Normalfordeling!D$3,TRUE)","v":0.64057643321796509}]
[{"$f":"(Normalfordeling!D$6-Normalfordeling!C$6)/1000+A537","v":5.3699999999999299},{"$f":"NORMDIST(A538,Normalfordeling!D$2,Normalfordeling!D$3,FALSE)","v":0.37254831934794308},0,{"$f":"NORMDIST(A538,Normalfordeling!D$2,Normalfordeling!D$3,TRUE)","v":0.64430875480052063}]
[{"$f":"(Normalfordeling!D$6-Normalfordeling!C$6)/1000+A538","v":5.3799999999999297},{"$f":"NORMDIST(A539,Normalfordeling!D$2,Normalfordeling!D$3,FALSE)","v":0.37115387935947591},0,{"$f":"NORMDIST(A539,Normalfordeling!D$2,Normalfordeling!D$3,TRUE)","v":0.6480272924241367}]
[{"$f":"(Normalfordeling!D$6-Normalfordeling!C$6)/1000+A539","v":5.3899999999999295},{"$f":"NORMDIST(A540,Normalfordeling!D$2,Normalfordeling!D$3,FALSE)","v":0.36972768411144252},0,{"$f":"NORMDIST(A540,Normalfordeling!D$2,Normalfordeling!D$3,TRUE)","v":0.65173172653595635}]
[{"$f":"(Normalfordeling!D$6-Normalfordeling!C$6)/1000+A540","v":5.3999999999999293},{"$f":"NORMDIST(A541,Normalfordeling!D$2,Normalfordeling!D$3,FALSE)","v":0.36827014030333372},0,{"$f":"NORMDIST(A541,Normalfordeling!D$2,Normalfordeling!D$3,TRUE)","v":0.6554217416102982}]
[{"$f":"(Normalfordeling!D$6-Normalfordeling!C$6)/1000+A541","v":5.4099999999999291},{"$f":"NORMDIST(A542,Normalfordeling!D$2,Normalfordeling!D$3,FALSE)","v":0.36678166243734678},0,{"$f":"NORMDIST(A542,Normalfordeling!D$2,Normalfordeling!D$3,TRUE)","v":0.65909702622765143}]
[{"$f":"(Normalfordeling!D$6-Normalfordeling!C$6)/1000+A542","v":5.4199999999999289},{"$f":"NORMDIST(A543,Normalfordeling!D$2,Normalfordeling!D$3,FALSE)","v":0.36526267262216477},0,{"$f":"NORMDIST(A543,Normalfordeling!D$2,Normalfordeling!D$3,TRUE)","v":0.6627572731517245}]
[{"$f":"(Normalfordeling!D$6-Normalfordeling!C$6)/1000+A543","v":5.4299999999999287},{"$f":"NORMDIST(A544,Normalfordeling!D$2,Normalfordeling!D$3,FALSE)","v":0.36371360037372458},0,{"$f":"NORMDIST(A544,Normalfordeling!D$2,Normalfordeling!D$3,TRUE)","v":0.6664021794045164}]
[{"$f":"(Normalfordeling!D$6-Normalfordeling!C$6)/1000+A544","v":5.4399999999999284},{"$f":"NORMDIST(A545,Normalfordeling!D$2,Normalfordeling!D$3,FALSE)","v":0.3621348824131036},0,{"$f":"NORMDIST(A545,Normalfordeling!D$2,Normalfordeling!D$3,TRUE)","v":0.67003144633938039}]
[{"$f":"(Normalfordeling!D$6-Normalfordeling!C$6)/1000+A545","v":5.4499999999999282},{"$f":"NORMDIST(A546,Normalfordeling!D$2,Normalfordeling!D$3,FALSE)","v":0.36052696246165961},0,{"$f":"NORMDIST(A546,Normalfordeling!D$2,Normalfordeling!D$3,TRUE)","v":0.67364477971205416}]
[{"$f":"(Normalfordeling!D$6-Normalfordeling!C$6)/1000+A546","v":5.459999999999928},{"$f":"NORMDIST(A547,Normalfordeling!D$2,Normalfordeling!D$3,FALSE)","v":0.35889029103355646},0,{"$f":"NORMDIST(A547,Normalfordeling!D$2,Normalfordeling!D$3,TRUE)","v":0.67724188974962651}]
[{"$f":"(Normalfordeling!D$6-Normalfordeling!C$6)/1000+A547","v":5.4699999999999278},{"$f":"NORMDIST(A548,Normalfordeling!D$2,Normalfordeling!D$3,FALSE)","v":0.35722532522581291},0,{"$f":"NORMDIST(A548,Normalfordeling!D$2,Normalfordeling!D$3,TRUE)","v":0.68082249121741845}]
[{"$f":"(Normalfordeling!D$6-Normalfordeling!C$6)/1000+A548","v":5.4799999999999276},{"$f":"NORMDIST(A549,Normalfordeling!D$2,Normalfordeling!D$3,FALSE)","v":0.35553252850600942},0,{"$f":"NORMDIST(A549,Normalfordeling!D$2,Normalfordeling!D$3,TRUE)","v":0.68438630348375162}]
[{"$f":"(Normalfordeling!D$6-Normalfordeling!C$6)/1000+A549","v":5.4899999999999274},{"$f":"NORMDIST(A550,Normalfordeling!D$2,Normalfordeling!D$3,FALSE)","v":0.35381237049779229},0,{"$f":"NORMDIST(A550,Normalfordeling!D$2,Normalfordeling!D$3,TRUE)","v":0.6879330505825838}]
[{"$f":"(Normalfordeling!D$6-Normalfordeling!C$6)/1000+A550","v":5.4999999999999272},{"$f":"NORMDIST(A551,Normalfordeling!D$2,Normalfordeling!D$3,FALSE)","v":0.35206532676431235},0,{"$f":"NORMDIST(A551,Normalfordeling!D$2,Normalfordeling!D$3,TRUE)","v":0.69146246127398747}]
[{"$f":"(Normalfordeling!D$6-Normalfordeling!C$6)/1000+A551","v":5.509999999999927},{"$f":"NORMDIST(A552,Normalfordeling!D$2,Normalfordeling!D$3,FALSE)","v":0.35029187858973887},0,{"$f":"NORMDIST(A552,Normalfordeling!D$2,Normalfordeling!D$3,TRUE)","v":0.69497426910245497}]
[{"$f":"(Normalfordeling!D$6-Normalfordeling!C$6)/1000+A552","v":5.5199999999999267},{"$f":"NORMDIST(A553,Normalfordeling!D$2,Normalfordeling!D$3,FALSE)","v":0.34849251275898779},0,{"$f":"NORMDIST(A553,Normalfordeling!D$2,Normalfordeling!D$3,TRUE)","v":0.69846821245300827}]
[{"$f":"(Normalfordeling!D$6-Normalfordeling!C$6)/1000+A553","v":5.5299999999999265},{"$f":"NORMDIST(A554,Normalfordeling!D$2,Normalfordeling!D$3,FALSE)","v":0.34666772133580515},0,{"$f":"NORMDIST(A554,Normalfordeling!D$2,Normalfordeling!D$3,TRUE)","v":0.70194403460509813}]
[{"$f":"(Normalfordeling!D$6-Normalfordeling!C$6)/1000+A554","v":5.5399999999999263},{"$f":"NORMDIST(A555,Normalfordeling!D$2,Normalfordeling!D$3,FALSE)","v":0.3448180014393471},0,{"$f":"NORMDIST(A555,Normalfordeling!D$2,Normalfordeling!D$3,TRUE)","v":0.70540148378427658}]
[{"$f":"(Normalfordeling!D$6-Normalfordeling!C$6)/1000+A555","v":5.5499999999999261},{"$f":"NORMDIST(A556,Normalfordeling!D$2,Normalfordeling!D$3,FALSE)","v":0.34294385501939784},0,{"$f":"NORMDIST(A556,Normalfordeling!D$2,Normalfordeling!D$3,TRUE)","v":0.70884031321162833}]
[{"$f":"(Normalfordeling!D$6-Normalfordeling!C$6)/1000+A556","v":5.5599999999999259},{"$f":"NORMDIST(A557,Normalfordeling!D$2,Normalfordeling!D$3,FALSE)","v":0.34104578863036666},0,{"$f":"NORMDIST(A557,Normalfordeling!D$2,Normalfordeling!D$3,TRUE)","v":0.71226028115094775}]
[{"$f":"(Normalfordeling!D$6-Normalfordeling!C$6)/1000+A557","v":5.5699999999999257},{"$f":"NORMDIST(A558,Normalfordeling!D$2,Normalfordeling!D$3,FALSE)","v":0.33912431320420655},0,{"$f":"NORMDIST(A558,Normalfordeling!D$2,Normalfordeling!D$3,TRUE)","v":0.71566115095365057}]
[{"$f":"(Normalfordeling!D$6-Normalfordeling!C$6)/1000+A558","v":5.5799999999999255},{"$f":"NORMDIST(A559,Normalfordeling!D$2,Normalfordeling!D$3,FALSE)","v":0.33717994382239513},0,{"$f":"NORMDIST(A559,Normalfordeling!D$2,Normalfordeling!D$3,TRUE)","v":0.7190426911014105}]
[{"$f":"(Normalfordeling!D$6-Normalfordeling!C$6)/1000+A559","v":5.5899999999999253},{"$f":"NORMDIST(A560,Normalfordeling!D$2,Normalfordeling!D$3,FALSE)","v":0.33521319948712092},0,{"$f":"NORMDIST(A560,Normalfordeling!D$2,Normalfordeling!D$3,TRUE)","v":0.72240467524651009}]
[{"$f":"(Normalfordeling!D$6-Normalfordeling!C$6)/1000+A560","v":5.599999999999925},{"$f":"NORMDIST(A561,Normalfordeling!D$2,Normalfordeling!D$3,FALSE)","v":0.33322460289181466},0,{"$f":"NORMDIST(A561,Normalfordeling!D$2,Normalfordeling!D$3,TRUE)","v":0.72574688224990147}]
[{"$f":"(Normalfordeling!D$6-Normalfordeling!C$6)/1000+A561","v":5.6099999999999248},{"$f":"NORMDIST(A562,Normalfordeling!D$2,Normalfordeling!D$3,FALSE)","v":0.33121468019116818},0,{"$f":"NORMDIST(A562,Normalfordeling!D$2,Normalfordeling!D$3,TRUE)","v":0.72906909621696947}]
[{"$f":"(Normalfordeling!D$6-Normalfordeling!C$6)/1000+A562","v":5.6199999999999246},{"$f":"NORMDIST(A563,Normalfordeling!D$2,Normalfordeling!D$3,FALSE)","v":0.32918396077078022},0,{"$f":"NORMDIST(A563,Normalfordeling!D$2,Normalfordeling!D$3,TRUE)","v":0.73237110653099213}]
[{"$f":"(Normalfordeling!D$6-Normalfordeling!C$6)/1000+A563","v":5.6299999999999244},{"$f":"NORMDIST(A564,Normalfordeling!D$2,Normalfordeling!D$3,FALSE)","v":0.32713297701657007},0,{"$f":"NORMDIST(A564,Normalfordeling!D$2,Normalfordeling!D$3,TRUE)","v":0.73565270788429771}]
[{"$f":"(Normalfordeling!D$6-Normalfordeling!C$6)/1000+A564","v":5.6399999999999242},{"$f":"NORMDIST(A565,Normalfordeling!D$2,Normalfordeling!D$3,FALSE)","v":0.32506226408409794},0,{"$f":"NORMDIST(A565,Normalfordeling!D$2,Normalfordeling!D$3,TRUE)","v":0.73891370030711379}]
[{"$f":"(Normalfordeling!D$6-Normalfordeling!C$6)/1000+A565","v":5.649999999999924},{"$f":"NORMDIST(A566,Normalfordeling!D$2,Normalfordeling!D$3,FALSE)","v":0.32297235966793025},0,{"$f":"NORMDIST(A566,Normalfordeling!D$2,Normalfordeling!D$3,TRUE)","v":0.74215388919411074}]
[{"$f":"(Normalfordeling!D$6-Normalfordeling!C$6)/1000+A566","v":5.6599999999999238},{"$f":"NORMDIST(A567,Normalfordeling!D$2,Normalfordeling!D$3,FALSE)","v":0.32086380377118867},0,{"$f":"NORMDIST(A567,Normalfordeling!D$2,Normalfordeling!D$3,TRUE)","v":0.74537308532863933}]
[{"$f":"(Normalfordeling!D$6-Normalfordeling!C$6)/1000+A567","v":5.6699999999999235},{"$f":"NORMDIST(A568,Normalfordeling!D$2,Normalfordeling!D$3,FALSE)","v":0.31873713847541785},0,{"$f":"NORMDIST(A568,Normalfordeling!D$2,Normalfordeling!D$3,TRUE)","v":0.7485711049046655}]
[{"$f":"(Normalfordeling!D$6-Normalfordeling!C$6)/1000+A568","v":5.6799999999999233},{"$f":"NORMDIST(A569,Normalfordeling!D$2,Normalfordeling!D$3,FALSE)","v":0.31659290771090931},0,{"$f":"NORMDIST(A569,Normalfordeling!D$2,Normalfordeling!D$3,TRUE)","v":0.75174776954640521}]
[{"$f":"(Normalfordeling!D$6-Normalfordeling!C$6)/1000+A569","v":5.6899999999999231},{"$f":"NORMDIST(A570,Normalfordeling!D$2,Normalfordeling!D$3,FALSE)","v":0.314431657027614},0,{"$f":"NORMDIST(A570,Normalfordeling!D$2,Normalfordeling!D$3,TRUE)","v":0.75490290632566648}]
[{"$f":"(Normalfordeling!D$6-Normalfordeling!C$6)/1000+A570","v":5.6999999999999229},{"$f":"NORMDIST(A571,Normalfordeling!D$2,Normalfordeling!D$3,FALSE)","v":0.31225393336677815},0,{"$f":"NORMDIST(A571,Normalfordeling!D$2,Normalfordeling!D$3,TRUE)","v":0.75803634777690299}]
[{"$f":"(Normalfordeling!D$6-Normalfordeling!C$6)/1000+A571","v":5.7099999999999227},{"$f":"NORMDIST(A572,Normalfordeling!D$2,Normalfordeling!D$3,FALSE)","v":0.31006028483343318},0,{"$f":"NORMDIST(A572,Normalfordeling!D$2,Normalfordeling!D$3,TRUE)","v":0.76114793190998931}]
[{"$f":"(Normalfordeling!D$6-Normalfordeling!C$6)/1000+A572","v":5.7199999999999225},{"$f":"NORMDIST(A573,Normalfordeling!D$2,Normalfordeling!D$3,FALSE)","v":0.3078512604698701},0,{"$f":"NORMDIST(A573,Normalfordeling!D$2,Normalfordeling!D$3,TRUE)","v":0.76423750222072506}]
[{"$f":"(Normalfordeling!D$6-Normalfordeling!C$6)/1000+A573","v":5.7299999999999223},{"$f":"NORMDIST(A574,Normalfordeling!D$2,Normalfordeling!D$3,FALSE)","v":0.30562741003022725},0,{"$f":"NORMDIST(A574,Normalfordeling!D$2,Normalfordeling!D$3,TRUE)","v":0.76730490769907878}]
[{"$f":"(Normalfordeling!D$6-Normalfordeling!C$6)/1000+A574","v":5.7399999999999221},{"$f":"NORMDIST(A575,Normalfordeling!D$2,Normalfordeling!D$3,FALSE)","v":0.30338928375631763},0,{"$f":"NORMDIST(A575,Normalfordeling!D$2,Normalfordeling!D$3,TRUE)","v":0.77035000283518584}]
[{"$f":"(Normalfordeling!D$6-Normalfordeling!C$6)/1000+A575","v":5.7499999999999218},{"$f":"NORMDIST(A576,Normalfordeling!D$2,Normalfordeling!D$3,FALSE)","v":0.30113743215482208},0,{"$f":"NORMDIST(A576,Normalfordeling!D$2,Normalfordeling!D$3,TRUE)","v":0.77337264762310831}]
[{"$f":"(Normalfordeling!D$6-Normalfordeling!C$6)/1000+A576","v":5.7599999999999216},{"$f":"NORMDIST(A577,Normalfordeling!D$2,Normalfordeling!D$3,FALSE)","v":0.29887240577597057},0,{"$f":"NORMDIST(A577,Normalfordeling!D$2,Normalfordeling!D$3,TRUE)","v":0.7763727075623772}]
[{"$f":"(Normalfordeling!D$6-Normalfordeling!C$6)/1000+A577","v":5.7699999999999214},{"$f":"NORMDIST(A578,Normalfordeling!D$2,Normalfordeling!D$3,FALSE)","v":0.29659475499383364},{"$f":"IF(AND(A578>=$C$1001,A578<=$C$1002),B578,0)","v":0},{"$f":"NORMDIST(A578,Normalfordeling!D$2,Normalfordeling!D$3,TRUE)","v":0.77935005365732712}]
[{"$f":"(Normalfordeling!D$6-Normalfordeling!C$6)/1000+A578","v":5.7799999999999212},{"$f":"NORMDIST(A579,Normalfordeling!D$2,Normalfordeling!D$3,FALSE)","v":0.29430502978834328},0,{"$f":"NORMDIST(A579,Normalfordeling!D$2,Normalfordeling!D$3,TRUE)","v":0.78230456241424362}]
[{"$f":"(Normalfordeling!D$6-Normalfordeling!C$6)/1000+A579","v":5.789999999999921},{"$f":"NORMDIST(A580,Normalfordeling!D$2,Normalfordeling!D$3,FALSE)","v":0.29200377952915968},0,{"$f":"NORMDIST(A580,Normalfordeling!D$2,Normalfordeling!D$3,TRUE)","v":0.78523611583633979}]
[{"$f":"(Normalfordeling!D$6-Normalfordeling!C$6)/1000+A580","v":5.7999999999999208},{"$f":"NORMDIST(A581,Normalfordeling!D$2,Normalfordeling!D$3,FALSE)","v":0.2896915527615011},0,{"$f":"NORMDIST(A581,Normalfordeling!D$2,Normalfordeling!D$3,TRUE)","v":0.78814460141658038}]
[{"$f":"(Normalfordeling!D$6-Normalfordeling!C$6)/1000+A581","v":5.8099999999999206},{"$f":"NORMDIST(A582,Normalfordeling!D$2,Normalfordeling!D$3,FALSE)","v":0.28736889699404677},0,{"$f":"NORMDIST(A582,Normalfordeling!D$2,Normalfordeling!D$3,TRUE)","v":0.79102991212837559}]
[{"$f":"(Normalfordeling!D$6-Normalfordeling!C$6)/1000+A582","v":5.8199999999999203},{"$f":"NORMDIST(A583,Normalfordeling!D$2,Normalfordeling!D$3,FALSE)","v":0.28503635848902587},0,{"$f":"NORMDIST(A583,Normalfordeling!D$2,Normalfordeling!D$3,TRUE)","v":0.79389194641416427}]
[{"$f":"(Normalfordeling!D$6-Normalfordeling!C$6)/1000+A583","v":5.8299999999999201},{"$f":"NORMDIST(A584,Normalfordeling!D$2,Normalfordeling!D$3,FALSE)","v":0.28269448205459896},0,{"$f":"NORMDIST(A584,Normalfordeling!D$2,Normalfordeling!D$3,TRUE)","v":0.79673060817190899}]
[{"$f":"(Normalfordeling!D$6-Normalfordeling!C$6)/1000+A584","v":5.8399999999999199},{"$f":"NORMDIST(A585,Normalfordeling!D$2,Normalfordeling!D$3,FALSE)","v":0.28034381083963944},0,{"$f":"NORMDIST(A585,Normalfordeling!D$2,Normalfordeling!D$3,TRUE)","v":0.79954580673952791}]
[{"$f":"(Normalfordeling!D$6-Normalfordeling!C$6)/1000+A585","v":5.8499999999999197},{"$f":"NORMDIST(A586,Normalfordeling!D$2,Normalfordeling!D$3,FALSE)","v":0.27798488613101546},0,{"$f":"NORMDIST(A586,Normalfordeling!D$2,Normalfordeling!D$3,TRUE)","v":0.8023374568772853}]
[{"$f":"(Normalfordeling!D$6-Normalfordeling!C$6)/1000+A586","v":5.8599999999999195},{"$f":"NORMDIST(A587,Normalfordeling!D$2,Normalfordeling!D$3,FALSE)","v":0.27561824715347577},0,{"$f":"NORMDIST(A587,Normalfordeling!D$2,Normalfordeling!D$3,TRUE)","v":0.80510547874816951}]
[{"$f":"(Normalfordeling!D$6-Normalfordeling!C$6)/1000+A587","v":5.8699999999999193},{"$f":"NORMDIST(A588,Normalfordeling!D$2,Normalfordeling!D$3,FALSE)","v":0.27324443087223543},0,{"$f":"NORMDIST(A588,Normalfordeling!D$2,Normalfordeling!D$3,TRUE)","v":0.80784979789628175}]
[{"$f":"(Normalfordeling!D$6-Normalfordeling!C$6)/1000+A588","v":5.8799999999999191},{"$f":"NORMDIST(A589,Normalfordeling!D$2,Normalfordeling!D$3,FALSE)","v":0.27086397179835731},0,{"$f":"NORMDIST(A589,Normalfordeling!D$2,Normalfordeling!D$3,TRUE)","v":0.81057034522326599}]
[{"$f":"(Normalfordeling!D$6-Normalfordeling!C$6)/1000+A589","v":5.8899999999999189},{"$f":"NORMDIST(A590,Normalfordeling!D$2,Normalfordeling!D$3,FALSE)","v":0.26847740179702179},0,{"$f":"NORMDIST(A590,Normalfordeling!D$2,Normalfordeling!D$3,TRUE)","v":0.81326705696280555}]
[{"$f":"(Normalfordeling!D$6-Normalfordeling!C$6)/1000+A590","v":5.8999999999999186},{"$f":"NORMDIST(A591,Normalfordeling!D$2,Normalfordeling!D$3,FALSE)","v":0.2660852498987743},0,{"$f":"NORMDIST(A591,Normalfordeling!D$2,Normalfordeling!D$3,TRUE)","v":0.81593987465321893}]
[{"$f":"(Normalfordeling!D$6-Normalfordeling!C$6)/1000+A591","v":5.9099999999999184},{"$f":"NORMDIST(A592,Normalfordeling!D$2,Normalfordeling!D$3,FALSE)","v":0.26368804211383773},0,{"$f":"NORMDIST(A592,Normalfordeling!D$2,Normalfordeling!D$3,TRUE)","v":0.81858874510818125}]
[{"$f":"(Normalfordeling!D$6-Normalfordeling!C$6)/1000+A592","v":5.9199999999999182},{"$f":"NORMDIST(A593,Normalfordeling!D$2,Normalfordeling!D$3,FALSE)","v":0.26128630124957281},0,{"$f":"NORMDIST(A593,Normalfordeling!D$2,Normalfordeling!D$3,TRUE)","v":0.82121362038560686}]
[{"$f":"(Normalfordeling!D$6-Normalfordeling!C$6)/1000+A593","v":5.929999999999918},{"$f":"NORMDIST(A594,Normalfordeling!D$2,Normalfordeling!D$3,FALSE)","v":0.25888054673116861},0,{"$f":"NORMDIST(A594,Normalfordeling!D$2,Normalfordeling!D$3,TRUE)","v":0.82381445775472084}]
[{"$f":"(Normalfordeling!D$6-Normalfordeling!C$6)/1000+A594","v":5.9399999999999178},{"$f":"NORMDIST(A595,Normalfordeling!D$2,Normalfordeling!D$3,FALSE)","v":0.25647129442564021},0,{"$f":"NORMDIST(A595,Normalfordeling!D$2,Normalfordeling!D$3,TRUE)","v":0.82639121966135431}]
[{"$f":"(Normalfordeling!D$6-Normalfordeling!C$6)/1000+A595","v":5.9499999999999176},{"$f":"NORMDIST(A596,Normalfordeling!D$2,Normalfordeling!D$3,FALSE)","v":0.2540590564692089},0,{"$f":"NORMDIST(A596,Normalfordeling!D$2,Normalfordeling!D$3,TRUE)","v":0.82894387369149725}]
[{"$f":"(Normalfordeling!D$6-Normalfordeling!C$6)/1000+A596","v":5.9599999999999174},{"$f":"NORMDIST(A597,Normalfordeling!D$2,Normalfordeling!D$3,FALSE)","v":0.25164434109813705},0,{"$f":"NORMDIST(A597,Normalfordeling!D$2,Normalfordeling!D$3,TRUE)","v":0.83147239253314131}]
[{"$f":"(Normalfordeling!D$6-Normalfordeling!C$6)/1000+A597","v":5.9699999999999172},{"$f":"NORMDIST(A598,Normalfordeling!D$2,Normalfordeling!D$3,FALSE)","v":0.24922765248308595},0,{"$f":"NORMDIST(A598,Normalfordeling!D$2,Normalfordeling!D$3,TRUE)","v":0.83397675393644977}]
[{"$f":"(Normalfordeling!D$6-Normalfordeling!C$6)/1000+A598","v":5.9799999999999169},{"$f":"NORMDIST(A599,Normalfordeling!D$2,Normalfordeling!D$3,FALSE)","v":0.24680949056706283},0,{"$f":"NORMDIST(A599,Normalfordeling!D$2,Normalfordeling!D$3,TRUE)","v":0.83645694067228715}]
[{"$f":"(Normalfordeling!D$6-Normalfordeling!C$6)/1000+A599","v":5.9899999999999167},{"$f":"NORMDIST(A600,Normalfordeling!D$2,Normalfordeling!D$3,FALSE)","v":0.24439035090701972},0,{"$f":"NORMDIST(A600,Normalfordeling!D$2,Normalfordeling!D$3,TRUE)","v":0.83891294048914877}]
[{"$f":"(Normalfordeling!D$6-Normalfordeling!C$6)/1000+A600","v":5.9999999999999165},{"$f":"NORMDIST(A601,Normalfordeling!D$2,Normalfordeling!D$3,FALSE)","v":0.24197072451916357},0,{"$f":"NORMDIST(A601,Normalfordeling!D$2,Normalfordeling!D$3,TRUE)","v":0.84134474606852283}]
[{"$f":"(Normalfordeling!D$6-Normalfordeling!C$6)/1000+A601","v":6.0099999999999163},{"$f":"NORMDIST(A602,Normalfordeling!D$2,Normalfordeling!D$3,FALSE)","v":0.2395510977280336},0,{"$f":"NORMDIST(A602,Normalfordeling!D$2,Normalfordeling!D$3,TRUE)","v":0.84375235497872536}]
[{"$f":"(Normalfordeling!D$6-Normalfordeling!C$6)/1000+A602","v":6.0199999999999161},{"$f":"NORMDIST(A603,Normalfordeling!D$2,Normalfordeling!D$3,FALSE)","v":0.23713195201939988},0,{"$f":"NORMDIST(A603,Normalfordeling!D$2,Normalfordeling!D$3,TRUE)","v":0.84613576962724535}]
[{"$f":"(Normalfordeling!D$6-Normalfordeling!C$6)/1000+A603","v":6.0299999999999159},{"$f":"NORMDIST(A604,Normalfordeling!D$2,Normalfordeling!D$3,FALSE)","v":0.23471376389703211},0,{"$f":"NORMDIST(A604,Normalfordeling!D$2,Normalfordeling!D$3,TRUE)","v":0.84849499721163657}]
[{"$f":"(Normalfordeling!D$6-Normalfordeling!C$6)/1000+A604","v":6.0399999999999157},{"$f":"NORMDIST(A605,Normalfordeling!D$2,Normalfordeling!D$3,FALSE)","v":0.2322970047433866},0,{"$f":"NORMDIST(A605,Normalfordeling!D$2,Normalfordeling!D$3,TRUE)","v":0.85083004966899911}]
[{"$f":"(Normalfordeling!D$6-Normalfordeling!C$6)/1000+A605","v":6.0499999999999154},{"$f":"NORMDIST(A606,Normalfordeling!D$2,Normalfordeling!D$3,FALSE)","v":0.22988214068425342},0,{"$f":"NORMDIST(A606,Normalfordeling!D$2,Normalfordeling!D$3,TRUE)","v":0.85314094362408466}]
[{"$f":"(Normalfordeling!D$6-Normalfordeling!C$6)/1000+A606","v":6.0599999999999152},{"$f":"NORMDIST(A607,Normalfordeling!D$2,Normalfordeling!D$3,FALSE)","v":0.22746963245740631},0,{"$f":"NORMDIST(A607,Normalfordeling!D$2,Normalfordeling!D$3,TRUE)","v":0.85542770033607107}]
[{"$f":"(Normalfordeling!D$6-Normalfordeling!C$6)/1000+A607","v":6.069999999999915},{"$f":"NORMDIST(A608,Normalfordeling!D$2,Normalfordeling!D$3,FALSE)","v":0.22505993528529014},0,{"$f":"NORMDIST(A608,Normalfordeling!D$2,Normalfordeling!D$3,TRUE)","v":0.85769034564404167}]
[{"$f":"(Normalfordeling!D$6-Normalfordeling!C$6)/1000+A608","v":6.0799999999999148},{"$f":"NORMDIST(A609,Normalfordeling!D$2,Normalfordeling!D$3,FALSE)","v":0.22265349875178161},0,{"$f":"NORMDIST(A609,Normalfordeling!D$2,Normalfordeling!D$3,TRUE)","v":0.85992890991121196}]
[{"$f":"(Normalfordeling!D$6-Normalfordeling!C$6)/1000+A609","v":6.0899999999999146},{"$f":"NORMDIST(A610,Normalfordeling!D$2,Normalfordeling!D$3,FALSE)","v":0.22025076668305382},0,{"$f":"NORMDIST(A610,Normalfordeling!D$2,Normalfordeling!D$3,TRUE)","v":0.86214342796794574}]
[{"$f":"(Normalfordeling!D$6-Normalfordeling!C$6)/1000+A610","v":6.0999999999999144},{"$f":"NORMDIST(A611,Normalfordeling!D$2,Normalfordeling!D$3,FALSE)","v":0.21785217703257104},0,{"$f":"NORMDIST(A611,Normalfordeling!D$2,Normalfordeling!D$3,TRUE)","v":0.86433393905359868}]
[{"$f":"(Normalfordeling!D$6-Normalfordeling!C$6)/1000+A611","v":6.1099999999999142},{"$f":"NORMDIST(A612,Normalfordeling!D$2,Normalfordeling!D$3,FALSE)","v":0.21545816177024024},0,{"$f":"NORMDIST(A612,Normalfordeling!D$2,Normalfordeling!D$3,TRUE)","v":0.86650048675723434}]
[{"$f":"(Normalfordeling!D$6-Normalfordeling!C$6)/1000+A612","v":6.119999999999914},{"$f":"NORMDIST(A613,Normalfordeling!D$2,Normalfordeling!D$3,FALSE)","v":0.21306914677573843},0,{"$f":"NORMDIST(A613,Normalfordeling!D$2,Normalfordeling!D$3,TRUE)","v":0.86864311895725099}]
[{"$f":"(Normalfordeling!D$6-Normalfordeling!C$6)/1000+A613","v":6.1299999999999137},{"$f":"NORMDIST(A614,Normalfordeling!D$2,Normalfordeling!D$3,FALSE)","v":0.21068555173603584},0,{"$f":"NORMDIST(A614,Normalfordeling!D$2,Normalfordeling!D$3,TRUE)","v":0.87076188775996399}]
[{"$f":"(Normalfordeling!D$6-Normalfordeling!C$6)/1000+A614","v":6.1399999999999135},{"$f":"NORMDIST(A615,Normalfordeling!D$2,Normalfordeling!D$3,FALSE)","v":0.20830779004712885},0,{"$f":"NORMDIST(A615,Normalfordeling!D$2,Normalfordeling!D$3,TRUE)","v":0.87285684943718378}]
[{"$f":"(Normalfordeling!D$6-Normalfordeling!C$6)/1000+A615","v":6.1499999999999133},{"$f":"NORMDIST(A616,Normalfordeling!D$2,Normalfordeling!D$3,FALSE)","v":0.20593626871999529},0,{"$f":"NORMDIST(A616,Normalfordeling!D$2,Normalfordeling!D$3,TRUE)","v":0.87492806436283188}]
[{"$f":"(Normalfordeling!D$6-Normalfordeling!C$6)/1000+A616","v":6.1599999999999131},{"$f":"NORMDIST(A617,Normalfordeling!D$2,Normalfordeling!D$3,FALSE)","v":0.20357138829077998},0,{"$f":"NORMDIST(A617,Normalfordeling!D$2,Normalfordeling!D$3,TRUE)","v":0.87697559694863891}]
[{"$f":"(Normalfordeling!D$6-Normalfordeling!C$6)/1000+A617","v":6.1699999999999129},{"$f":"NORMDIST(A618,Normalfordeling!D$2,Normalfordeling!D$3,FALSE)","v":0.20121354273521785},0,{"$f":"NORMDIST(A618,Normalfordeling!D$2,Normalfordeling!D$3,TRUE)","v":0.87899951557896427}]
[{"$f":"(Normalfordeling!D$6-Normalfordeling!C$6)/1000+A618","v":6.1799999999999127},{"$f":"NORMDIST(A619,Normalfordeling!D$2,Normalfordeling!D$3,FALSE)","v":0.19886311938729642},0,{"$f":"NORMDIST(A619,Normalfordeling!D$2,Normalfordeling!D$3,TRUE)","v":0.88099989254478195}]
[{"$f":"(Normalfordeling!D$6-Normalfordeling!C$6)/1000+A619","v":6.1899999999999125},{"$f":"NORMDIST(A620,Normalfordeling!D$2,Normalfordeling!D$3,FALSE)","v":0.196520498862157},0,{"$f":"NORMDIST(A620,Normalfordeling!D$2,Normalfordeling!D$3,TRUE)","v":0.88297680397687406}]
[{"$f":"(Normalfordeling!D$6-Normalfordeling!C$6)/1000+A620","v":6.1999999999999122},{"$f":"NORMDIST(A621,Normalfordeling!D$2,Normalfordeling!D$3,FALSE)","v":0.19418605498323341},0,{"$f":"NORMDIST(A621,Normalfordeling!D$2,Normalfordeling!D$3,TRUE)","v":0.88493032977827468}]
[{"$f":"(Normalfordeling!D$6-Normalfordeling!C$6)/1000+A621","v":6.209999999999912},{"$f":"NORMDIST(A622,Normalfordeling!D$2,Normalfordeling!D$3,FALSE)","v":0.19186015471361981},0,{"$f":"NORMDIST(A622,Normalfordeling!D$2,Normalfordeling!D$3,TRUE)","v":0.8868605535560059}]
[{"$f":"(Normalfordeling!D$6-Normalfordeling!C$6)/1000+A622","v":6.2199999999999118},{"$f":"NORMDIST(A623,Normalfordeling!D$2,Normalfordeling!D$3,FALSE)","v":0.18954315809166061},0,{"$f":"NORMDIST(A623,Normalfordeling!D$2,Normalfordeling!D$3,TRUE)","v":0.88876756255214873}]
[{"$f":"(Normalfordeling!D$6-Normalfordeling!C$6)/1000+A623","v":6.2299999999999116},{"$f":"NORMDIST(A624,Normalfordeling!D$2,Normalfordeling!D$3,FALSE)","v":0.1872354181707499},0,{"$f":"NORMDIST(A624,Normalfordeling!D$2,Normalfordeling!D$3,TRUE)","v":0.89065144757429149}]
[{"$f":"(Normalfordeling!D$6-Normalfordeling!C$6)/1000+A624","v":6.2399999999999114},{"$f":"NORMDIST(A625,Normalfordeling!D$2,Normalfordeling!D$3,FALSE)","v":0.18493728096332562},0,{"$f":"NORMDIST(A625,Normalfordeling!D$2,Normalfordeling!D$3,TRUE)","v":0.89251230292539674}]
[{"$f":"(Normalfordeling!D$6-Normalfordeling!C$6)/1000+A625","v":6.2499999999999112},{"$f":"NORMDIST(A626,Normalfordeling!D$2,Normalfordeling!D$3,FALSE)","v":0.1826490853890422},0,{"$f":"NORMDIST(A626,Normalfordeling!D$2,Normalfordeling!D$3,TRUE)","v":0.89435022633312855}]
[{"$f":"(Normalfordeling!D$6-Normalfordeling!C$6)/1000+A626","v":6.259999999999911},{"$f":"NORMDIST(A627,Normalfordeling!D$2,Normalfordeling!D$3,FALSE)","v":0.18037116322710056},0,{"$f":"NORMDIST(A627,Normalfordeling!D$2,Normalfordeling!D$3,TRUE)","v":0.89616531887868356}]
[{"$f":"(Normalfordeling!D$6-Normalfordeling!C$6)/1000+A627","v":6.2699999999999108},{"$f":"NORMDIST(A628,Normalfordeling!D$2,Normalfordeling!D$3,FALSE)","v":0.17810383907271377},0,{"$f":"NORMDIST(A628,Normalfordeling!D$2,Normalfordeling!D$3,TRUE)","v":0.89795768492516492}]
[{"$f":"(Normalfordeling!D$6-Normalfordeling!C$6)/1000+A628","v":6.2799999999999105},{"$f":"NORMDIST(A629,Normalfordeling!D$2,Normalfordeling!D$3,FALSE)","v":0.17584743029768252},0,{"$f":"NORMDIST(A629,Normalfordeling!D$2,Normalfordeling!D$3,TRUE)","v":0.89972743204554217}]
[{"$f":"(Normalfordeling!D$6-Normalfordeling!C$6)/1000+A629","v":6.2899999999999103},{"$f":"NORMDIST(A630,Normalfordeling!D$2,Normalfordeling!D$3,FALSE)","v":0.17360224701505308},0,{"$f":"NORMDIST(A630,Normalfordeling!D$2,Normalfordeling!D$3,TRUE)","v":0.90147467095023659}]
[{"$f":"(Normalfordeling!D$6-Normalfordeling!C$6)/1000+A630","v":6.2999999999999101},{"$f":"NORMDIST(A631,Normalfordeling!D$2,Normalfordeling!D$3,FALSE)","v":0.17136859204782739},0,{"$f":"NORMDIST(A631,Normalfordeling!D$2,Normalfordeling!D$3,TRUE)","v":0.90319951541437427}]
[{"$f":"(Normalfordeling!D$6-Normalfordeling!C$6)/1000+A631","v":6.3099999999999099},{"$f":"NORMDIST(A632,Normalfordeling!D$2,Normalfordeling!D$3,FALSE)","v":0.16914676090169237},0,{"$f":"NORMDIST(A632,Normalfordeling!D$2,Normalfordeling!D$3,TRUE)","v":0.90490208220474577}]
[{"$f":"(Normalfordeling!D$6-Normalfordeling!C$6)/1000+A632","v":6.3199999999999097},{"$f":"NORMDIST(A633,Normalfordeling!D$2,Normalfordeling!D$3,FALSE)","v":0.16693704174173374},0,{"$f":"NORMDIST(A633,Normalfordeling!D$2,Normalfordeling!D$3,TRUE)","v":0.90658249100651311}]
[{"$f":"(Normalfordeling!D$6-Normalfordeling!C$6)/1000+A633","v":6.3299999999999095},{"$f":"NORMDIST(A634,Normalfordeling!D$2,Normalfordeling!D$3,FALSE)","v":0.16473971537309667},0,{"$f":"NORMDIST(A634,Normalfordeling!D$2,Normalfordeling!D$3,TRUE)","v":0.9082408643497043}]
[{"$f":"(Normalfordeling!D$6-Normalfordeling!C$6)/1000+A634","v":6.3399999999999093},{"$f":"NORMDIST(A635,Normalfordeling!D$2,Normalfordeling!D$3,FALSE)","v":0.16255505522555391},0,{"$f":"NORMDIST(A635,Normalfordeling!D$2,Normalfordeling!D$3,TRUE)","v":0.90987732753553285}]
[{"$f":"(Normalfordeling!D$6-Normalfordeling!C$6)/1000+A635","v":6.3499999999999091},{"$f":"NORMDIST(A636,Normalfordeling!D$2,Normalfordeling!D$3,FALSE)","v":0.1603833273419393},0,{"$f":"NORMDIST(A636,Normalfordeling!D$2,Normalfordeling!D$3,TRUE)","v":0.91149200856258339}]
[{"$f":"(Normalfordeling!D$6-Normalfordeling!C$6)/1000+A636","v":6.3599999999999088},{"$f":"NORMDIST(A637,Normalfordeling!D$2,Normalfordeling!D$3,FALSE)","v":0.15822479037040266},0,{"$f":"NORMDIST(A637,Normalfordeling!D$2,Normalfordeling!D$3,TRUE)","v":0.91308503805290053}]
[{"$f":"(Normalfordeling!D$6-Normalfordeling!C$6)/1000+A637","v":6.3699999999999086},{"$f":"NORMDIST(A638,Normalfordeling!D$2,Normalfordeling!D$3,FALSE)","v":0.15607969556044041},0,{"$f":"NORMDIST(A638,Normalfordeling!D$2,Normalfordeling!D$3,TRUE)","v":0.91465654917801875}]
[{"$f":"(Normalfordeling!D$6-Normalfordeling!C$6)/1000+A638","v":6.3799999999999084},{"$f":"NORMDIST(A639,Normalfordeling!D$2,Normalfordeling!D$3,FALSE)","v":0.15394828676265315},0,{"$f":"NORMDIST(A639,Normalfordeling!D$2,Normalfordeling!D$3,TRUE)","v":0.91620667758497165}]
[{"$f":"(Normalfordeling!D$6-Normalfordeling!C$6)/1000+A639","v":6.3899999999999082},{"$f":"NORMDIST(A640,Normalfordeling!D$2,Normalfordeling!D$3,FALSE)","v":0.15183080043218106},0,{"$f":"NORMDIST(A640,Normalfordeling!D$2,Normalfordeling!D$3,TRUE)","v":0.91773556132231715}]
[{"$f":"(Normalfordeling!D$6-Normalfordeling!C$6)/1000+A640","v":6.399999999999908},{"$f":"NORMDIST(A641,Normalfordeling!D$2,Normalfordeling!D$3,FALSE)","v":0.14972746563576414},0,{"$f":"NORMDIST(A641,Normalfordeling!D$2,Normalfordeling!D$3,TRUE)","v":0.91924334076621517}]
[{"$f":"(Normalfordeling!D$6-Normalfordeling!C$6)/1000+A641","v":6.4099999999999078},{"$f":"NORMDIST(A642,Normalfordeling!D$2,Normalfordeling!D$3,FALSE)","v":0.14763850406237491},{"$f":"IF(AND(A642>=$C$1001,A642<=$C$1002),B642,0)","v":0},{"$f":"NORMDIST(A642,Normalfordeling!D$2,Normalfordeling!D$3,TRUE)","v":0.92073015854659401}]
[{"$f":"(Normalfordeling!D$6-Normalfordeling!C$6)/1000+A642","v":6.4199999999999076},{"$f":"NORMDIST(A643,Normalfordeling!D$2,Normalfordeling!D$3,FALSE)","v":0.14556413003736671},0,{"$f":"NORMDIST(A643,Normalfordeling!D$2,Normalfordeling!D$3,TRUE)","v":0.92219615947344014}]
[{"$f":"(Normalfordeling!D$6-Normalfordeling!C$6)/1000+A643","v":6.4299999999999073},{"$f":"NORMDIST(A644,Normalfordeling!D$2,Normalfordeling!D$3,FALSE)","v":0.14350455054008143},0,{"$f":"NORMDIST(A644,Normalfordeling!D$2,Normalfordeling!D$3,TRUE)","v":0.92364149046324762}]
[{"$f":"(Normalfordeling!D$6-Normalfordeling!C$6)/1000+A644","v":6.4399999999999071},{"$f":"NORMDIST(A645,Normalfordeling!D$2,Normalfordeling!D$3,FALSE)","v":0.14145996522485771},0,{"$f":"NORMDIST(A645,Normalfordeling!D$2,Normalfordeling!D$3,TRUE)","v":0.92506630046565985}]
[{"$f":"(Normalfordeling!D$6-Normalfordeling!C$6)/1000+A645","v":6.4499999999999069},{"$f":"NORMDIST(A646,Normalfordeling!D$2,Normalfordeling!D$3,FALSE)","v":0.1394305664453791},0,{"$f":"NORMDIST(A646,Normalfordeling!D$2,Normalfordeling!D$3,TRUE)","v":0.92647074039033872}]
[{"$f":"(Normalfordeling!D$6-Normalfordeling!C$6)/1000+A646","v":6.4599999999999067},{"$f":"NORMDIST(A647,Normalfordeling!D$2,Normalfordeling!D$3,FALSE)","v":0.13741653928230049},0,{"$f":"NORMDIST(A647,Normalfordeling!D$2,Normalfordeling!D$3,TRUE)","v":0.92785496303409343}]
[{"$f":"(Normalfordeling!D$6-Normalfordeling!C$6)/1000+A647","v":6.4699999999999065},{"$f":"NORMDIST(A648,Normalfordeling!D$2,Normalfordeling!D$3,FALSE)","v":0.13541806157408989},0,{"$f":"NORMDIST(A648,Normalfordeling!D$2,Normalfordeling!D$3,TRUE)","v":0.92921912300830178}]
[{"$f":"(Normalfordeling!D$6-Normalfordeling!C$6)/1000+A648","v":6.4799999999999063},{"$f":"NORMDIST(A649,Normalfordeling!D$2,Normalfordeling!D$3,FALSE)","v":0.13343530395102079},0,{"$f":"NORMDIST(A649,Normalfordeling!D$2,Normalfordeling!D$3,TRUE)","v":0.93056337666665578}]
[{"$f":"(Normalfordeling!D$6-Normalfordeling!C$6)/1000+A649","v":6.4899999999999061},{"$f":"NORMDIST(A650,Normalfordeling!D$2,Normalfordeling!D$3,FALSE)","v":0.13146842987224944},0,{"$f":"NORMDIST(A650,Normalfordeling!D$2,Normalfordeling!D$3,TRUE)","v":0.93188788203326223}]
[{"$f":"(Normalfordeling!D$6-Normalfordeling!C$6)/1000+A650","v":6.4999999999999059},{"$f":"NORMDIST(A651,Normalfordeling!D$2,Normalfordeling!D$3,FALSE)","v":0.12951759566591003},0,{"$f":"NORMDIST(A651,Normalfordeling!D$2,Normalfordeling!D$3,TRUE)","v":0.9331927987311297}]
[{"$f":"(Normalfordeling!D$6-Normalfordeling!C$6)/1000+A651","v":6.5099999999999056},{"$f":"NORMDIST(A652,Normalfordeling!D$2,Normalfordeling!D$3,FALSE)","v":0.12758295057216007},0,{"$f":"NORMDIST(A652,Normalfordeling!D$2,Normalfordeling!D$3,TRUE)","v":0.93447828791107146}]
[{"$f":"(Normalfordeling!D$6-Normalfordeling!C$6)/1000+A652","v":6.5199999999999054},{"$f":"NORMDIST(A653,Normalfordeling!D$2,Normalfordeling!D$3,FALSE)","v":0.12566463678910619},0,{"$f":"NORMDIST(A653,Normalfordeling!D$2,Normalfordeling!D$3,TRUE)","v":0.93574451218105226}]
[{"$f":"(Normalfordeling!D$6-Normalfordeling!C$6)/1000+A653","v":6.5299999999999052},{"$f":"NORMDIST(A654,Normalfordeling!D$2,Normalfordeling!D$3,FALSE)","v":0.12376278952154107},0,{"$f":"NORMDIST(A654,Normalfordeling!D$2,Normalfordeling!D$3,TRUE)","v":0.93699163553600984}]
[{"$f":"(Normalfordeling!D$6-Normalfordeling!C$6)/1000+A654","v":6.539999999999905},{"$f":"NORMDIST(A655,Normalfordeling!D$2,Normalfordeling!D$3,FALSE)","v":0.1218775370324196},0,{"$f":"NORMDIST(A655,Normalfordeling!D$2,Normalfordeling!D$3,TRUE)","v":0.93821982328817655}]
[{"$f":"(Normalfordeling!D$6-Normalfordeling!C$6)/1000+A655","v":6.5499999999999048},{"$f":"NORMDIST(A656,Normalfordeling!D$2,Normalfordeling!D$3,FALSE)","v":0.12000900069700329},0,{"$f":"NORMDIST(A656,Normalfordeling!D$2,Normalfordeling!D$3,TRUE)","v":0.93942924199792954}]
[{"$f":"(Normalfordeling!D$6-Normalfordeling!C$6)/1000+A656","v":6.5599999999999046},{"$f":"NORMDIST(A657,Normalfordeling!D$2,Normalfordeling!D$3,FALSE)","v":0.11815729505959988},0,{"$f":"NORMDIST(A657,Normalfordeling!D$2,Normalfordeling!D$3,TRUE)","v":0.94062005940519566}]
[{"$f":"(Normalfordeling!D$6-Normalfordeling!C$6)/1000+A657","v":6.5699999999999044},{"$f":"NORMDIST(A658,Normalfordeling!D$2,Normalfordeling!D$3,FALSE)","v":0.11632252789282455},0,{"$f":"NORMDIST(A658,Normalfordeling!D$2,Normalfordeling!D$3,TRUE)","v":0.94179244436143583}]
[{"$f":"(Normalfordeling!D$6-Normalfordeling!C$6)/1000+A658","v":6.5799999999999041},{"$f":"NORMDIST(A659,Normalfordeling!D$2,Normalfordeling!D$3,FALSE)","v":0.11450480025930973},0,{"$f":"NORMDIST(A659,Normalfordeling!D$2,Normalfordeling!D$3,TRUE)","v":0.94294656676223476}]
[{"$f":"(Normalfordeling!D$6-Normalfordeling!C$6)/1000+A659","v":6.5899999999999039},{"$f":"NORMDIST(A660,Normalfordeling!D$2,Normalfordeling!D$3,FALSE)","v":0.11270420657578777},0,{"$f":"NORMDIST(A660,Normalfordeling!D$2,Normalfordeling!D$3,TRUE)","v":0.9440825974805197}]
[{"$f":"(Normalfordeling!D$6-Normalfordeling!C$6)/1000+A660","v":6.5999999999999037},{"$f":"NORMDIST(A661,Normalfordeling!D$2,Normalfordeling!D$3,FALSE)","v":0.11092083467947267},0,{"$f":"NORMDIST(A661,Normalfordeling!D$2,Normalfordeling!D$3,TRUE)","v":0.94520070830043135}]
[{"$f":"(Normalfordeling!D$6-Normalfordeling!C$6)/1000+A661","v":6.6099999999999035},{"$f":"NORMDIST(A662,Normalfordeling!D$2,Normalfordeling!D$3,FALSE)","v":0.10915476589666431},0,{"$f":"NORMDIST(A662,Normalfordeling!D$2,Normalfordeling!D$3,TRUE)","v":0.94630107185186974}]
[{"$f":"(Normalfordeling!D$6-Normalfordeling!C$6)/1000+A662","v":6.6199999999999033},{"$f":"NORMDIST(A663,Normalfordeling!D$2,Normalfordeling!D$3,FALSE)","v":0.10740607511350067},0,{"$f":"NORMDIST(A663,Normalfordeling!D$2,Normalfordeling!D$3,TRUE)","v":0.94738386154573762}]
[{"$f":"(Normalfordeling!D$6-Normalfordeling!C$6)/1000+A663","v":6.6299999999999031},{"$f":"NORMDIST(A664,Normalfordeling!D$2,Normalfordeling!D$3,FALSE)","v":0.10567483084878032},0,{"$f":"NORMDIST(A664,Normalfordeling!D$2,Normalfordeling!D$3,TRUE)","v":0.94844925150990034}]
[{"$f":"(Normalfordeling!D$6-Normalfordeling!C$6)/1000+A664","v":6.6399999999999029},{"$f":"NORMDIST(A665,Normalfordeling!D$2,Normalfordeling!D$3,FALSE)","v":0.10396109532878076},0,{"$f":"NORMDIST(A665,Normalfordeling!D$2,Normalfordeling!D$3,TRUE)","v":0.94949741652588626}]
[{"$f":"(Normalfordeling!D$6-Normalfordeling!C$6)/1000+A665","v":6.6499999999999027},{"$f":"NORMDIST(A666,Normalfordeling!D$2,Normalfordeling!D$3,FALSE)","v":0.10226492456399444},0,{"$f":"NORMDIST(A666,Normalfordeling!D$2,Normalfordeling!D$3,TRUE)","v":0.95052853196634191}]
[{"$f":"(Normalfordeling!D$6-Normalfordeling!C$6)/1000+A666","v":6.6599999999999024},{"$f":"NORMDIST(A667,Normalfordeling!D$2,Normalfordeling!D$3,FALSE)","v":0.10058636842770685},0,{"$f":"NORMDIST(A667,Normalfordeling!D$2,Normalfordeling!D$3,TRUE)","v":0.95154277373326734}]
[{"$f":"(Normalfordeling!D$6-Normalfordeling!C$6)/1000+A667","v":6.6699999999999022},{"$f":"NORMDIST(A668,Normalfordeling!D$2,Normalfordeling!D$3,FALSE)","v":9.8925470736339866E-2},0,{"$f":"NORMDIST(A668,Normalfordeling!D$2,Normalfordeling!D$3,TRUE)","v":0.95254031819704299}]
[{"$f":"(Normalfordeling!D$6-Normalfordeling!C$6)/1000+A668","v":6.679999999999902},{"$f":"NORMDIST(A669,Normalfordeling!D$2,Normalfordeling!D$3,FALSE)","v":9.7282269331483498E-2},0,{"$f":"NORMDIST(A669,Normalfordeling!D$2,Normalfordeling!D$3,TRUE)","v":0.95352134213627049}]
[{"$f":"(Normalfordeling!D$6-Normalfordeling!C$6)/1000+A669","v":6.6899999999999018},{"$f":"NORMDIST(A670,Normalfordeling!D$2,Normalfordeling!D$3,FALSE)","v":9.5656796163539878E-2},0,{"$f":"NORMDIST(A670,Normalfordeling!D$2,Normalfordeling!D$3,TRUE)","v":0.95448602267844085}]
[{"$f":"(Normalfordeling!D$6-Normalfordeling!C$6)/1000+A670","v":6.6999999999999016},{"$f":"NORMDIST(A671,Normalfordeling!D$2,Normalfordeling!D$3,FALSE)","v":9.4049077376902671E-2},0,{"$f":"NORMDIST(A671,Normalfordeling!D$2,Normalfordeling!D$3,TRUE)","v":0.95543453724144767}]
[{"$f":"(Normalfordeling!D$6-Normalfordeling!C$6)/1000+A671","v":6.7099999999999014},{"$f":"NORMDIST(A672,Normalfordeling!D$2,Normalfordeling!D$3,FALSE)","v":9.2459133396596255E-2},0,{"$f":"NORMDIST(A672,Normalfordeling!D$2,Normalfordeling!D$3,TRUE)","v":0.95636706347595901}]
[{"$f":"(Normalfordeling!D$6-Normalfordeling!C$6)/1000+A672","v":6.7199999999999012},{"$f":"NORMDIST(A673,Normalfordeling!D$2,Normalfordeling!D$3,FALSE)","v":9.0886979016298317E-2},0,{"$f":"NORMDIST(A673,Normalfordeling!D$2,Normalfordeling!D$3,TRUE)","v":0.95728377920866214}]
[{"$f":"(Normalfordeling!D$6-Normalfordeling!C$6)/1000+A673","v":6.729999999999901},{"$f":"NORMDIST(A674,Normalfordeling!D$2,Normalfordeling!D$3,FALSE)","v":8.9332623487670307E-2},0,{"$f":"NORMDIST(A674,Normalfordeling!D$2,Normalfordeling!D$3,TRUE)","v":0.95818486238639622}]
[{"$f":"(Normalfordeling!D$6-Normalfordeling!C$6)/1000+A674","v":6.7399999999999007},{"$f":"NORMDIST(A675,Normalfordeling!D$2,Normalfordeling!D$3,FALSE)","v":8.779607061092079E-2},0,{"$f":"NORMDIST(A675,Normalfordeling!D$2,Normalfordeling!D$3,TRUE)","v":0.95907049102118391}]
[{"$f":"(Normalfordeling!D$6-Normalfordeling!C$6)/1000+A675","v":6.7499999999999005},{"$f":"NORMDIST(A676,Normalfordeling!D$2,Normalfordeling!D$3,FALSE)","v":8.6277318826526533E-2},0,{"$f":"NORMDIST(A676,Normalfordeling!D$2,Normalfordeling!D$3,TRUE)","v":0.95994084313617434}]
[{"$f":"(Normalfordeling!D$6-Normalfordeling!C$6)/1000+A676","v":6.7599999999999003},{"$f":"NORMDIST(A677,Normalfordeling!D$2,Normalfordeling!D$3,FALSE)","v":8.4776361308037104E-2},0,{"$f":"NORMDIST(A677,Normalfordeling!D$2,Normalfordeling!D$3,TRUE)","v":0.96079609671250887}]
[{"$f":"(Normalfordeling!D$6-Normalfordeling!C$6)/1000+A677","v":6.7699999999999001},{"$f":"NORMDIST(A678,Normalfordeling!D$2,Normalfordeling!D$3,FALSE)","v":8.3293186055889201E-2},0,{"$f":"NORMDIST(A678,Normalfordeling!D$2,Normalfordeling!D$3,TRUE)","v":0.96163642963712048}]
[{"$f":"(Normalfordeling!D$6-Normalfordeling!C$6)/1000+A678","v":6.7799999999998999},{"$f":"NORMDIST(A679,Normalfordeling!D$2,Normalfordeling!D$3,FALSE)","v":8.1827775992157389E-2},0,{"$f":"NORMDIST(A679,Normalfordeling!D$2,Normalfordeling!D$3,TRUE)","v":0.96246201965147504}]
[{"$f":"(Normalfordeling!D$6-Normalfordeling!C$6)/1000+A679","v":6.7899999999998997},{"$f":"NORMDIST(A680,Normalfordeling!D$2,Normalfordeling!D$3,FALSE)","v":8.0380109056168603E-2},0,{"$f":"NORMDIST(A680,Normalfordeling!D$2,Normalfordeling!D$3,TRUE)","v":0.96327304430126559}]
[{"$f":"(Normalfordeling!D$6-Normalfordeling!C$6)/1000+A680","v":6.7999999999998995},{"$f":"NORMDIST(A681,Normalfordeling!D$2,Normalfordeling!D$3,FALSE)","v":7.8950158300908457E-2},0,{"$f":"NORMDIST(A681,Normalfordeling!D$2,Normalfordeling!D$3,TRUE)","v":0.96406968088706624}]
[{"$f":"(Normalfordeling!D$6-Normalfordeling!C$6)/1000+A681","v":6.8099999999998992},{"$f":"NORMDIST(A682,Normalfordeling!D$2,Normalfordeling!D$3,FALSE)","v":7.7537891990148114E-2},0,{"$f":"NORMDIST(A682,Normalfordeling!D$2,Normalfordeling!D$3,TRUE)","v":0.96485210641595343}]
[{"$f":"(Normalfordeling!D$6-Normalfordeling!C$6)/1000+A682","v":6.819999999999899},{"$f":"NORMDIST(A683,Normalfordeling!D$2,Normalfordeling!D$3,FALSE)","v":7.6143273696221314E-2},0,{"$f":"NORMDIST(A683,Normalfordeling!D$2,Normalfordeling!D$3,TRUE)","v":0.96562049755410229}]
[{"$f":"(Normalfordeling!D$6-Normalfordeling!C$6)/1000+A683","v":6.8299999999998988},{"$f":"NORMDIST(A684,Normalfordeling!D$2,Normalfordeling!D$3,FALSE)","v":7.4766262398381467E-2},0,{"$f":"NORMDIST(A684,Normalfordeling!D$2,Normalfordeling!D$3,TRUE)","v":0.96637503058036411}]
[{"$f":"(Normalfordeling!D$6-Normalfordeling!C$6)/1000+A684","v":6.8399999999998986},{"$f":"NORMDIST(A685,Normalfordeling!D$2,Normalfordeling!D$3,FALSE)","v":7.3406812581670602E-2},0,{"$f":"NORMDIST(A685,Normalfordeling!D$2,Normalfordeling!D$3,TRUE)","v":0.96711588134082871}]
[{"$f":"(Normalfordeling!D$6-Normalfordeling!C$6)/1000+A685","v":6.8499999999998984},{"$f":"NORMDIST(A686,Normalfordeling!D$2,Normalfordeling!D$3,FALSE)","v":7.2064874336231544E-2},0,{"$f":"NORMDIST(A686,Normalfordeling!D$2,Normalfordeling!D$3,TRUE)","v":0.96784322520437893}]
[{"$f":"(Normalfordeling!D$6-Normalfordeling!C$6)/1000+A686","v":6.8599999999998982},{"$f":"NORMDIST(A687,Normalfordeling!D$2,Normalfordeling!D$3,FALSE)","v":7.0740393456996786E-2},0,{"$f":"NORMDIST(A687,Normalfordeling!D$2,Normalfordeling!D$3,TRUE)","v":0.96855723701924012}]
[{"$f":"(Normalfordeling!D$6-Normalfordeling!C$6)/1000+A687","v":6.869999999999898},{"$f":"NORMDIST(A688,Normalfordeling!D$2,Normalfordeling!D$3,FALSE)","v":6.943331154368744E-2},0,{"$f":"NORMDIST(A688,Normalfordeling!D$2,Normalfordeling!D$3,TRUE)","v":0.96925809107052696}]
[{"$f":"(Normalfordeling!D$6-Normalfordeling!C$6)/1000+A688","v":6.8799999999998978},{"$f":"NORMDIST(A689,Normalfordeling!D$2,Normalfordeling!D$3,FALSE)","v":6.8143566101057679E-2},0,{"$f":"NORMDIST(A689,Normalfordeling!D$2,Normalfordeling!D$3,TRUE)","v":0.96994596103879327}]
[{"$f":"(Normalfordeling!D$6-Normalfordeling!C$6)/1000+A689","v":6.8899999999998975},{"$f":"NORMDIST(A690,Normalfordeling!D$2,Normalfordeling!D$3,FALSE)","v":6.6871090639320105E-2},0,{"$f":"NORMDIST(A690,Normalfordeling!D$2,Normalfordeling!D$3,TRUE)","v":0.97062101995958372}]
[{"$f":"(Normalfordeling!D$6-Normalfordeling!C$6)/1000+A690","v":6.8999999999998973},{"$f":"NORMDIST(A691,Normalfordeling!D$2,Normalfordeling!D$3,FALSE)","v":6.561581477468939E-2},0,{"$f":"NORMDIST(A691,Normalfordeling!D$2,Normalfordeling!D$3,TRUE)","v":0.97128344018399149}]
[{"$f":"(Normalfordeling!D$6-Normalfordeling!C$6)/1000+A691","v":6.9099999999998971},{"$f":"NORMDIST(A692,Normalfordeling!D$2,Normalfordeling!D$3,FALSE)","v":6.4377664329982015E-2},0,{"$f":"NORMDIST(A692,Normalfordeling!D$2,Normalfordeling!D$3,TRUE)","v":0.97193339334022089}]
[{"$f":"(Normalfordeling!D$6-Normalfordeling!C$6)/1000+A692","v":6.9199999999998969},{"$f":"NORMDIST(A693,Normalfordeling!D$2,Normalfordeling!D$3,FALSE)","v":6.3156561435211145E-2},0,{"$f":"NORMDIST(A693,Normalfordeling!D$2,Normalfordeling!D$3,TRUE)","v":0.97257105029615665}]
[{"$f":"(Normalfordeling!D$6-Normalfordeling!C$6)/1000+A693","v":6.9299999999998967},{"$f":"NORMDIST(A694,Normalfordeling!D$2,Normalfordeling!D$3,FALSE)","v":6.1952424628117515E-2},0,{"$f":"NORMDIST(A694,Normalfordeling!D$2,Normalfordeling!D$3,TRUE)","v":0.97319658112293861}]
[{"$f":"(Normalfordeling!D$6-Normalfordeling!C$6)/1000+A694","v":6.9399999999998965},{"$f":"NORMDIST(A695,Normalfordeling!D$2,Normalfordeling!D$3,FALSE)","v":6.0765168954576981E-2},0,{"$f":"NORMDIST(A695,Normalfordeling!D$2,Normalfordeling!D$3,TRUE)","v":0.97381015505954105}]
[{"$f":"(Normalfordeling!D$6-Normalfordeling!C$6)/1000+A695","v":6.9499999999998963},{"$f":"NORMDIST(A696,Normalfordeling!D$2,Normalfordeling!D$3,FALSE)","v":5.9594706068828135E-2},0,{"$f":"NORMDIST(A696,Normalfordeling!D$2,Normalfordeling!D$3,TRUE)","v":0.97441194047835522}]
[{"$f":"(Normalfordeling!D$6-Normalfordeling!C$6)/1000+A696","v":6.959999999999896},{"$f":"NORMDIST(A697,Normalfordeling!D$2,Normalfordeling!D$3,FALSE)","v":5.8440944333463377E-2},0,{"$f":"NORMDIST(A697,Normalfordeling!D$2,Normalfordeling!D$3,TRUE)","v":0.97500210485177352}]
[{"$f":"(Normalfordeling!D$6-Normalfordeling!C$6)/1000+A697","v":6.9699999999998958},{"$f":"NORMDIST(A698,Normalfordeling!D$2,Normalfordeling!D$3,FALSE)","v":5.7303788919128892E-2},0,{"$f":"NORMDIST(A698,Normalfordeling!D$2,Normalfordeling!D$3,TRUE)","v":0.97558081471977154}]
[{"$f":"(Normalfordeling!D$6-Normalfordeling!C$6)/1000+A698","v":6.9799999999998956},{"$f":"NORMDIST(A699,Normalfordeling!D$2,Normalfordeling!D$3,FALSE)","v":5.6183141903879644E-2},0,{"$f":"NORMDIST(A699,Normalfordeling!D$2,Normalfordeling!D$3,TRUE)","v":0.97614823565848563}]
[{"$f":"(Normalfordeling!D$6-Normalfordeling!C$6)/1000+A699","v":6.9899999999998954},{"$f":"NORMDIST(A700,Normalfordeling!D$2,Normalfordeling!D$3,FALSE)","v":5.5078902372137237E-2},0,{"$f":"NORMDIST(A700,Normalfordeling!D$2,Normalfordeling!D$3,TRUE)","v":0.97670453224978238}]
[{"$f":"(Normalfordeling!D$6-Normalfordeling!C$6)/1000+A700","v":6.9999999999998952},{"$f":"NORMDIST(A701,Normalfordeling!D$2,Normalfordeling!D$3,FALSE)","v":5.3990966513199373E-2},0,{"$f":"NORMDIST(A701,Normalfordeling!D$2,Normalfordeling!D$3,TRUE)","v":0.97724986805181513}]
[{"$f":"(Normalfordeling!D$6-Normalfordeling!C$6)/1000+A701","v":7.009999999999895},{"$f":"NORMDIST(A702,Normalfordeling!D$2,Normalfordeling!D$3,FALSE)","v":5.2919227719251456E-2},0,{"$f":"NORMDIST(A702,Normalfordeling!D$2,Normalfordeling!D$3,TRUE)","v":0.97778440557056301}]
[{"$f":"(Normalfordeling!D$6-Normalfordeling!C$6)/1000+A702","v":7.0199999999998948},{"$f":"NORMDIST(A703,Normalfordeling!D$2,Normalfordeling!D$3,FALSE)","v":5.1863576682831598E-2},0,{"$f":"NORMDIST(A703,Normalfordeling!D$2,Normalfordeling!D$3,TRUE)","v":0.97830830623234777}]
[{"$f":"(Normalfordeling!D$6-Normalfordeling!C$6)/1000+A703","v":7.0299999999998946},{"$f":"NORMDIST(A704,Normalfordeling!D$2,Normalfordeling!D$3,FALSE)","v":5.0823901493702056E-2},0,{"$f":"NORMDIST(A704,Normalfordeling!D$2,Normalfordeling!D$3,TRUE)","v":0.97882173035732234}]
[{"$f":"(Normalfordeling!D$6-Normalfordeling!C$6)/1000+A704","v":7.0399999999998943},{"$f":"NORMDIST(A705,Normalfordeling!D$2,Normalfordeling!D$3,FALSE)","v":4.9800087735081495E-2},0,{"$f":"NORMDIST(A705,Normalfordeling!D$2,Normalfordeling!D$3,TRUE)","v":0.97932483713392471}]
[{"$f":"(Normalfordeling!D$6-Normalfordeling!C$6)/1000+A705","v":7.0499999999998941},{"$f":"NORMDIST(A706,Normalfordeling!D$2,Normalfordeling!D$3,FALSE)","v":4.8792018579193339E-2},{"$f":"IF(AND(A706>=$C$1001,A706<=$C$1002),B706,0)","v":0},{"$f":"NORMDIST(A706,Normalfordeling!D$2,Normalfordeling!D$3,TRUE)","v":0.97981778459429048}]
[{"$f":"(Normalfordeling!D$6-Normalfordeling!C$6)/1000+A706","v":7.0599999999998939},{"$f":"NORMDIST(A707,Normalfordeling!D$2,Normalfordeling!D$3,FALSE)","v":4.7799574882087477E-2},0,{"$f":"NORMDIST(A707,Normalfordeling!D$2,Normalfordeling!D$3,TRUE)","v":0.98030072959061798}]
[{"$f":"(Normalfordeling!D$6-Normalfordeling!C$6)/1000+A707","v":7.0699999999998937},{"$f":"NORMDIST(A708,Normalfordeling!D$2,Normalfordeling!D$3,FALSE)","v":4.6822635277693453E-2},0,{"$f":"NORMDIST(A708,Normalfordeling!D$2,Normalfordeling!D$3,TRUE)","v":0.98077382777247779}]
[{"$f":"(Normalfordeling!D$6-Normalfordeling!C$6)/1000+A708","v":7.0799999999998935},{"$f":"NORMDIST(A709,Normalfordeling!D$2,Normalfordeling!D$3,FALSE)","v":4.5861076271065046E-2},0,{"$f":"NORMDIST(A709,Normalfordeling!D$2,Normalfordeling!D$3,TRUE)","v":0.98123723356505743}]
[{"$f":"(Normalfordeling!D$6-Normalfordeling!C$6)/1000+A709","v":7.0899999999998933},{"$f":"NORMDIST(A710,Normalfordeling!D$2,Normalfordeling!D$3,FALSE)","v":4.4914772330777092E-2},0,{"$f":"NORMDIST(A710,Normalfordeling!D$2,Normalfordeling!D$3,TRUE)","v":0.98169110014833627}]
[{"$f":"(Normalfordeling!D$6-Normalfordeling!C$6)/1000+A710","v":7.0999999999998931},{"$f":"NORMDIST(A711,Normalfordeling!D$2,Normalfordeling!D$3,FALSE)","v":4.3983595980437072E-2},0,{"$f":"NORMDIST(A711,Normalfordeling!D$2,Normalfordeling!D$3,TRUE)","v":0.98213557943717877}]
[{"$f":"(Normalfordeling!D$6-Normalfordeling!C$6)/1000+A711","v":7.1099999999998929},{"$f":"NORMDIST(A712,Normalfordeling!D$2,Normalfordeling!D$3,FALSE)","v":4.3067417889275476E-2},0,{"$f":"NORMDIST(A712,Normalfordeling!D$2,Normalfordeling!D$3,TRUE)","v":0.98257082206233826}]
[{"$f":"(Normalfordeling!D$6-Normalfordeling!C$6)/1000+A712","v":7.1199999999998926},{"$f":"NORMDIST(A713,Normalfordeling!D$2,Normalfordeling!D$3,FALSE)","v":4.2166106961779914E-2},0,{"$f":"NORMDIST(A713,Normalfordeling!D$2,Normalfordeling!D$3,TRUE)","v":0.98299697735236269}]
[{"$f":"(Normalfordeling!D$6-Normalfordeling!C$6)/1000+A713","v":7.1299999999998924},{"$f":"NORMDIST(A714,Normalfordeling!D$2,Normalfordeling!D$3,FALSE)","v":4.1279530426339861E-2},0,{"$f":"NORMDIST(A714,Normalfordeling!D$2,Normalfordeling!D$3,TRUE)","v":0.98341419331639057}]
[{"$f":"(Normalfordeling!D$6-Normalfordeling!C$6)/1000+A714","v":7.1399999999998922},{"$f":"NORMDIST(A715,Normalfordeling!D$2,Normalfordeling!D$3,FALSE)","v":4.0407553922869634E-2},0,{"$f":"NORMDIST(A715,Normalfordeling!D$2,Normalfordeling!D$3,TRUE)","v":0.98382261662782955}]
[{"$f":"(Normalfordeling!D$6-Normalfordeling!C$6)/1000+A715","v":7.149999999999892},{"$f":"NORMDIST(A716,Normalfordeling!D$2,Normalfordeling!D$3,FALSE)","v":3.9550041589379387E-2},0,{"$f":"NORMDIST(A716,Normalfordeling!D$2,Normalfordeling!D$3,TRUE)","v":0.98422239260890521}]
[{"$f":"(Normalfordeling!D$6-Normalfordeling!C$6)/1000+A716","v":7.1599999999998918},{"$f":"NORMDIST(A717,Normalfordeling!D$2,Normalfordeling!D$3,FALSE)","v":3.870685614746467E-2},0,{"$f":"NORMDIST(A717,Normalfordeling!D$2,Normalfordeling!D$3,TRUE)","v":0.98461366521607041}]
[{"$f":"(Normalfordeling!D$6-Normalfordeling!C$6)/1000+A717","v":7.1699999999998916},{"$f":"NORMDIST(A718,Normalfordeling!D$2,Normalfordeling!D$3,FALSE)","v":3.7877858986686393E-2},0,{"$f":"NORMDIST(A718,Normalfordeling!D$2,Normalfordeling!D$3,TRUE)","v":0.98499657702626364}]
[{"$f":"(Normalfordeling!D$6-Normalfordeling!C$6)/1000+A718","v":7.1799999999998914},{"$f":"NORMDIST(A719,Normalfordeling!D$2,Normalfordeling!D$3,FALSE)","v":3.7062910247815259E-2},0,{"$f":"NORMDIST(A719,Normalfordeling!D$2,Normalfordeling!D$3,TRUE)","v":0.98537126922400675}]
[{"$f":"(Normalfordeling!D$6-Normalfordeling!C$6)/1000+A719","v":7.1899999999998911},{"$f":"NORMDIST(A720,Normalfordeling!D$2,Normalfordeling!D$3,FALSE)","v":3.6261868904914868E-2},0,{"$f":"NORMDIST(A720,Normalfordeling!D$2,Normalfordeling!D$3,TRUE)","v":0.98573788158932718}]
[{"$f":"(Normalfordeling!D$6-Normalfordeling!C$6)/1000+A720","v":7.1999999999998909},{"$f":"NORMDIST(A721,Normalfordeling!D$2,Normalfordeling!D$3,FALSE)","v":3.5474592846239945E-2},0,{"$f":"NORMDIST(A721,Normalfordeling!D$2,Normalfordeling!D$3,TRUE)","v":0.98609655248649752}]
[{"$f":"(Normalfordeling!D$6-Normalfordeling!C$6)/1000+A721","v":7.2099999999998907},{"$f":"NORMDIST(A722,Normalfordeling!D$2,Normalfordeling!D$3,FALSE)","v":3.4700938953927202E-2},0,{"$f":"NORMDIST(A722,Normalfordeling!D$2,Normalfordeling!D$3,TRUE)","v":0.98644741885357623}]
[{"$f":"(Normalfordeling!D$6-Normalfordeling!C$6)/1000+A722","v":7.2199999999998905},{"$f":"NORMDIST(A723,Normalfordeling!D$2,Normalfordeling!D$3,FALSE)","v":3.3940763182457437E-2},0,{"$f":"NORMDIST(A723,Normalfordeling!D$2,Normalfordeling!D$3,TRUE)","v":0.98679061619274}]
[{"$f":"(Normalfordeling!D$6-Normalfordeling!C$6)/1000+A723","v":7.2299999999998903},{"$f":"NORMDIST(A724,Normalfordeling!D$2,Normalfordeling!D$3,FALSE)","v":3.3193920635869248E-2},0,{"$f":"NORMDIST(A724,Normalfordeling!D$2,Normalfordeling!D$3,TRUE)","v":0.98712627856139434}]
[{"$f":"(Normalfordeling!D$6-Normalfordeling!C$6)/1000+A724","v":7.2399999999998901},{"$f":"NORMDIST(A725,Normalfordeling!D$2,Normalfordeling!D$3,FALSE)","v":3.2460265643705445E-2},0,{"$f":"NORMDIST(A725,Normalfordeling!D$2,Normalfordeling!D$3,TRUE)","v":0.98745453856404986}]
[{"$f":"(Normalfordeling!D$6-Normalfordeling!C$6)/1000+A725","v":7.2499999999998899},{"$f":"NORMDIST(A726,Normalfordeling!D$2,Normalfordeling!D$3,FALSE)","v":3.173965183567528E-2},0,{"$f":"NORMDIST(A726,Normalfordeling!D$2,Normalfordeling!D$3,TRUE)","v":0.98777552734495178}]
[{"$f":"(Normalfordeling!D$6-Normalfordeling!C$6)/1000+A726","v":7.2599999999998897},{"$f":"NORMDIST(A727,Normalfordeling!D$2,Normalfordeling!D$3,FALSE)","v":3.1031932215015989E-2},0,{"$f":"NORMDIST(A727,Normalfordeling!D$2,Normalfordeling!D$3,TRUE)","v":0.98808937458144952}]
[{"$f":"(Normalfordeling!D$6-Normalfordeling!C$6)/1000+A727","v":7.2699999999998894},{"$f":"NORMDIST(A728,Normalfordeling!D$2,Normalfordeling!D$3,FALSE)","v":3.0336959230539251E-2},0,{"$f":"NORMDIST(A728,Normalfordeling!D$2,Normalfordeling!D$3,TRUE)","v":0.98839620847809306}]
[{"$f":"(Normalfordeling!D$6-Normalfordeling!C$6)/1000+A728","v":7.2799999999998892},{"$f":"NORMDIST(A729,Normalfordeling!D$2,Normalfordeling!D$3,FALSE)","v":2.9654584847348758E-2},0,{"$f":"NORMDIST(A729,Normalfordeling!D$2,Normalfordeling!D$3,TRUE)","v":0.98869615576144387}]
[{"$f":"(Normalfordeling!D$6-Normalfordeling!C$6)/1000+A729","v":7.289999999999889},{"$f":"NORMDIST(A730,Normalfordeling!D$2,Normalfordeling!D$3,FALSE)","v":2.8984660616216788E-2},0,{"$f":"NORMDIST(A730,Normalfordeling!D$2,Normalfordeling!D$3,TRUE)","v":0.98898934167558539}]
[{"$f":"(Normalfordeling!D$6-Normalfordeling!C$6)/1000+A730","v":7.2999999999998888},{"$f":"NORMDIST(A731,Normalfordeling!D$2,Normalfordeling!D$3,FALSE)","v":2.8327037741608416E-2},0,{"$f":"NORMDIST(A731,Normalfordeling!D$2,Normalfordeling!D$3,TRUE)","v":0.98927588997832105}]
[{"$f":"(Normalfordeling!D$6-Normalfordeling!C$6)/1000+A731","v":7.3099999999998886},{"$f":"NORMDIST(A732,Normalfordeling!D$2,Normalfordeling!D$3,FALSE)","v":2.7681567148343703E-2},0,{"$f":"NORMDIST(A732,Normalfordeling!D$2,Normalfordeling!D$3,TRUE)","v":0.98955592293804584}]
[{"$f":"(Normalfordeling!D$6-Normalfordeling!C$6)/1000+A732","v":7.3199999999998884},{"$f":"NORMDIST(A733,Normalfordeling!D$2,Normalfordeling!D$3,FALSE)","v":2.7048099546888787E-2},0,{"$f":"NORMDIST(A733,Normalfordeling!D$2,Normalfordeling!D$3,TRUE)","v":0.98982956133127731}]
[{"$f":"(Normalfordeling!D$6-Normalfordeling!C$6)/1000+A733","v":7.3299999999998882},{"$f":"NORMDIST(A734,Normalfordeling!D$2,Normalfordeling!D$3,FALSE)","v":2.6426485497268608E-2},0,{"$f":"NORMDIST(A734,Normalfordeling!D$2,Normalfordeling!D$3,TRUE)","v":0.99009692444083275}]
[{"$f":"(Normalfordeling!D$6-Normalfordeling!C$6)/1000+A734","v":7.3399999999998879},{"$f":"NORMDIST(A735,Normalfordeling!D$2,Normalfordeling!D$3,FALSE)","v":2.5816575471594445E-2},0,{"$f":"NORMDIST(A735,Normalfordeling!D$2,Normalfordeling!D$3,TRUE)","v":0.9903581300546388}]
[{"$f":"(Normalfordeling!D$6-Normalfordeling!C$6)/1000+A735","v":7.3499999999998877},{"$f":"NORMDIST(A736,Normalfordeling!D$2,Normalfordeling!D$3,FALSE)","v":2.5218219915201043E-2},0,{"$f":"NORMDIST(A736,Normalfordeling!D$2,Normalfordeling!D$3,TRUE)","v":0.99061329446515856}]
[{"$f":"(Normalfordeling!D$6-Normalfordeling!C$6)/1000+A736","v":7.3599999999998875},{"$f":"NORMDIST(A737,Normalfordeling!D$2,Normalfordeling!D$3,FALSE)","v":2.4631269306389036E-2},0,{"$f":"NORMDIST(A737,Normalfordeling!D$2,Normalfordeling!D$3,TRUE)","v":0.99086253246942457}]
[{"$f":"(Normalfordeling!D$6-Normalfordeling!C$6)/1000+A737","v":7.3699999999998873},{"$f":"NORMDIST(A738,Normalfordeling!D$2,Normalfordeling!D$3,FALSE)","v":2.4055574214769403E-2},0,{"$f":"NORMDIST(A738,Normalfordeling!D$2,Normalfordeling!D$3,TRUE)","v":0.99110595736966056}]
[{"$f":"(Normalfordeling!D$6-Normalfordeling!C$6)/1000+A738","v":7.3799999999998871},{"$f":"NORMDIST(A739,Normalfordeling!D$2,Normalfordeling!D$3,FALSE)","v":2.3490985358207674E-2},0,{"$f":"NORMDIST(A739,Normalfordeling!D$2,Normalfordeling!D$3,TRUE)","v":0.99134368097448078}]
[{"$f":"(Normalfordeling!D$6-Normalfordeling!C$6)/1000+A739","v":7.3899999999998869},{"$f":"NORMDIST(A740,Normalfordeling!D$2,Normalfordeling!D$3,FALSE)","v":2.2937353658366896E-2},0,{"$f":"NORMDIST(A740,Normalfordeling!D$2,Normalfordeling!D$3,TRUE)","v":0.99157581360065172}]
[{"$f":"(Normalfordeling!D$6-Normalfordeling!C$6)/1000+A740","v":7.3999999999998867},{"$f":"NORMDIST(A741,Normalfordeling!D$2,Normalfordeling!D$3,FALSE)","v":2.2394530294848988E-2},0,{"$f":"NORMDIST(A741,Normalfordeling!D$2,Normalfordeling!D$3,TRUE)","v":0.99180246407540129}]
[{"$f":"(Normalfordeling!D$6-Normalfordeling!C$6)/1000+A741","v":7.4099999999998865},{"$f":"NORMDIST(A742,Normalfordeling!D$2,Normalfordeling!D$3,FALSE)","v":2.1862366757935375E-2},0,{"$f":"NORMDIST(A742,Normalfordeling!D$2,Normalfordeling!D$3,TRUE)","v":0.99202373973926383}]
[{"$f":"(Normalfordeling!D$6-Normalfordeling!C$6)/1000+A742","v":7.4199999999998862},{"$f":"NORMDIST(A743,Normalfordeling!D$2,Normalfordeling!D$3,FALSE)","v":2.134071489992866E-2},0,{"$f":"NORMDIST(A743,Normalfordeling!D$2,Normalfordeling!D$3,TRUE)","v":0.9922397464494439}]
[{"$f":"(Normalfordeling!D$6-Normalfordeling!C$6)/1000+A743","v":7.429999999999886},{"$f":"NORMDIST(A744,Normalfordeling!D$2,Normalfordeling!D$3,FALSE)","v":2.0829426985097956E-2},0,{"$f":"NORMDIST(A744,Normalfordeling!D$2,Normalfordeling!D$3,TRUE)","v":0.9924505885836884}]
[{"$f":"(Normalfordeling!D$6-Normalfordeling!C$6)/1000+A744","v":7.4399999999998858},{"$f":"NORMDIST(A745,Normalfordeling!D$2,Normalfordeling!D$3,FALSE)","v":2.0328355738231496E-2},0,{"$f":"NORMDIST(A745,Normalfordeling!D$2,Normalfordeling!D$3,TRUE)","v":0.99265636904464938}]
[{"$f":"(Normalfordeling!D$6-Normalfordeling!C$6)/1000+A745","v":7.4499999999998856},{"$f":"NORMDIST(A746,Normalfordeling!D$2,Normalfordeling!D$3,FALSE)","v":1.9837354391800888E-2},0,{"$f":"NORMDIST(A746,Normalfordeling!D$2,Normalfordeling!D$3,TRUE)","v":0.99285718926472633}]
[{"$f":"(Normalfordeling!D$6-Normalfordeling!C$6)/1000+A746","v":7.4599999999998854},{"$f":"NORMDIST(A747,Normalfordeling!D$2,Normalfordeling!D$3,FALSE)","v":1.9356276731742412E-2},0,{"$f":"NORMDIST(A747,Normalfordeling!D$2,Normalfordeling!D$3,TRUE)","v":0.99305314921137344}]
[{"$f":"(Normalfordeling!D$6-Normalfordeling!C$6)/1000+A747","v":7.4699999999998852},{"$f":"NORMDIST(A748,Normalfordeling!D$2,Normalfordeling!D$3,FALSE)","v":1.888497714186153E-2},0,{"$f":"NORMDIST(A748,Normalfordeling!D$2,Normalfordeling!D$3,TRUE)","v":0.99324434739285716}]
[{"$f":"(Normalfordeling!D$6-Normalfordeling!C$6)/1000+A748","v":7.479999999999885},{"$f":"NORMDIST(A749,Normalfordeling!D$2,Normalfordeling!D$3,FALSE)","v":1.8423310646867308E-2},0,{"$f":"NORMDIST(A749,Normalfordeling!D$2,Normalfordeling!D$3,TRUE)","v":0.99343088086445108}]
[{"$f":"(Normalfordeling!D$6-Normalfordeling!C$6)/1000+A749","v":7.4899999999998847},{"$f":"NORMDIST(A750,Normalfordeling!D$2,Normalfordeling!D$3,FALSE)","v":1.7971132954044795E-2},0,{"$f":"NORMDIST(A750,Normalfordeling!D$2,Normalfordeling!D$3,TRUE)","v":0.99361284523505478}]
[{"$f":"(Normalfordeling!D$6-Normalfordeling!C$6)/1000+A750","v":7.4999999999998845},{"$f":"NORMDIST(A751,Normalfordeling!D$2,Normalfordeling!D$3,FALSE)","v":1.7528300493573599E-2},0,{"$f":"NORMDIST(A751,Normalfordeling!D$2,Normalfordeling!D$3,TRUE)","v":0.99379033467422184}]
[{"$f":"(Normalfordeling!D$6-Normalfordeling!C$6)/1000+A751","v":7.5099999999998843},{"$f":"NORMDIST(A752,Normalfordeling!D$2,Normalfordeling!D$3,FALSE)","v":1.7094670457501904E-2},0,{"$f":"NORMDIST(A752,Normalfordeling!D$2,Normalfordeling!D$3,TRUE)","v":0.99396344191958541}]
[{"$f":"(Normalfordeling!D$6-Normalfordeling!C$6)/1000+A752","v":7.5199999999998841},{"$f":"NORMDIST(A753,Normalfordeling!D$2,Normalfordeling!D$3,FALSE)","v":1.6670100837385928E-2},0,{"$f":"NORMDIST(A753,Normalfordeling!D$2,Normalfordeling!D$3,TRUE)","v":0.99413225828466556}]
[{"$f":"(Normalfordeling!D$6-Normalfordeling!C$6)/1000+A753","v":7.5299999999998839},{"$f":"NORMDIST(A754,Normalfordeling!D$2,Normalfordeling!D$3,FALSE)","v":1.6254450460605269E-2},0,{"$f":"NORMDIST(A754,Normalfordeling!D$2,Normalfordeling!D$3,TRUE)","v":0.99429687366704744}]
[{"$f":"(Normalfordeling!D$6-Normalfordeling!C$6)/1000+A754","v":7.5399999999998837},{"$f":"NORMDIST(A755,Normalfordeling!D$2,Normalfordeling!D$3,FALSE)","v":1.5847579025365498E-2},0,{"$f":"NORMDIST(A755,Normalfordeling!D$2,Normalfordeling!D$3,TRUE)","v":0.99445737655691557}]
[{"$f":"(Normalfordeling!D$6-Normalfordeling!C$6)/1000+A755","v":7.5499999999998835},{"$f":"NORMDIST(A756,Normalfordeling!D$2,Normalfordeling!D$3,FALSE)","v":1.5449347134399764E-2},0,{"$f":"NORMDIST(A756,Normalfordeling!D$2,Normalfordeling!D$3,TRUE)","v":0.9946138540459315}]
[{"$f":"(Normalfordeling!D$6-Normalfordeling!C$6)/1000+A756","v":7.5599999999998833},{"$f":"NORMDIST(A757,Normalfordeling!D$2,Normalfordeling!D$3,FALSE)","v":1.5059616327381951E-2},0,{"$f":"NORMDIST(A757,Normalfordeling!D$2,Normalfordeling!D$3,TRUE)","v":0.99476639183644244}]
[{"$f":"(Normalfordeling!D$6-Normalfordeling!C$6)/1000+A757","v":7.569999999999883},{"$f":"NORMDIST(A758,Normalfordeling!D$2,Normalfordeling!D$3,FALSE)","v":1.4678249112064452E-2},0,{"$f":"NORMDIST(A758,Normalfordeling!D$2,Normalfordeling!D$3,TRUE)","v":0.99491507425100723}]
[{"$f":"(Normalfordeling!D$6-Normalfordeling!C$6)/1000+A758","v":7.5799999999998828},{"$f":"NORMDIST(A759,Normalfordeling!D$2,Normalfordeling!D$3,FALSE)","v":1.4305108994154015E-2},0,{"$f":"NORMDIST(A759,Normalfordeling!D$2,Normalfordeling!D$3,TRUE)","v":0.99505998424222764}]
[{"$f":"(Normalfordeling!D$6-Normalfordeling!C$6)/1000+A759","v":7.5899999999998826},{"$f":"NORMDIST(A760,Normalfordeling!D$2,Normalfordeling!D$3,FALSE)","v":1.3940060505940058E-2},0,{"$f":"NORMDIST(A760,Normalfordeling!D$2,Normalfordeling!D$3,TRUE)","v":0.99520120340287221}]
[{"$f":"(Normalfordeling!D$6-Normalfordeling!C$6)/1000+A760","v":7.5999999999998824},{"$f":"NORMDIST(A761,Normalfordeling!D$2,Normalfordeling!D$3,FALSE)","v":1.3582969233689769E-2},0,{"$f":"NORMDIST(A761,Normalfordeling!D$2,Normalfordeling!D$3,TRUE)","v":0.9953388119762796}]
[{"$f":"(Normalfordeling!D$6-Normalfordeling!C$6)/1000+A761","v":7.6099999999998822},{"$f":"NORMDIST(A762,Normalfordeling!D$2,Normalfordeling!D$3,FALSE)","v":1.3233701843825435E-2},0,{"$f":"NORMDIST(A762,Normalfordeling!D$2,Normalfordeling!D$3,TRUE)","v":0.99547288886703111}]
[{"$f":"(Normalfordeling!D$6-Normalfordeling!C$6)/1000+A762","v":7.619999999999882},{"$f":"NORMDIST(A763,Normalfordeling!D$2,Normalfordeling!D$3,FALSE)","v":1.2892126107899296E-2},0,{"$f":"NORMDIST(A763,Normalfordeling!D$2,Normalfordeling!D$3,TRUE)","v":0.99560351165187722}]
[{"$f":"(Normalfordeling!D$6-Normalfordeling!C$6)/1000+A763","v":7.6299999999998818},{"$f":"NORMDIST(A764,Normalfordeling!D$2,Normalfordeling!D$3,FALSE)","v":1.2558110926382109E-2},0,{"$f":"NORMDIST(A764,Normalfordeling!D$2,Normalfordeling!D$3,TRUE)","v":0.99573075659090915}]
[{"$f":"(Normalfordeling!D$6-Normalfordeling!C$6)/1000+A764","v":7.6399999999998816},{"$f":"NORMDIST(A765,Normalfordeling!D$2,Normalfordeling!D$3,FALSE)","v":1.22315263512818E-2},0,{"$f":"NORMDIST(A765,Normalfordeling!D$2,Normalfordeling!D$3,TRUE)","v":0.99585469863896248}]
[{"$f":"(Normalfordeling!D$6-Normalfordeling!C$6)/1000+A765","v":7.6499999999998813},{"$f":"NORMDIST(A766,Normalfordeling!D$2,Normalfordeling!D$3,FALSE)","v":1.1912243607608924E-2},0,{"$f":"NORMDIST(A766,Normalfordeling!D$2,Normalfordeling!D$3,TRUE)","v":0.99597541145724033}]
[{"$f":"(Normalfordeling!D$6-Normalfordeling!C$6)/1000+A766","v":7.6599999999998811},{"$f":"NORMDIST(A767,Normalfordeling!D$2,Normalfordeling!D$3,FALSE)","v":1.1600135113706235E-2},0,{"$f":"NORMDIST(A767,Normalfordeling!D$2,Normalfordeling!D$3,TRUE)","v":0.99609296742514586}]
[{"$f":"(Normalfordeling!D$6-Normalfordeling!C$6)/1000+A767","v":7.6699999999998809},{"$f":"NORMDIST(A768,Normalfordeling!D$2,Normalfordeling!D$3,FALSE)","v":1.1295074500459726E-2},0,{"$f":"NORMDIST(A768,Normalfordeling!D$2,Normalfordeling!D$3,TRUE)","v":0.99620743765231312}]
[{"$f":"(Normalfordeling!D$6-Normalfordeling!C$6)/1000+A768","v":7.6799999999998807},{"$f":"NORMDIST(A769,Normalfordeling!D$2,Normalfordeling!D$3,FALSE)","v":1.0996936629409093E-2},0,{"$f":"NORMDIST(A769,Normalfordeling!D$2,Normalfordeling!D$3,TRUE)","v":0.99631889199082369}]
[{"$f":"(Normalfordeling!D$6-Normalfordeling!C$6)/1000+A769","v":7.6899999999998805},{"$f":"NORMDIST(A770,Normalfordeling!D$2,Normalfordeling!D$3,FALSE)","v":1.0705597609775623E-2},{"$f":"IF(AND(A770>=$C$1001,A770<=$C$1002),B770,0)","v":0},{"$f":"NORMDIST(A770,Normalfordeling!D$2,Normalfordeling!D$3,TRUE)","v":0.99642739904759903}]
[{"$f":"(Normalfordeling!D$6-Normalfordeling!C$6)/1000+A770","v":7.6999999999998803},{"$f":"NORMDIST(A771,Normalfordeling!D$2,Normalfordeling!D$3,FALSE)","v":1.0420934814425964E-2},0,{"$f":"NORMDIST(A771,Normalfordeling!D$2,Normalfordeling!D$3,TRUE)","v":0.99653302619695805}]
[{"$f":"(Normalfordeling!D$6-Normalfordeling!C$6)/1000+A771","v":7.7099999999998801},{"$f":"NORMDIST(A772,Normalfordeling!D$2,Normalfordeling!D$3,FALSE)","v":1.0142826894790374E-2},0,{"$f":"NORMDIST(A772,Normalfordeling!D$2,Normalfordeling!D$3,TRUE)","v":0.99663583959332958}]
[{"$f":"(Normalfordeling!D$6-Normalfordeling!C$6)/1000+A772","v":7.7199999999998798},{"$f":"NORMDIST(A773,Normalfordeling!D$2,Normalfordeling!D$3,FALSE)","v":9.8711537947543653E-3},0,{"$f":"NORMDIST(A773,Normalfordeling!D$2,Normalfordeling!D$3,TRUE)","v":0.99673590418410751}]
[{"$f":"(Normalfordeling!D$6-Normalfordeling!C$6)/1000+A773","v":7.7299999999998796},{"$f":"NORMDIST(A774,Normalfordeling!D$2,Normalfordeling!D$3,FALSE)","v":9.6057967635427444E-3},0,{"$f":"NORMDIST(A774,Normalfordeling!D$2,Normalfordeling!D$3,TRUE)","v":0.99683328372264102}]
[{"$f":"(Normalfordeling!D$6-Normalfordeling!C$6)/1000+A774","v":7.7399999999998794},{"$f":"NORMDIST(A775,Normalfordeling!D$2,Normalfordeling!D$3,FALSE)","v":9.3466383676153748E-3},0,{"$f":"NORMDIST(A775,Normalfordeling!D$2,Normalfordeling!D$3,TRUE)","v":0.99692804078134833}]
[{"$f":"(Normalfordeling!D$6-Normalfordeling!C$6)/1000+A775","v":7.7499999999998792},{"$f":"NORMDIST(A776,Normalfordeling!D$2,Normalfordeling!D$3,FALSE)","v":9.0935625015940748E-3},0,{"$f":"NORMDIST(A776,Normalfordeling!D$2,Normalfordeling!D$3,TRUE)","v":0.99702023676494433}]
[{"$f":"(Normalfordeling!D$6-Normalfordeling!C$6)/1000+A776","v":7.759999999999879},{"$f":"NORMDIST(A777,Normalfordeling!D$2,Normalfordeling!D$3,FALSE)","v":8.8464543982401771E-3},0,{"$f":"NORMDIST(A777,Normalfordeling!D$2,Normalfordeling!D$3,TRUE)","v":0.99710993192377273}]
[{"$f":"(Normalfordeling!D$6-Normalfordeling!C$6)/1000+A777","v":7.7699999999998788},{"$f":"NORMDIST(A778,Normalfordeling!D$2,Normalfordeling!D$3,FALSE)","v":8.6052006375025615E-3},0,{"$f":"NORMDIST(A778,Normalfordeling!D$2,Normalfordeling!D$3,TRUE)","v":0.9971971853672339}]
[{"$f":"(Normalfordeling!D$6-Normalfordeling!C$6)/1000+A778","v":7.7799999999998786},{"$f":"NORMDIST(A779,Normalfordeling!D$2,Normalfordeling!D$3,FALSE)","v":8.3696891546558537E-3},0,{"$f":"NORMDIST(A779,Normalfordeling!D$2,Normalfordeling!D$3,TRUE)","v":0.99728205507729772}]
[{"$f":"(Normalfordeling!D$6-Normalfordeling!C$6)/1000+A779","v":7.7899999999998784},{"$f":"NORMDIST(A780,Normalfordeling!D$2,Normalfordeling!D$3,FALSE)","v":8.1398092475487866E-3},0,{"$f":"NORMDIST(A780,Normalfordeling!D$2,Normalfordeling!D$3,TRUE)","v":0.99736459792209409}]
[{"$f":"(Normalfordeling!D$6-Normalfordeling!C$6)/1000+A780","v":7.7999999999998781},{"$f":"NORMDIST(A781,Normalfordeling!D$2,Normalfordeling!D$3,FALSE)","v":7.9154515829826643E-3},0,{"$f":"NORMDIST(A781,Normalfordeling!D$2,Normalfordeling!D$3,TRUE)","v":0.99744486966957113}]
[{"$f":"(Normalfordeling!D$6-Normalfordeling!C$6)/1000+A781","v":7.8099999999998779},{"$f":"NORMDIST(A782,Normalfordeling!D$2,Normalfordeling!D$3,FALSE)","v":7.6965082022399638E-3},0,{"$f":"NORMDIST(A782,Normalfordeling!D$2,Normalfordeling!D$3,TRUE)","v":0.9975229250012132}]
[{"$f":"(Normalfordeling!D$6-Normalfordeling!C$6)/1000+A782","v":7.8199999999998777},{"$f":"NORMDIST(A783,Normalfordeling!D$2,Normalfordeling!D$3,FALSE)","v":7.4828725257831382E-3},0,{"$f":"NORMDIST(A783,Normalfordeling!D$2,Normalfordeling!D$3,TRUE)","v":0.99759881752580981}]
[{"$f":"(Normalfordeling!D$6-Normalfordeling!C$6)/1000+A783","v":7.8299999999998775},{"$f":"NORMDIST(A784,Normalfordeling!D$2,Normalfordeling!D$3,FALSE)","v":7.274439357143744E-3},0,{"$f":"NORMDIST(A784,Normalfordeling!D$2,Normalfordeling!D$3,TRUE)","v":0.9976725997932675}]
[{"$f":"(Normalfordeling!D$6-Normalfordeling!C$6)/1000+A784","v":7.8399999999998773},{"$f":"NORMDIST(A785,Normalfordeling!D$2,Normalfordeling!D$3,FALSE)","v":7.0711048860219112E-3},0,{"$f":"NORMDIST(A785,Normalfordeling!D$2,Normalfordeling!D$3,TRUE)","v":0.99774432330845686}]
[{"$f":"(Normalfordeling!D$6-Normalfordeling!C$6)/1000+A785","v":7.8499999999998771},{"$f":"NORMDIST(A786,Normalfordeling!D$2,Normalfordeling!D$3,FALSE)","v":6.8727666906163816E-3},0,{"$f":"NORMDIST(A786,Normalfordeling!D$2,Normalfordeling!D$3,TRUE)","v":0.99781403854508588}]
[{"$f":"(Normalfordeling!D$6-Normalfordeling!C$6)/1000+A786","v":7.8599999999998769},{"$f":"NORMDIST(A787,Normalfordeling!D$2,Normalfordeling!D$3,FALSE)","v":6.6793237392049707E-3},0,{"$f":"NORMDIST(A787,Normalfordeling!D$2,Normalfordeling!D$3,TRUE)","v":0.99788179495959461}]
[{"$f":"(Normalfordeling!D$6-Normalfordeling!C$6)/1000+A787","v":7.8699999999998766},{"$f":"NORMDIST(A788,Normalfordeling!D$2,Normalfordeling!D$3,FALSE)","v":6.4906763909956637E-3},0,{"$f":"NORMDIST(A788,Normalfordeling!D$2,Normalfordeling!D$3,TRUE)","v":0.99794764100505939}]
[{"$f":"(Normalfordeling!D$6-Normalfordeling!C$6)/1000+A788","v":7.8799999999998764},{"$f":"NORMDIST(A789,Normalfordeling!D$2,Normalfordeling!D$3,FALSE)","v":6.3067263962681679E-3},0,{"$f":"NORMDIST(A789,Normalfordeling!D$2,Normalfordeling!D$3,TRUE)","v":0.99801162414510491}]
[{"$f":"(Normalfordeling!D$6-Normalfordeling!C$6)/1000+A789","v":7.8899999999998762},{"$f":"NORMDIST(A790,Normalfordeling!D$2,Normalfordeling!D$3,FALSE)","v":6.1273768958258808E-3},0,{"$f":"NORMDIST(A790,Normalfordeling!D$2,Normalfordeling!D$3,TRUE)","v":0.99807379086781134}]
[{"$f":"(Normalfordeling!D$6-Normalfordeling!C$6)/1000+A790","v":7.899999999999876},{"$f":"NORMDIST(A791,Normalfordeling!D$2,Normalfordeling!D$3,FALSE)","v":5.9525324197779953E-3},0,{"$f":"NORMDIST(A791,Normalfordeling!D$2,Normalfordeling!D$3,TRUE)","v":0.99813418669961518}]
[{"$f":"(Normalfordeling!D$6-Normalfordeling!C$6)/1000+A791","v":7.9099999999998758},{"$f":"NORMDIST(A792,Normalfordeling!D$2,Normalfordeling!D$3,FALSE)","v":5.7820988856715676E-3},0,{"$f":"NORMDIST(A792,Normalfordeling!D$2,Normalfordeling!D$3,TRUE)","v":0.99819285621919285}]
[{"$f":"(Normalfordeling!D$6-Normalfordeling!C$6)/1000+A792","v":7.9199999999998756},{"$f":"NORMDIST(A793,Normalfordeling!D$2,Normalfordeling!D$3,FALSE)","v":5.6159835959930038E-3},0,{"$f":"NORMDIST(A793,Normalfordeling!D$2,Normalfordeling!D$3,TRUE)","v":0.99824984307132325}]
[{"$f":"(Normalfordeling!D$6-Normalfordeling!C$6)/1000+A793","v":7.9299999999998754},{"$f":"NORMDIST(A794,Normalfordeling!D$2,Normalfordeling!D$3,FALSE)","v":5.4540952350585412E-3},0,{"$f":"NORMDIST(A794,Normalfordeling!D$2,Normalfordeling!D$3,TRUE)","v":0.99830518998072204}]
[{"$f":"(Normalfordeling!D$6-Normalfordeling!C$6)/1000+A794","v":7.9399999999998752},{"$f":"NORMDIST(A795,Normalfordeling!D$2,Normalfordeling!D$3,FALSE)","v":5.2963438653129621E-3},0,{"$f":"NORMDIST(A795,Normalfordeling!D$2,Normalfordeling!D$3,TRUE)","v":0.99835893876584236}]
[{"$f":"(Normalfordeling!D$6-Normalfordeling!C$6)/1000+A795","v":7.9499999999998749},{"$f":"NORMDIST(A796,Normalfordeling!D$2,Normalfordeling!D$3,FALSE)","v":5.1426409230558388E-3},0,{"$f":"NORMDIST(A796,Normalfordeling!D$2,Normalfordeling!D$3,TRUE)","v":0.99841113035263451}]
[{"$f":"(Normalfordeling!D$6-Normalfordeling!C$6)/1000+A796","v":7.9599999999998747},{"$f":"NORMDIST(A797,Normalfordeling!D$2,Normalfordeling!D$3,FALSE)","v":4.9928992136142256E-3},0,{"$f":"NORMDIST(A797,Normalfordeling!D$2,Normalfordeling!D$3,TRUE)","v":0.9984618047882613}]
[{"$f":"(Normalfordeling!D$6-Normalfordeling!C$6)/1000+A797","v":7.9699999999998745},{"$f":"NORMDIST(A798,Normalfordeling!D$2,Normalfordeling!D$3,FALSE)","v":4.8470329059807568E-3},0,{"$f":"NORMDIST(A798,Normalfordeling!D$2,Normalfordeling!D$3,TRUE)","v":0.99851100125476189}]
[{"$f":"(Normalfordeling!D$6-Normalfordeling!C$6)/1000+A798","v":7.9799999999998743},{"$f":"NORMDIST(A799,Normalfordeling!D$2,Normalfordeling!D$3,FALSE)","v":4.7049575269357434E-3},0,{"$f":"NORMDIST(A799,Normalfordeling!D$2,Normalfordeling!D$3,TRUE)","v":0.99855875808265937}]
[{"$f":"(Normalfordeling!D$6-Normalfordeling!C$6)/1000+A799","v":7.9899999999998741},{"$f":"NORMDIST(A800,Normalfordeling!D$2,Normalfordeling!D$3,FALSE)","v":4.5665899546718644E-3},0,{"$f":"NORMDIST(A800,Normalfordeling!D$2,Normalfordeling!D$3,TRUE)","v":0.99860511276450714}]
[{"$f":"(Normalfordeling!D$6-Normalfordeling!C$6)/1000+A800","v":7.9999999999998739},{"$f":"NORMDIST(A801,Normalfordeling!D$2,Normalfordeling!D$3,FALSE)","v":4.4318484119396841E-3},0,{"$f":"NORMDIST(A801,Normalfordeling!D$2,Normalfordeling!D$3,TRUE)","v":0.99865010196836934}]
[{"$f":"(Normalfordeling!D$6-Normalfordeling!C$6)/1000+A801","v":8.0099999999998737},{"$f":"NORMDIST(A802,Normalfordeling!D$2,Normalfordeling!D$3,FALSE)","v":4.3006524587320804E-3},0,{"$f":"NORMDIST(A802,Normalfordeling!D$2,Normalfordeling!D$3,TRUE)","v":0.99869376155123002}]
[{"$f":"(Normalfordeling!D$6-Normalfordeling!C$6)/1000+A802","v":8.0199999999998735},{"$f":"NORMDIST(A803,Normalfordeling!D$2,Normalfordeling!D$3,FALSE)","v":4.1729229845255565E-3},0,{"$f":"NORMDIST(A803,Normalfordeling!D$2,Normalfordeling!D$3,TRUE)","v":0.99873612657232713}]
[{"$f":"(Normalfordeling!D$6-Normalfordeling!C$6)/1000+A803","v":8.0299999999998732},{"$f":"NORMDIST(A804,Normalfordeling!D$2,Normalfordeling!D$3,FALSE)","v":4.0485822000959825E-3},0,{"$f":"NORMDIST(A804,Normalfordeling!D$2,Normalfordeling!D$3,TRUE)","v":0.99877723130640728}]
[{"$f":"(Normalfordeling!D$6-Normalfordeling!C$6)/1000+A804","v":8.039999999999873},{"$f":"NORMDIST(A805,Normalfordeling!D$2,Normalfordeling!D$3,FALSE)","v":3.9275536289262968E-3},0,{"$f":"NORMDIST(A805,Normalfordeling!D$2,Normalfordeling!D$3,TRUE)","v":0.99881710925689504}]
[{"$f":"(Normalfordeling!D$6-Normalfordeling!C$6)/1000+A805","v":8.0499999999998728},{"$f":"NORMDIST(A806,Normalfordeling!D$2,Normalfordeling!D$3,FALSE)","v":3.8097620982232858E-3},0,{"$f":"NORMDIST(A806,Normalfordeling!D$2,Normalfordeling!D$3,TRUE)","v":0.99885579316897677}]
[{"$f":"(Normalfordeling!D$6-Normalfordeling!C$6)/1000+A806","v":8.0599999999998726},{"$f":"NORMDIST(A807,Normalfordeling!D$2,Normalfordeling!D$3,FALSE)","v":3.6951337295604756E-3},0,{"$f":"NORMDIST(A807,Normalfordeling!D$2,Normalfordeling!D$3,TRUE)","v":0.99889331504259027}]
[{"$f":"(Normalfordeling!D$6-Normalfordeling!C$6)/1000+A807","v":8.0699999999998724},{"$f":"NORMDIST(A808,Normalfordeling!D$2,Normalfordeling!D$3,FALSE)","v":3.5835959291637648E-3},0,{"$f":"NORMDIST(A808,Normalfordeling!D$2,Normalfordeling!D$3,TRUE)","v":0.99892970614532062}]
[{"$f":"(Normalfordeling!D$6-Normalfordeling!C$6)/1000+A808","v":8.0799999999998722},{"$f":"NORMDIST(A809,Normalfordeling!D$2,Normalfordeling!D$3,FALSE)","v":3.4750773778563053E-3},0,{"$f":"NORMDIST(A809,Normalfordeling!D$2,Normalfordeling!D$3,TRUE)","v":0.9989649970251967}]
[{"$f":"(Normalfordeling!D$6-Normalfordeling!C$6)/1000+A809","v":8.089999999999872},{"$f":"NORMDIST(A810,Normalfordeling!D$2,Normalfordeling!D$3,FALSE)","v":3.3695080206788126E-3},0,{"$f":"NORMDIST(A810,Normalfordeling!D$2,Normalfordeling!D$3,TRUE)","v":0.99899921752338561}]
[{"$f":"(Normalfordeling!D$6-Normalfordeling!C$6)/1000+A810","v":8.0999999999998717},{"$f":"NORMDIST(A811,Normalfordeling!D$2,Normalfordeling!D$3,FALSE)","v":3.2668190562012188E-3},0,{"$f":"NORMDIST(A811,Normalfordeling!D$2,Normalfordeling!D$3,TRUE)","v":0.99903239678678124}]
[{"$f":"(Normalfordeling!D$6-Normalfordeling!C$6)/1000+A811","v":8.1099999999998715},{"$f":"NORMDIST(A812,Normalfordeling!D$2,Normalfordeling!D$3,FALSE)","v":3.1669429255413435E-3},0,{"$f":"NORMDIST(A812,Normalfordeling!D$2,Normalfordeling!D$3,TRUE)","v":0.99906456328048554}]
[{"$f":"(Normalfordeling!D$6-Normalfordeling!C$6)/1000+A812","v":8.1199999999998713},{"$f":"NORMDIST(A813,Normalfordeling!D$2,Normalfordeling!D$3,FALSE)","v":3.0698133011059728E-3},0,{"$f":"NORMDIST(A813,Normalfordeling!D$2,Normalfordeling!D$3,TRUE)","v":0.99909574480017727}]
[{"$f":"(Normalfordeling!D$6-Normalfordeling!C$6)/1000+A813","v":8.1299999999998711},{"$f":"NORMDIST(A814,Normalfordeling!D$2,Normalfordeling!D$3,FALSE)","v":2.9753650750694535E-3},0,{"$f":"NORMDIST(A814,Normalfordeling!D$2,Normalfordeling!D$3,TRUE)","v":0.99912596848436808}]
[{"$f":"(Normalfordeling!D$6-Normalfordeling!C$6)/1000+A814","v":8.1399999999998709},{"$f":"NORMDIST(A815,Normalfordeling!D$2,Normalfordeling!D$3,FALSE)","v":2.8835343476046093E-3},0,{"$f":"NORMDIST(A815,Normalfordeling!D$2,Normalfordeling!D$3,TRUE)","v":0.99915526082654105}]
[{"$f":"(Normalfordeling!D$6-Normalfordeling!C$6)/1000+A815","v":8.1499999999998707},{"$f":"NORMDIST(A816,Normalfordeling!D$2,Normalfordeling!D$3,FALSE)","v":2.7942584148805839E-3},0,{"$f":"NORMDIST(A816,Normalfordeling!D$2,Normalfordeling!D$3,TRUE)","v":0.99918364768717105}]
[{"$f":"(Normalfordeling!D$6-Normalfordeling!C$6)/1000+A816","v":8.1599999999998705},{"$f":"NORMDIST(A817,Normalfordeling!D$2,Normalfordeling!D$3,FALSE)","v":2.707475756841811E-3},0,{"$f":"NORMDIST(A817,Normalfordeling!D$2,Normalfordeling!D$3,TRUE)","v":0.99921115430562413}]
[{"$f":"(Normalfordeling!D$6-Normalfordeling!C$6)/1000+A817","v":8.1699999999998703},{"$f":"NORMDIST(A818,Normalfordeling!D$2,Normalfordeling!D$3,FALSE)","v":2.6231260247821034E-3},0,{"$f":"NORMDIST(A818,Normalfordeling!D$2,Normalfordeling!D$3,TRUE)","v":0.9992378053119324}]
[{"$f":"(Normalfordeling!D$6-Normalfordeling!C$6)/1000+A818","v":8.17999999999987},{"$f":"NORMDIST(A819,Normalfordeling!D$2,Normalfordeling!D$3,FALSE)","v":2.5411500287275731E-3},0,{"$f":"NORMDIST(A819,Normalfordeling!D$2,Normalfordeling!D$3,TRUE)","v":0.99926362473844577}]
[{"$f":"(Normalfordeling!D$6-Normalfordeling!C$6)/1000+A819","v":8.1899999999998698},{"$f":"NORMDIST(A820,Normalfordeling!D$2,Normalfordeling!D$3,FALSE)","v":2.4614897246417215E-3},0,{"$f":"NORMDIST(A820,Normalfordeling!D$2,Normalfordeling!D$3,TRUE)","v":0.99928863603135432}]
[{"$f":"(Normalfordeling!D$6-Normalfordeling!C$6)/1000+A820","v":8.1999999999998696},{"$f":"NORMDIST(A821,Normalfordeling!D$2,Normalfordeling!D$3,FALSE)","v":2.3840882014658374E-3},0,{"$f":"NORMDIST(A821,Normalfordeling!D$2,Normalfordeling!D$3,TRUE)","v":0.99931286206208381}]
[{"$f":"(Normalfordeling!D$6-Normalfordeling!C$6)/1000+A821","v":8.2099999999998694},{"$f":"NORMDIST(A822,Normalfordeling!D$2,Normalfordeling!D$3,FALSE)","v":2.3088896680074633E-3},0,{"$f":"NORMDIST(A822,Normalfordeling!D$2,Normalfordeling!D$3,TRUE)","v":0.99933632513855974}]
[{"$f":"(Normalfordeling!D$6-Normalfordeling!C$6)/1000+A822","v":8.2199999999998692},{"$f":"NORMDIST(A823,Normalfordeling!D$2,Normalfordeling!D$3,FALSE)","v":2.2358394396894818E-3},0,{"$f":"NORMDIST(A823,Normalfordeling!D$2,Normalfordeling!D$3,TRUE)","v":0.9993590470163396}]
[{"$f":"(Normalfordeling!D$6-Normalfordeling!C$6)/1000+A823","v":8.229999999999869},{"$f":"NORMDIST(A824,Normalfordeling!D$2,Normalfordeling!D$3,FALSE)","v":2.1648839251719796E-3},0,{"$f":"NORMDIST(A824,Normalfordeling!D$2,Normalfordeling!D$3,TRUE)","v":0.99938104890961288}]
[{"$f":"(Normalfordeling!D$6-Normalfordeling!C$6)/1000+A824","v":8.2399999999998688},{"$f":"NORMDIST(A825,Normalfordeling!D$2,Normalfordeling!D$3,FALSE)","v":2.0959706128588352E-3},0,{"$f":"NORMDIST(A825,Normalfordeling!D$2,Normalfordeling!D$3,TRUE)","v":0.99940235150206536}]
[{"$f":"(Normalfordeling!D$6-Normalfordeling!C$6)/1000+A825","v":8.2499999999998685},{"$f":"NORMDIST(A826,Normalfordeling!D$2,Normalfordeling!D$3,FALSE)","v":2.029048057300635E-3},0,{"$f":"NORMDIST(A826,Normalfordeling!D$2,Normalfordeling!D$3,TRUE)","v":0.99942297495760901}]
[{"$f":"(Normalfordeling!D$6-Normalfordeling!C$6)/1000+A826","v":8.2599999999998683},{"$f":"NORMDIST(A827,Normalfordeling!D$2,Normalfordeling!D$3,FALSE)","v":1.9640658655052184E-3},0,{"$f":"NORMDIST(A827,Normalfordeling!D$2,Normalfordeling!D$3,TRUE)","v":0.99944293893097513}]
[{"$f":"(Normalfordeling!D$6-Normalfordeling!C$6)/1000+A827","v":8.2699999999998681},{"$f":"NORMDIST(A828,Normalfordeling!D$2,Normalfordeling!D$3,FALSE)","v":1.9009746831668993E-3},0,{"$f":"NORMDIST(A828,Normalfordeling!D$2,Normalfordeling!D$3,TRUE)","v":0.99946226257817006}]
[{"$f":"(Normalfordeling!D$6-Normalfordeling!C$6)/1000+A828","v":8.2799999999998679},{"$f":"NORMDIST(A829,Normalfordeling!D$2,Normalfordeling!D$3,FALSE)","v":1.8397261808250766E-3},0,{"$f":"NORMDIST(A829,Normalfordeling!D$2,Normalfordeling!D$3,TRUE)","v":0.99948096456679281}]
[{"$f":"(Normalfordeling!D$6-Normalfordeling!C$6)/1000+A829","v":8.2899999999998677},{"$f":"NORMDIST(A830,Normalfordeling!D$2,Normalfordeling!D$3,FALSE)","v":1.7802730399626534E-3},0,{"$f":"NORMDIST(A830,Normalfordeling!D$2,Normalfordeling!D$3,TRUE)","v":0.99949906308621406}]
[{"$f":"(Normalfordeling!D$6-Normalfordeling!C$6)/1000+A830","v":8.2999999999998675},{"$f":"NORMDIST(A831,Normalfordeling!D$2,Normalfordeling!D$3,FALSE)","v":1.7225689390544341E-3},0,{"$f":"NORMDIST(A831,Normalfordeling!D$2,Normalfordeling!D$3,TRUE)","v":0.999516575857616}]
[{"$f":"(Normalfordeling!D$6-Normalfordeling!C$6)/1000+A831","v":8.3099999999998673},{"$f":"NORMDIST(A832,Normalfordeling!D$2,Normalfordeling!D$3,FALSE)","v":1.6665685395753126E-3},0,{"$f":"NORMDIST(A832,Normalfordeling!D$2,Normalfordeling!D$3,TRUE)","v":0.99953352014389218}]
[{"$f":"(Normalfordeling!D$6-Normalfordeling!C$6)/1000+A832","v":8.3199999999998671},{"$f":"NORMDIST(A833,Normalfordeling!D$2,Normalfordeling!D$3,FALSE)","v":1.6122274719778361E-3},0,{"$f":"NORMDIST(A833,Normalfordeling!D$2,Normalfordeling!D$3,TRUE)","v":0.99954991275940763}]
[{"$f":"(Normalfordeling!D$6-Normalfordeling!C$6)/1000+A833","v":8.3299999999998668},{"$f":"NORMDIST(A834,Normalfordeling!D$2,Normalfordeling!D$3,FALSE)","v":1.5595023216483843E-3},{"$f":"IF(AND(A834>=$C$1001,A834<=$C$1002),B834,0)","v":0},{"$f":"NORMDIST(A834,Normalfordeling!D$2,Normalfordeling!D$3,TRUE)","v":0.99956577007961811}]
[{"$f":"(Normalfordeling!D$6-Normalfordeling!C$6)/1000+A834","v":8.3399999999998666},{"$f":"NORMDIST(A835,Normalfordeling!D$2,Normalfordeling!D$3,FALSE)","v":1.5083506148509784E-3},0,{"$f":"NORMDIST(A835,Normalfordeling!D$2,Normalfordeling!D$3,TRUE)","v":0.99958110805054945}]
[{"$f":"(Normalfordeling!D$6-Normalfordeling!C$6)/1000+A835","v":8.3499999999998664},{"$f":"NORMDIST(A836,Normalfordeling!D$2,Normalfordeling!D$3,FALSE)","v":1.4587308046673988E-3},0,{"$f":"NORMDIST(A836,Normalfordeling!D$2,Normalfordeling!D$3,TRUE)","v":0.99959594219813575}]
[{"$f":"(Normalfordeling!D$6-Normalfordeling!C$6)/1000+A836","v":8.3599999999998662},{"$f":"NORMDIST(A837,Normalfordeling!D$2,Normalfordeling!D$3,FALSE)","v":1.4106022569420175E-3},0,{"$f":"NORMDIST(A837,Normalfordeling!D$2,Normalfordeling!D$3,TRUE)","v":0.99961028763741777}]
[{"$f":"(Normalfordeling!D$6-Normalfordeling!C$6)/1000+A837","v":8.369999999999866},{"$f":"NORMDIST(A838,Normalfordeling!D$2,Normalfordeling!D$3,FALSE)","v":1.3639252362395201E-3},0,{"$f":"NORMDIST(A838,Normalfordeling!D$2,Normalfordeling!D$3,TRUE)","v":0.99962415908159974}]
[{"$f":"(Normalfordeling!D$6-Normalfordeling!C$6)/1000+A838","v":8.3799999999998658},{"$f":"NORMDIST(A839,Normalfordeling!D$2,Normalfordeling!D$3,FALSE)","v":1.3186608918233395E-3},0,{"$f":"NORMDIST(A839,Normalfordeling!D$2,Normalfordeling!D$3,TRUE)","v":0.99963757085096683}]
[{"$f":"(Normalfordeling!D$6-Normalfordeling!C$6)/1000+A839","v":8.3899999999998656},{"$f":"NORMDIST(A840,Normalfordeling!D$2,Normalfordeling!D$3,FALSE)","v":1.2747712436624137E-3},0,{"$f":"NORMDIST(A840,Normalfordeling!D$2,Normalfordeling!D$3,TRUE)","v":0.99965053688166183}]
[{"$f":"(Normalfordeling!D$6-Normalfordeling!C$6)/1000+A840","v":8.3999999999998654},{"$f":"NORMDIST(A841,Normalfordeling!D$2,Normalfordeling!D$3,FALSE)","v":1.2322191684735833E-3},0,{"$f":"NORMDIST(A841,Normalfordeling!D$2,Normalfordeling!D$3,TRUE)","v":0.99966307073432292}]
[{"$f":"(Normalfordeling!D$6-Normalfordeling!C$6)/1000+A841","v":8.4099999999998651},{"$f":"NORMDIST(A842,Normalfordeling!D$2,Normalfordeling!D$3,FALSE)","v":1.1909683858066656E-3},0,{"$f":"NORMDIST(A842,Normalfordeling!D$2,Normalfordeling!D$3,TRUE)","v":0.99967518560258095}]
[{"$f":"(Normalfordeling!D$6-Normalfordeling!C$6)/1000+A842","v":8.4199999999998649},{"$f":"NORMDIST(A843,Normalfordeling!D$2,Normalfordeling!D$3,FALSE)","v":1.1509834441790151E-3},0,{"$f":"NORMDIST(A843,Normalfordeling!D$2,Normalfordeling!D$3,TRUE)","v":0.99968689432141866}]
[{"$f":"(Normalfordeling!D$6-Normalfordeling!C$6)/1000+A843","v":8.4299999999998647},{"$f":"NORMDIST(A844,Normalfordeling!D$2,Normalfordeling!D$3,FALSE)","v":1.1122297072660816E-3},0,{"$f":"NORMDIST(A844,Normalfordeling!D$2,Normalfordeling!D$3,TRUE)","v":0.99969820937539122}]
[{"$f":"(Normalfordeling!D$6-Normalfordeling!C$6)/1000+A844","v":8.4399999999998645},{"$f":"NORMDIST(A845,Normalfordeling!D$2,Normalfordeling!D$3,FALSE)","v":1.0746733401542359E-3},0,{"$f":"NORMDIST(A845,Normalfordeling!D$2,Normalfordeling!D$3,TRUE)","v":0.99970914290670909}]
[{"$f":"(Normalfordeling!D$6-Normalfordeling!C$6)/1000+A845","v":8.4499999999998643},{"$f":"NORMDIST(A846,Normalfordeling!D$2,Normalfordeling!D$3,FALSE)","v":1.0382812956618971E-3},0,{"$f":"NORMDIST(A846,Normalfordeling!D$2,Normalfordeling!D$3,TRUE)","v":0.99971970672318367}]
[{"$f":"(Normalfordeling!D$6-Normalfordeling!C$6)/1000+A846","v":8.4599999999998641},{"$f":"NORMDIST(A847,Normalfordeling!D$2,Normalfordeling!D$3,FALSE)","v":1.0030213007347097E-3},0,{"$f":"NORMDIST(A847,Normalfordeling!D$2,Normalfordeling!D$3,TRUE)","v":0.99972991230603636}]
[{"$f":"(Normalfordeling!D$6-Normalfordeling!C$6)/1000+A847","v":8.4699999999998639},{"$f":"NORMDIST(A848,Normalfordeling!D$2,Normalfordeling!D$3,FALSE)","v":9.6886184292030366E-4},0,{"$f":"NORMDIST(A848,Normalfordeling!D$2,Normalfordeling!D$3,TRUE)","v":0.99973977081757237}]
[{"$f":"(Normalfordeling!D$6-Normalfordeling!C$6)/1000+A848","v":8.4799999999998636},{"$f":"NORMDIST(A849,Normalfordeling!D$2,Normalfordeling!D$3,FALSE)","v":9.3577215692792353E-4},0,{"$f":"NORMDIST(A849,Normalfordeling!D$2,Normalfordeling!D$3,TRUE)","v":0.99974929310871929}]
[{"$f":"(Normalfordeling!D$6-Normalfordeling!C$6)/1000+A849","v":8.4899999999998634},{"$f":"NORMDIST(A850,Normalfordeling!D$2,Normalfordeling!D$3,FALSE)","v":9.0372221127795556E-4},0,{"$f":"NORMDIST(A850,Normalfordeling!D$2,Normalfordeling!D$3,TRUE)","v":0.999758489726432}]
[{"$f":"(Normalfordeling!D$6-Normalfordeling!C$6)/1000+A850","v":8.4999999999998632},{"$f":"NORMDIST(A851,Normalfordeling!D$2,Normalfordeling!D$3,FALSE)","v":8.726826950461779E-4},0,{"$f":"NORMDIST(A851,Normalfordeling!D$2,Normalfordeling!D$3,TRUE)","v":0.99976737092096435}]
[{"$f":"(Normalfordeling!D$6-Normalfordeling!C$6)/1000+A851","v":8.509999999999863},{"$f":"NORMDIST(A852,Normalfordeling!D$2,Normalfordeling!D$3,FALSE)","v":8.4262500470730687E-4},0,{"$f":"NORMDIST(A852,Normalfordeling!D$2,Normalfordeling!D$3,TRUE)","v":0.99977594665300884}]
[{"$f":"(Normalfordeling!D$6-Normalfordeling!C$6)/1000+A852","v":8.5199999999998628},{"$f":"NORMDIST(A853,Normalfordeling!D$2,Normalfordeling!D$3,FALSE)","v":8.1352123108220154E-4},0,{"$f":"NORMDIST(A853,Normalfordeling!D$2,Normalfordeling!D$3,TRUE)","v":0.99978422660070521}]
[{"$f":"(Normalfordeling!D$6-Normalfordeling!C$6)/1000+A853","v":8.5299999999998626},{"$f":"NORMDIST(A854,Normalfordeling!D$2,Normalfordeling!D$3,FALSE)","v":7.8534414639284999E-4},0,{"$f":"NORMDIST(A854,Normalfordeling!D$2,Normalfordeling!D$3,TRUE)","v":0.99979222016651925}]
[{"$f":"(Normalfordeling!D$6-Normalfordeling!C$6)/1000+A854","v":8.5399999999998624},{"$f":"NORMDIST(A855,Normalfordeling!D$2,Normalfordeling!D$3,FALSE)","v":7.5806719142907991E-4},0,{"$f":"NORMDIST(A855,Normalfordeling!D$2,Normalfordeling!D$3,TRUE)","v":0.99979993648399257}]
[{"$f":"(Normalfordeling!D$6-Normalfordeling!C$6)/1000+A855","v":8.5499999999998622},{"$f":"NORMDIST(A856,Normalfordeling!D$2,Normalfordeling!D$3,FALSE)","v":7.3166446283066836E-4},0,{"$f":"NORMDIST(A856,Normalfordeling!D$2,Normalfordeling!D$3,TRUE)","v":0.99980738442436423}]
[{"$f":"(Normalfordeling!D$6-Normalfordeling!C$6)/1000+A856","v":8.5599999999998619},{"$f":"NORMDIST(A857,Normalfordeling!D$2,Normalfordeling!D$3,FALSE)","v":7.0611070048838358E-4},0,{"$f":"NORMDIST(A857,Normalfordeling!D$2,Normalfordeling!D$3,TRUE)","v":0.99981457260306661}]
[{"$f":"(Normalfordeling!D$6-Normalfordeling!C$6)/1000+A857","v":8.5699999999998617},{"$f":"NORMDIST(A858,Normalfordeling!D$2,Normalfordeling!D$3,FALSE)","v":6.81381275067228E-4},0,{"$f":"NORMDIST(A858,Normalfordeling!D$2,Normalfordeling!D$3,TRUE)","v":0.99982150938609504}]
[{"$f":"(Normalfordeling!D$6-Normalfordeling!C$6)/1000+A858","v":8.5799999999998615},{"$f":"NORMDIST(A859,Normalfordeling!D$2,Normalfordeling!D$3,FALSE)","v":6.5745217565500226E-4},0,{"$f":"NORMDIST(A859,Normalfordeling!D$2,Normalfordeling!D$3,TRUE)","v":0.99982820289625396}]
[{"$f":"(Normalfordeling!D$6-Normalfordeling!C$6)/1000+A859","v":8.5899999999998613},{"$f":"NORMDIST(A860,Normalfordeling!D$2,Normalfordeling!D$3,FALSE)","v":6.34299997539073E-4},0,{"$f":"NORMDIST(A860,Normalfordeling!D$2,Normalfordeling!D$3,TRUE)","v":0.99983466101927976}]
[{"$f":"(Normalfordeling!D$6-Normalfordeling!C$6)/1000+A860","v":8.5999999999998611},{"$f":"NORMDIST(A861,Normalfordeling!D$2,Normalfordeling!D$3,FALSE)","v":6.1190193011407851E-4},0,{"$f":"NORMDIST(A861,Normalfordeling!D$2,Normalfordeling!D$3,TRUE)","v":0.99984089140984234}]
[{"$f":"(Normalfordeling!D$6-Normalfordeling!C$6)/1000+A861","v":8.6099999999998609},{"$f":"NORMDIST(A862,Normalfordeling!D$2,Normalfordeling!D$3,FALSE)","v":5.9023574492308181E-4},0,{"$f":"NORMDIST(A862,Normalfordeling!D$2,Normalfordeling!D$3,TRUE)","v":0.99984690149742617}]
[{"$f":"(Normalfordeling!D$6-Normalfordeling!C$6)/1000+A862","v":8.6199999999998607},{"$f":"NORMDIST(A863,Normalfordeling!D$2,Normalfordeling!D$3,FALSE)","v":5.6927978383453982E-4},0,{"$f":"NORMDIST(A863,Normalfordeling!D$2,Normalfordeling!D$3,TRUE)","v":0.99985269849209246}]
[{"$f":"(Normalfordeling!D$6-Normalfordeling!C$6)/1000+A863","v":8.6299999999998604},{"$f":"NORMDIST(A864,Normalfordeling!D$2,Normalfordeling!D$3,FALSE)","v":5.4901294735723669E-4},0,{"$f":"NORMDIST(A864,Normalfordeling!D$2,Normalfordeling!D$3,TRUE)","v":0.99985828939012411}]
[{"$f":"(Normalfordeling!D$6-Normalfordeling!C$6)/1000+A864","v":8.6399999999998602},{"$f":"NORMDIST(A865,Normalfordeling!D$2,Normalfordeling!D$3,FALSE)","v":5.2941468309520418E-4},0,{"$f":"NORMDIST(A865,Normalfordeling!D$2,Normalfordeling!D$3,TRUE)","v":0.99986368097955414}]
[{"$f":"(Normalfordeling!D$6-Normalfordeling!C$6)/1000+A865","v":8.64999999999986},{"$f":"NORMDIST(A866,Normalfordeling!D$2,Normalfordeling!D$3,FALSE)","v":5.1046497434444635E-4},0,{"$f":"NORMDIST(A866,Normalfordeling!D$2,Normalfordeling!D$3,TRUE)","v":0.99986887984557948}]
[{"$f":"(Normalfordeling!D$6-Normalfordeling!C$6)/1000+A866","v":8.6599999999998598},{"$f":"NORMDIST(A867,Normalfordeling!D$2,Normalfordeling!D$3,FALSE)","v":4.9214432883314617E-4},0,{"$f":"NORMDIST(A867,Normalfordeling!D$2,Normalfordeling!D$3,TRUE)","v":0.99987389237586144}]
[{"$f":"(Normalfordeling!D$6-Normalfordeling!C$6)/1000+A867","v":8.6699999999998596},{"$f":"NORMDIST(A868,Normalfordeling!D$2,Normalfordeling!D$3,FALSE)","v":4.7443376760686508E-4},0,{"$f":"NORMDIST(A868,Normalfordeling!D$2,Normalfordeling!D$3,TRUE)","v":0.9998787247657146}]
[{"$f":"(Normalfordeling!D$6-Normalfordeling!C$6)/1000+A868","v":8.6799999999998594},{"$f":"NORMDIST(A869,Normalfordeling!D$2,Normalfordeling!D$3,FALSE)","v":4.5731481406009359E-4},0,{"$f":"NORMDIST(A869,Normalfordeling!D$2,Normalfordeling!D$3,TRUE)","v":0.99988338302318458}]
[{"$f":"(Normalfordeling!D$6-Normalfordeling!C$6)/1000+A869","v":8.6899999999998592},{"$f":"NORMDIST(A870,Normalfordeling!D$2,Normalfordeling!D$3,FALSE)","v":4.4076948311536161E-4},0,{"$f":"NORMDIST(A870,Normalfordeling!D$2,Normalfordeling!D$3,TRUE)","v":0.99988787297401771}]
[{"$f":"(Normalfordeling!D$6-Normalfordeling!C$6)/1000+A870","v":8.699999999999859},{"$f":"NORMDIST(A871,Normalfordeling!D$2,Normalfordeling!D$3,FALSE)","v":4.2478027055097326E-4},0,{"$f":"NORMDIST(A871,Normalfordeling!D$2,Normalfordeling!D$3,TRUE)","v":0.99989220026652259}]
[{"$f":"(Normalfordeling!D$6-Normalfordeling!C$6)/1000+A871","v":8.7099999999998587},{"$f":"NORMDIST(A872,Normalfordeling!D$2,Normalfordeling!D$3,FALSE)","v":4.0933014247829328E-4},0,{"$f":"NORMDIST(A872,Normalfordeling!D$2,Normalfordeling!D$3,TRUE)","v":0.99989637037632595}]
[{"$f":"(Normalfordeling!D$6-Normalfordeling!C$6)/1000+A872","v":8.7199999999998585},{"$f":"NORMDIST(A873,Normalfordeling!D$2,Normalfordeling!D$3,FALSE)","v":3.9440252496936439E-4},0,{"$f":"NORMDIST(A873,Normalfordeling!D$2,Normalfordeling!D$3,TRUE)","v":0.99990038861102404}]
[{"$f":"(Normalfordeling!D$6-Normalfordeling!C$6)/1000+A873","v":8.7299999999998583},{"$f":"NORMDIST(A874,Normalfordeling!D$2,Normalfordeling!D$3,FALSE)","v":3.7998129383552226E-4},0,{"$f":"NORMDIST(A874,Normalfordeling!D$2,Normalfordeling!D$3,TRUE)","v":0.99990426011473099}]
[{"$f":"(Normalfordeling!D$6-Normalfordeling!C$6)/1000+A874","v":8.7399999999998581},{"$f":"NORMDIST(A875,Normalfordeling!D$2,Normalfordeling!D$3,FALSE)","v":3.6605076455752973E-4},0,{"$f":"NORMDIST(A875,Normalfordeling!D$2,Normalfordeling!D$3,TRUE)","v":0.99990798987252583}]
[{"$f":"(Normalfordeling!D$6-Normalfordeling!C$6)/1000+A875","v":8.7499999999998579},{"$f":"NORMDIST(A876,Normalfordeling!D$2,Normalfordeling!D$3,FALSE)","v":3.525956823676333E-4},0,{"$f":"NORMDIST(A876,Normalfordeling!D$2,Normalfordeling!D$3,TRUE)","v":0.99991158271479919}]
[{"$f":"(Normalfordeling!D$6-Normalfordeling!C$6)/1000+A876","v":8.7599999999998577},{"$f":"NORMDIST(A877,Normalfordeling!D$2,Normalfordeling!D$3,FALSE)","v":3.3960121248383633E-4},0,{"$f":"NORMDIST(A877,Normalfordeling!D$2,Normalfordeling!D$3,TRUE)","v":0.99991504332150194}]
[{"$f":"(Normalfordeling!D$6-Normalfordeling!C$6)/1000+A877","v":8.7699999999998575},{"$f":"NORMDIST(A878,Normalfordeling!D$2,Normalfordeling!D$3,FALSE)","v":3.2705293049655073E-4},0,{"$f":"NORMDIST(A878,Normalfordeling!D$2,Normalfordeling!D$3,TRUE)","v":0.99991837622629731}]
[{"$f":"(Normalfordeling!D$6-Normalfordeling!C$6)/1000+A878","v":8.7799999999998573},{"$f":"NORMDIST(A879,Normalfordeling!D$2,Normalfordeling!D$3,FALSE)","v":3.1493681290769161E-4},0,{"$f":"NORMDIST(A879,Normalfordeling!D$2,Normalfordeling!D$3,TRUE)","v":0.99992158582061641}]
[{"$f":"(Normalfordeling!D$6-Normalfordeling!C$6)/1000+A879","v":8.789999999999857},{"$f":"NORMDIST(A880,Normalfordeling!D$2,Normalfordeling!D$3,FALSE)","v":3.0323922782216853E-4},0,{"$f":"NORMDIST(A880,Normalfordeling!D$2,Normalfordeling!D$3,TRUE)","v":0.99992467635762128}]
[{"$f":"(Normalfordeling!D$6-Normalfordeling!C$6)/1000+A880","v":8.7999999999998568},{"$f":"NORMDIST(A881,Normalfordeling!D$2,Normalfordeling!D$3,FALSE)","v":2.91946925791619E-4},0,{"$f":"NORMDIST(A881,Normalfordeling!D$2,Normalfordeling!D$3,TRUE)","v":0.9999276519560748}]
[{"$f":"(Normalfordeling!D$6-Normalfordeling!C$6)/1000+A881","v":8.8099999999998566},{"$f":"NORMDIST(A882,Normalfordeling!D$2,Normalfordeling!D$3,FALSE)","v":2.8104703081013979E-4},0,{"$f":"NORMDIST(A882,Normalfordeling!D$2,Normalfordeling!D$3,TRUE)","v":0.99993051660412013}]
[{"$f":"(Normalfordeling!D$6-Normalfordeling!C$6)/1000+A882","v":8.8199999999998564},{"$f":"NORMDIST(A883,Normalfordeling!D$2,Normalfordeling!D$3,FALSE)","v":2.7052703146166927E-4},0,{"$f":"NORMDIST(A883,Normalfordeling!D$2,Normalfordeling!D$3,TRUE)","v":0.99993327416297029}]
[{"$f":"(Normalfordeling!D$6-Normalfordeling!C$6)/1000+A883","v":8.8299999999998562},{"$f":"NORMDIST(A884,Normalfordeling!D$2,Normalfordeling!D$3,FALSE)","v":2.6037477221858607E-4},0,{"$f":"NORMDIST(A884,Normalfordeling!D$2,Normalfordeling!D$3,TRUE)","v":0.99993592837051104}]
[{"$f":"(Normalfordeling!D$6-Normalfordeling!C$6)/1000+A884","v":8.839999999999856},{"$f":"NORMDIST(A885,Normalfordeling!D$2,Normalfordeling!D$3,FALSE)","v":2.505784448909992E-4},0,{"$f":"NORMDIST(A885,Normalfordeling!D$2,Normalfordeling!D$3,TRUE)","v":0.99993848284481668}]
[{"$f":"(Normalfordeling!D$6-Normalfordeling!C$6)/1000+A885","v":8.8499999999998558},{"$f":"NORMDIST(A886,Normalfordeling!D$2,Normalfordeling!D$3,FALSE)","v":2.4112658022612733E-4},0,{"$f":"NORMDIST(A886,Normalfordeling!D$2,Normalfordeling!D$3,TRUE)","v":0.99994094108758103}]
[{"$f":"(Normalfordeling!D$6-Normalfordeling!C$6)/1000+A886","v":8.8599999999998555},{"$f":"NORMDIST(A887,Normalfordeling!D$2,Normalfordeling!D$3,FALSE)","v":2.3200803965707178E-4},0,{"$f":"NORMDIST(A887,Normalfordeling!D$2,Normalfordeling!D$3,TRUE)","v":0.99994330648746566}]
[{"$f":"(Normalfordeling!D$6-Normalfordeling!C$6)/1000+A887","v":8.8699999999998553},{"$f":"NORMDIST(A888,Normalfordeling!D$2,Normalfordeling!D$3,FALSE)","v":2.2321200720022715E-4},0,{"$f":"NORMDIST(A888,Normalfordeling!D$2,Normalfordeling!D$3,TRUE)","v":0.99994558232336628}]
[{"$f":"(Normalfordeling!D$6-Normalfordeling!C$6)/1000+A888","v":8.8799999999998551},{"$f":"NORMDIST(A889,Normalfordeling!D$2,Normalfordeling!D$3,FALSE)","v":2.1472798150048777E-4},0,{"$f":"NORMDIST(A889,Normalfordeling!D$2,Normalfordeling!D$3,TRUE)","v":0.99994777176759819}]
[{"$f":"(Normalfordeling!D$6-Normalfordeling!C$6)/1000+A889","v":8.8899999999998549},{"$f":"NORMDIST(A890,Normalfordeling!D$2,Normalfordeling!D$3,FALSE)","v":2.0654576802334217E-4},0,{"$f":"NORMDIST(A890,Normalfordeling!D$2,Normalfordeling!D$3,TRUE)","v":0.9999498778890038}]
[{"$f":"(Normalfordeling!D$6-Normalfordeling!C$6)/1000+A890","v":8.8999999999998547},{"$f":"NORMDIST(A891,Normalfordeling!D$2,Normalfordeling!D$3,FALSE)","v":1.9865547139288531E-4},0,{"$f":"NORMDIST(A891,Normalfordeling!D$2,Normalfordeling!D$3,TRUE)","v":0.99995190365598241}]
[{"$f":"(Normalfordeling!D$6-Normalfordeling!C$6)/1000+A891","v":8.9099999999998545},{"$f":"NORMDIST(A892,Normalfordeling!D$2,Normalfordeling!D$3,FALSE)","v":1.9104748787470652E-4},0,{"$f":"NORMDIST(A892,Normalfordeling!D$2,Normalfordeling!D$3,TRUE)","v":0.99995385193944375}]
[{"$f":"(Normalfordeling!D$6-Normalfordeling!C$6)/1000+A892","v":8.9199999999998543},{"$f":"NORMDIST(A893,Normalfordeling!D$2,Normalfordeling!D$3,FALSE)","v":1.8371249800256187E-4},0,{"$f":"NORMDIST(A893,Normalfordeling!D$2,Normalfordeling!D$3,TRUE)","v":0.9999557255156879}]
[{"$f":"(Normalfordeling!D$6-Normalfordeling!C$6)/1000+A893","v":8.9299999999998541},{"$f":"NORMDIST(A894,Normalfordeling!D$2,Normalfordeling!D$3,FALSE)","v":1.7664145934767226E-4},0,{"$f":"NORMDIST(A894,Normalfordeling!D$2,Normalfordeling!D$3,TRUE)","v":0.99995752706921126}]
[{"$f":"(Normalfordeling!D$6-Normalfordeling!C$6)/1000+A894","v":8.9399999999998538},{"$f":"NORMDIST(A895,Normalfordeling!D$2,Normalfordeling!D$3,FALSE)","v":1.6982559942944133E-4},0,{"$f":"NORMDIST(A895,Normalfordeling!D$2,Normalfordeling!D$3,TRUE)","v":0.99995925919544137}]
[{"$f":"(Normalfordeling!D$6-Normalfordeling!C$6)/1000+A895","v":8.9499999999998536},{"$f":"NORMDIST(A896,Normalfordeling!D$2,Normalfordeling!D$3,FALSE)","v":1.632564087663364E-4},0,{"$f":"NORMDIST(A896,Normalfordeling!D$2,Normalfordeling!D$3,TRUE)","v":0.99996092440340223}]
[{"$f":"(Normalfordeling!D$6-Normalfordeling!C$6)/1000+A896","v":8.9599999999998534},{"$f":"NORMDIST(A897,Normalfordeling!D$2,Normalfordeling!D$3,FALSE)","v":1.5692563406562328E-4},0,{"$f":"NORMDIST(A897,Normalfordeling!D$2,Normalfordeling!D$3,TRUE)","v":0.99996252511830885}]
[{"$f":"(Normalfordeling!D$6-Normalfordeling!C$6)/1000+A897","v":8.9699999999998532},{"$f":"NORMDIST(A898,Normalfordeling!D$2,Normalfordeling!D$3,FALSE)","v":1.5082527155060581E-4},{"$f":"IF(AND(A898>=$C$1001,A898<=$C$1002),B898,0)","v":0},{"$f":"NORMDIST(A898,Normalfordeling!D$2,Normalfordeling!D$3,TRUE)","v":0.99996406368409707}]
[{"$f":"(Normalfordeling!D$6-Normalfordeling!C$6)/1000+A898","v":8.979999999999853},{"$f":"NORMDIST(A899,Normalfordeling!D$2,Normalfordeling!D$3,FALSE)","v":1.4494756042397587E-4},0,{"$f":"NORMDIST(A899,Normalfordeling!D$2,Normalfordeling!D$3,TRUE)","v":0.99996554236588497}]
[{"$f":"(Normalfordeling!D$6-Normalfordeling!C$6)/1000+A899","v":8.9899999999998528},{"$f":"NORMDIST(A900,Normalfordeling!D$2,Normalfordeling!D$3,FALSE)","v":1.3928497646584182E-4},0,{"$f":"NORMDIST(A900,Normalfordeling!D$2,Normalfordeling!D$3,TRUE)","v":0.99996696335237056}]
[{"$f":"(Normalfordeling!D$6-Normalfordeling!C$6)/1000+A900","v":8.9999999999998526},{"$f":"NORMDIST(A901,Normalfordeling!D$2,Normalfordeling!D$3,FALSE)","v":1.3383022576496427E-4},0,{"$f":"NORMDIST(A901,Normalfordeling!D$2,Normalfordeling!D$3,TRUE)","v":0.99996832875816688}]
[{"$f":"(Normalfordeling!D$6-Normalfordeling!C$6)/1000+A901","v":9.0099999999998523},{"$f":"NORMDIST(A902,Normalfordeling!D$2,Normalfordeling!D$3,FALSE)","v":1.2857623858169713E-4},0,{"$f":"NORMDIST(A902,Normalfordeling!D$2,Normalfordeling!D$3,TRUE)","v":0.99996964062607341}]
[{"$f":"(Normalfordeling!D$6-Normalfordeling!C$6)/1000+A902","v":9.0199999999998521},{"$f":"NORMDIST(A903,Normalfordeling!D$2,Normalfordeling!D$3,FALSE)","v":1.2351616334109675E-4},0,{"$f":"NORMDIST(A903,Normalfordeling!D$2,Normalfordeling!D$3,TRUE)","v":0.99997090092928809}]
[{"$f":"(Normalfordeling!D$6-Normalfordeling!C$6)/1000+A903","v":9.0299999999998519},{"$f":"NORMDIST(A904,Normalfordeling!D$2,Normalfordeling!D$3,FALSE)","v":1.1864336075463681E-4},0,{"$f":"NORMDIST(A904,Normalfordeling!D$2,Normalfordeling!D$3,TRUE)","v":0.99997211157355936}]
[{"$f":"(Normalfordeling!D$6-Normalfordeling!C$6)/1000+A904","v":9.0399999999998517},{"$f":"NORMDIST(A905,Normalfordeling!D$2,Normalfordeling!D$3,FALSE)","v":1.1395139806893283E-4},0,{"$f":"NORMDIST(A905,Normalfordeling!D$2,Normalfordeling!D$3,TRUE)","v":0.99997327439928052}]
[{"$f":"(Normalfordeling!D$6-Normalfordeling!C$6)/1000+A905","v":9.0499999999998515},{"$f":"NORMDIST(A906,Normalfordeling!D$2,Normalfordeling!D$3,FALSE)","v":1.0943404343986645E-4},0,{"$f":"NORMDIST(A906,Normalfordeling!D$2,Normalfordeling!D$3,TRUE)","v":0.99997439118352593}]
[{"$f":"(Normalfordeling!D$6-Normalfordeling!C$6)/1000+A906","v":9.0599999999998513},{"$f":"NORMDIST(A907,Normalfordeling!D$2,Normalfordeling!D$3,FALSE)","v":1.0508526043046376E-4},0,{"$f":"NORMDIST(A907,Normalfordeling!D$2,Normalfordeling!D$3,TRUE)","v":0.9999754636420336}]
[{"$f":"(Normalfordeling!D$6-Normalfordeling!C$6)/1000+A907","v":9.0699999999998511},{"$f":"NORMDIST(A908,Normalfordeling!D$2,Normalfordeling!D$3,FALSE)","v":1.0089920263087571E-4},0,{"$f":"NORMDIST(A908,Normalfordeling!D$2,Normalfordeling!D$3,TRUE)","v":0.99997649343113137}]
[{"$f":"(Normalfordeling!D$6-Normalfordeling!C$6)/1000+A908","v":9.0799999999998509},{"$f":"NORMDIST(A909,Normalfordeling!D$2,Normalfordeling!D$3,FALSE)","v":9.6870208398778295E-5},0,{"$f":"NORMDIST(A909,Normalfordeling!D$2,Normalfordeling!D$3,TRUE)","v":0.99997748214961146}]
[{"$f":"(Normalfordeling!D$6-Normalfordeling!C$6)/1000+A909","v":9.0899999999998506},{"$f":"NORMDIST(A910,Normalfordeling!D$2,Normalfordeling!D$3,FALSE)","v":9.2992795718502557E-5},0,{"$f":"NORMDIST(A910,Normalfordeling!D$2,Normalfordeling!D$3,TRUE)","v":0.99997843134055175}]
[{"$f":"(Normalfordeling!D$6-Normalfordeling!C$6)/1000+A910","v":9.0999999999998504},{"$f":"NORMDIST(A911,Normalfordeling!D$2,Normalfordeling!D$3,FALSE)","v":8.9261657177187626E-5},0,{"$f":"NORMDIST(A911,Normalfordeling!D$2,Normalfordeling!D$3,TRUE)","v":0.9999793424930874}]
[{"$f":"(Normalfordeling!D$6-Normalfordeling!C$6)/1000+A911","v":9.1099999999998502},{"$f":"NORMDIST(A912,Normalfordeling!D$2,Normalfordeling!D$3,FALSE)","v":8.5671655056234665E-5},0,{"$f":"NORMDIST(A912,Normalfordeling!D$2,Normalfordeling!D$3,TRUE)","v":0.99998021704413176}]
[{"$f":"(Normalfordeling!D$6-Normalfordeling!C$6)/1000+A912","v":9.11999999999985},{"$f":"NORMDIST(A913,Normalfordeling!D$2,Normalfordeling!D$3,FALSE)","v":8.2217816536336825E-5},0,{"$f":"NORMDIST(A913,Normalfordeling!D$2,Normalfordeling!D$3,TRUE)","v":0.99998105638004942}]
[{"$f":"(Normalfordeling!D$6-Normalfordeling!C$6)/1000+A913","v":9.1299999999998498},{"$f":"NORMDIST(A914,Normalfordeling!D$2,Normalfordeling!D$3,FALSE)","v":7.8895329014341998E-5},0,{"$f":"NORMDIST(A914,Normalfordeling!D$2,Normalfordeling!D$3,TRUE)","v":0.99998186183828186}]
[{"$f":"(Normalfordeling!D$6-Normalfordeling!C$6)/1000+A914","v":9.1399999999998496},{"$f":"NORMDIST(A915,Normalfordeling!D$2,Normalfordeling!D$3,FALSE)","v":7.5699535530208281E-5},0,{"$f":"NORMDIST(A915,Normalfordeling!D$2,Normalfordeling!D$3,TRUE)","v":0.99998263470892634}]
[{"$f":"(Normalfordeling!D$6-Normalfordeling!C$6)/1000+A915","v":9.1499999999998494},{"$f":"NORMDIST(A916,Normalfordeling!D$2,Normalfordeling!D$3,FALSE)","v":7.2625930302297874E-5},0,{"$f":"NORMDIST(A916,Normalfordeling!D$2,Normalfordeling!D$3,TRUE)","v":0.99998337623627032}]
[{"$f":"(Normalfordeling!D$6-Normalfordeling!C$6)/1000+A916","v":9.1599999999998492},{"$f":"NORMDIST(A917,Normalfordeling!D$2,Normalfordeling!D$3,FALSE)","v":6.9670154369258142E-5},0,{"$f":"NORMDIST(A917,Normalfordeling!D$2,Normalfordeling!D$3,TRUE)","v":0.9999840876202809}]
[{"$f":"(Normalfordeling!D$6-Normalfordeling!C$6)/1000+A917","v":9.1699999999998489},{"$f":"NORMDIST(A918,Normalfordeling!D$2,Normalfordeling!D$3,FALSE)","v":6.6827991336732649E-5},0,{"$f":"NORMDIST(A918,Normalfordeling!D$2,Normalfordeling!D$3,TRUE)","v":0.99998477001805197}]
[{"$f":"(Normalfordeling!D$6-Normalfordeling!C$6)/1000+A918","v":9.1799999999998487},{"$f":"NORMDIST(A919,Normalfordeling!D$2,Normalfordeling!D$3,FALSE)","v":6.4095363227146523E-5},0,{"$f":"NORMDIST(A919,Normalfordeling!D$2,Normalfordeling!D$3,TRUE)","v":0.99998542454520911}]
[{"$f":"(Normalfordeling!D$6-Normalfordeling!C$6)/1000+A919","v":9.1899999999998485},{"$f":"NORMDIST(A920,Normalfordeling!D$2,Normalfordeling!D$3,FALSE)","v":6.1468326430808411E-5},0,{"$f":"NORMDIST(A920,Normalfordeling!D$2,Normalfordeling!D$3,TRUE)","v":0.99998605227727311}]
[{"$f":"(Normalfordeling!D$6-Normalfordeling!C$6)/1000+A920","v":9.1999999999998483},{"$f":"NORMDIST(A921,Normalfordeling!D$2,Normalfordeling!D$3,FALSE)","v":5.8943067756577436E-5},0,{"$f":"NORMDIST(A921,Normalfordeling!D$2,Normalfordeling!D$3,TRUE)","v":0.9999866542509841}]
[{"$f":"(Normalfordeling!D$6-Normalfordeling!C$6)/1000+A921","v":9.2099999999998481},{"$f":"NORMDIST(A922,Normalfordeling!D$2,Normalfordeling!D$3,FALSE)","v":5.6515900580343545E-5},0,{"$f":"NORMDIST(A922,Normalfordeling!D$2,Normalfordeling!D$3,TRUE)","v":0.99998723146558621}]
[{"$f":"(Normalfordeling!D$6-Normalfordeling!C$6)/1000+A922","v":9.2199999999998479},{"$f":"NORMDIST(A923,Normalfordeling!D$2,Normalfordeling!D$3,FALSE)","v":5.4183261089574893E-5},0,{"$f":"NORMDIST(A923,Normalfordeling!D$2,Normalfordeling!D$3,TRUE)","v":0.99998778488407469}]
[{"$f":"(Normalfordeling!D$6-Normalfordeling!C$6)/1000+A923","v":9.2299999999998477},{"$f":"NORMDIST(A924,Normalfordeling!D$2,Normalfordeling!D$3,FALSE)","v":5.1941704622193359E-5},0,{"$f":"NORMDIST(A924,Normalfordeling!D$2,Normalfordeling!D$3,TRUE)","v":0.99998831543440525}]
[{"$f":"(Normalfordeling!D$6-Normalfordeling!C$6)/1000+A924","v":9.2399999999998474},{"$f":"NORMDIST(A925,Normalfordeling!D$2,Normalfordeling!D$3,FALSE)","v":4.9787902098044365E-5},0,{"$f":"NORMDIST(A925,Normalfordeling!D$2,Normalfordeling!D$3,TRUE)","v":0.99998882401066791}]
[{"$f":"(Normalfordeling!D$6-Normalfordeling!C$6)/1000+A925","v":9.2499999999998472},{"$f":"NORMDIST(A926,Normalfordeling!D$2,Normalfordeling!D$3,FALSE)","v":4.7718636541235974E-5},0,{"$f":"NORMDIST(A926,Normalfordeling!D$2,Normalfordeling!D$3,TRUE)","v":0.9999893114742251}]
[{"$f":"(Normalfordeling!D$6-Normalfordeling!C$6)/1000+A926","v":9.259999999999847},{"$f":"NORMDIST(A927,Normalfordeling!D$2,Normalfordeling!D$3,FALSE)","v":4.5730799691631048E-5},0,{"$f":"NORMDIST(A927,Normalfordeling!D$2,Normalfordeling!D$3,TRUE)","v":0.99998977865481598}]
[{"$f":"(Normalfordeling!D$6-Normalfordeling!C$6)/1000+A927","v":9.2699999999998468},{"$f":"NORMDIST(A928,Normalfordeling!D$2,Normalfordeling!D$3,FALSE)","v":4.3821388703786687E-5},0,{"$f":"NORMDIST(A928,Normalfordeling!D$2,Normalfordeling!D$3,TRUE)","v":0.99999022635162704}]
[{"$f":"(Normalfordeling!D$6-Normalfordeling!C$6)/1000+A928","v":9.2799999999998466},{"$f":"NORMDIST(A929,Normalfordeling!D$2,Normalfordeling!D$3,FALSE)","v":4.1987502931644914E-5},0,{"$f":"NORMDIST(A929,Normalfordeling!D$2,Normalfordeling!D$3,TRUE)","v":0.99999065533432985}]
[{"$f":"(Normalfordeling!D$6-Normalfordeling!C$6)/1000+A929","v":9.2899999999998464},{"$f":"NORMDIST(A930,Normalfordeling!D$2,Normalfordeling!D$3,FALSE)","v":4.022634079729148E-5},0,{"$f":"NORMDIST(A930,Normalfordeling!D$2,Normalfordeling!D$3,TRUE)","v":0.99999106634408719}]
[{"$f":"(Normalfordeling!D$6-Normalfordeling!C$6)/1000+A930","v":9.2999999999998462},{"$f":"NORMDIST(A931,Normalfordeling!D$2,Normalfordeling!D$3,FALSE)","v":3.8535196742112595E-5},0,{"$f":"NORMDIST(A931,Normalfordeling!D$2,Normalfordeling!D$3,TRUE)","v":0.99999146009452899}]
[{"$f":"(Normalfordeling!D$6-Normalfordeling!C$6)/1000+A931","v":9.309999999999846},{"$f":"NORMDIST(A932,Normalfordeling!D$2,Normalfordeling!D$3,FALSE)","v":3.6911458258690658E-5},0,{"$f":"NORMDIST(A932,Normalfordeling!D$2,Normalfordeling!D$3,TRUE)","v":0.99999183727269725}]
[{"$f":"(Normalfordeling!D$6-Normalfordeling!C$6)/1000+A932","v":9.3199999999998457},{"$f":"NORMDIST(A933,Normalfordeling!D$2,Normalfordeling!D$3,FALSE)","v":3.5352603001796705E-5},0,{"$f":"NORMDIST(A933,Normalfordeling!D$2,Normalfordeling!D$3,TRUE)","v":0.99999219853996191}]
[{"$f":"(Normalfordeling!D$6-Normalfordeling!C$6)/1000+A933","v":9.3299999999998455},{"$f":"NORMDIST(A934,Normalfordeling!D$2,Normalfordeling!D$3,FALSE)","v":3.38561959768505E-5},0,{"$f":"NORMDIST(A934,Normalfordeling!D$2,Normalfordeling!D$3,TRUE)","v":0.99999254453290864}]
[{"$f":"(Normalfordeling!D$6-Normalfordeling!C$6)/1000+A934","v":9.3399999999998453},{"$f":"NORMDIST(A935,Normalfordeling!D$2,Normalfordeling!D$3,FALSE)","v":3.241988680423555E-5},0,{"$f":"NORMDIST(A935,Normalfordeling!D$2,Normalfordeling!D$3,TRUE)","v":0.99999287586419849}]
[{"$f":"(Normalfordeling!D$6-Normalfordeling!C$6)/1000+A935","v":9.3499999999998451},{"$f":"NORMDIST(A936,Normalfordeling!D$2,Normalfordeling!D$3,FALSE)","v":3.104140705787111E-5},0,{"$f":"NORMDIST(A936,Normalfordeling!D$2,Normalfordeling!D$3,TRUE)","v":0.99999319312340063}]
[{"$f":"(Normalfordeling!D$6-Normalfordeling!C$6)/1000+A936","v":9.3599999999998449},{"$f":"NORMDIST(A937,Normalfordeling!D$2,Normalfordeling!D$3,FALSE)","v":2.9718567676462311E-5},0,{"$f":"NORMDIST(A937,Normalfordeling!D$2,Normalfordeling!D$3,TRUE)","v":0.99999349687779904}]
[{"$f":"(Normalfordeling!D$6-Normalfordeling!C$6)/1000+A937","v":9.3699999999998447},{"$f":"NORMDIST(A938,Normalfordeling!D$2,Normalfordeling!D$3,FALSE)","v":2.8449256445863661E-5},0,{"$f":"NORMDIST(A938,Normalfordeling!D$2,Normalfordeling!D$3,TRUE)","v":0.99999378767317304}]
[{"$f":"(Normalfordeling!D$6-Normalfordeling!C$6)/1000+A938","v":9.3799999999998445},{"$f":"NORMDIST(A939,Normalfordeling!D$2,Normalfordeling!D$3,FALSE)","v":2.7231435551011186E-5},0,{"$f":"NORMDIST(A939,Normalfordeling!D$2,Normalfordeling!D$3,TRUE)","v":0.99999406603455432}]
[{"$f":"(Normalfordeling!D$6-Normalfordeling!C$6)/1000+A939","v":9.3899999999998442},{"$f":"NORMDIST(A940,Normalfordeling!D$2,Normalfordeling!D$3,FALSE)","v":2.606313919589612E-5},0,{"$f":"NORMDIST(A940,Normalfordeling!D$2,Normalfordeling!D$3,TRUE)","v":0.99999433246695812}]
[{"$f":"(Normalfordeling!D$6-Normalfordeling!C$6)/1000+A940","v":9.399999999999844},{"$f":"NORMDIST(A941,Normalfordeling!D$2,Normalfordeling!D$3,FALSE)","v":2.4942471290070679E-5},0,{"$f":"NORMDIST(A941,Normalfordeling!D$2,Normalfordeling!D$3,TRUE)","v":0.99999458745609227}]
[{"$f":"(Normalfordeling!D$6-Normalfordeling!C$6)/1000+A941","v":9.4099999999998438},{"$f":"NORMDIST(A942,Normalfordeling!D$2,Normalfordeling!D$3,FALSE)","v":2.3867603200196051E-5},0,{"$f":"NORMDIST(A942,Normalfordeling!D$2,Normalfordeling!D$3,TRUE)","v":0.99999483146904278}]
[{"$f":"(Normalfordeling!D$6-Normalfordeling!C$6)/1000+A942","v":9.4199999999998436},{"$f":"NORMDIST(A943,Normalfordeling!D$2,Normalfordeling!D$3,FALSE)","v":2.2836771565162702E-5},0,{"$f":"NORMDIST(A943,Normalfordeling!D$2,Normalfordeling!D$3,TRUE)","v":0.99999506495493751}]
[{"$f":"(Normalfordeling!D$6-Normalfordeling!C$6)/1000+A943","v":9.4299999999998434},{"$f":"NORMDIST(A944,Normalfordeling!D$2,Normalfordeling!D$3,FALSE)","v":2.1848276173331604E-5},0,{"$f":"NORMDIST(A944,Normalfordeling!D$2,Normalfordeling!D$3,TRUE)","v":0.99999528834558815}]
[{"$f":"(Normalfordeling!D$6-Normalfordeling!C$6)/1000+A944","v":9.4399999999998432},{"$f":"NORMDIST(A945,Normalfordeling!D$2,Normalfordeling!D$3,FALSE)","v":2.0900477900465E-5},0,{"$f":"NORMDIST(A945,Normalfordeling!D$2,Normalfordeling!D$3,TRUE)","v":0.99999550205611143}]
[{"$f":"(Normalfordeling!D$6-Normalfordeling!C$6)/1000+A945","v":9.449999999999843},{"$f":"NORMDIST(A946,Normalfordeling!D$2,Normalfordeling!D$3,FALSE)","v":1.9991796706936784E-5},0,{"$f":"NORMDIST(A946,Normalfordeling!D$2,Normalfordeling!D$3,TRUE)","v":0.99999570648553004}]
[{"$f":"(Normalfordeling!D$6-Normalfordeling!C$6)/1000+A946","v":9.4599999999998428},{"$f":"NORMDIST(A947,Normalfordeling!D$2,Normalfordeling!D$3,FALSE)","v":1.9120709692831154E-5},0,{"$f":"NORMDIST(A947,Normalfordeling!D$2,Normalfordeling!D$3,TRUE)","v":0.99999590201735333}]
[{"$f":"(Normalfordeling!D$6-Normalfordeling!C$6)/1000+A947","v":9.4699999999998425},{"$f":"NORMDIST(A948,Normalfordeling!D$2,Normalfordeling!D$3,FALSE)","v":1.8285749209560241E-5},0,{"$f":"NORMDIST(A948,Normalfordeling!D$2,Normalfordeling!D$3,TRUE)","v":0.9999960890201397}]
[{"$f":"(Normalfordeling!D$6-Normalfordeling!C$6)/1000+A948","v":9.4799999999998423},{"$f":"NORMDIST(A949,Normalfordeling!D$2,Normalfordeling!D$3,FALSE)","v":1.7485501026651495E-5},0,{"$f":"NORMDIST(A949,Normalfordeling!D$2,Normalfordeling!D$3,TRUE)","v":0.99999626784803952}]
[{"$f":"(Normalfordeling!D$6-Normalfordeling!C$6)/1000+A949","v":9.4899999999998421},{"$f":"NORMDIST(A950,Normalfordeling!D$2,Normalfordeling!D$3,FALSE)","v":1.6718602552376953E-5},0,{"$f":"NORMDIST(A950,Normalfordeling!D$2,Normalfordeling!D$3,TRUE)","v":0.99999643884132039}]
[{"$f":"(Normalfordeling!D$6-Normalfordeling!C$6)/1000+A950","v":9.4999999999998419},{"$f":"NORMDIST(A951,Normalfordeling!D$2,Normalfordeling!D$3,FALSE)","v":1.5983741106916832E-5},0,{"$f":"NORMDIST(A951,Normalfordeling!D$2,Normalfordeling!D$3,TRUE)","v":0.99999660232687526}]
[{"$f":"(Normalfordeling!D$6-Normalfordeling!C$6)/1000+A951","v":9.5099999999998417},{"$f":"NORMDIST(A952,Normalfordeling!D$2,Normalfordeling!D$3,FALSE)","v":1.527965224677253E-5},0,{"$f":"NORMDIST(A952,Normalfordeling!D$2,Normalfordeling!D$3,TRUE)","v":0.99999675861871262}]
[{"$f":"(Normalfordeling!D$6-Normalfordeling!C$6)/1000+A952","v":9.5199999999998415},{"$f":"NORMDIST(A953,Normalfordeling!D$2,Normalfordeling!D$3,FALSE)","v":1.4605118139163371E-5},0,{"$f":"NORMDIST(A953,Normalfordeling!D$2,Normalfordeling!D$3,TRUE)","v":0.999996908018431}]
[{"$f":"(Normalfordeling!D$6-Normalfordeling!C$6)/1000+A953","v":9.5299999999998413},{"$f":"NORMDIST(A954,Normalfordeling!D$2,Normalfordeling!D$3,FALSE)","v":1.3958965985164814E-5},0,{"$f":"NORMDIST(A954,Normalfordeling!D$2,Normalfordeling!D$3,TRUE)","v":0.99999705081567714}]
[{"$f":"(Normalfordeling!D$6-Normalfordeling!C$6)/1000+A954","v":9.5399999999998411},{"$f":"NORMDIST(A955,Normalfordeling!D$2,Normalfordeling!D$3,FALSE)","v":1.3340066490365461E-5},0,{"$f":"NORMDIST(A955,Normalfordeling!D$2,Normalfordeling!D$3,TRUE)","v":0.99999718728858822}]
[{"$f":"(Normalfordeling!D$6-Normalfordeling!C$6)/1000+A955","v":9.5499999999998408},{"$f":"NORMDIST(A956,Normalfordeling!D$2,Normalfordeling!D$3,FALSE)","v":1.2747332381842681E-5},0,{"$f":"NORMDIST(A956,Normalfordeling!D$2,Normalfordeling!D$3,TRUE)","v":0.9999973177042204}]
[{"$f":"(Normalfordeling!D$6-Normalfordeling!C$6)/1000+A956","v":9.5599999999998406},{"$f":"NORMDIST(A957,Normalfordeling!D$2,Normalfordeling!D$3,FALSE)","v":1.2179716970277547E-5},0,{"$f":"NORMDIST(A957,Normalfordeling!D$2,Normalfordeling!D$3,TRUE)","v":0.99999744231896059}]
[{"$f":"(Normalfordeling!D$6-Normalfordeling!C$6)/1000+A957","v":9.5699999999998404},{"$f":"NORMDIST(A958,Normalfordeling!D$2,Normalfordeling!D$3,FALSE)","v":1.1636212756051163E-5},0,{"$f":"NORMDIST(A958,Normalfordeling!D$2,Normalfordeling!D$3,TRUE)","v":0.99999756137892626}]
[{"$f":"(Normalfordeling!D$6-Normalfordeling!C$6)/1000+A958","v":9.5799999999998402},{"$f":"NORMDIST(A959,Normalfordeling!D$2,Normalfordeling!D$3,FALSE)","v":1.1115850078185923E-5},0,{"$f":"NORMDIST(A959,Normalfordeling!D$2,Normalfordeling!D$3,TRUE)","v":0.99999767512035009}]
[{"$f":"(Normalfordeling!D$6-Normalfordeling!C$6)/1000+A959","v":9.58999999999984},{"$f":"NORMDIST(A960,Normalfordeling!D$2,Normalfordeling!D$3,FALSE)","v":1.0617695805016181E-5},0,{"$f":"NORMDIST(A960,Normalfordeling!D$2,Normalfordeling!D$3,TRUE)","v":0.99999778376995185}]
[{"$f":"(Normalfordeling!D$6-Normalfordeling!C$6)/1000+A960","v":9.5999999999998398},{"$f":"NORMDIST(A961,Normalfordeling!D$2,Normalfordeling!D$3,FALSE)","v":1.0140852065494217E-5},0,{"$f":"NORMDIST(A961,Normalfordeling!D$2,Normalfordeling!D$3,TRUE)","v":0.9999978875452975}]
[{"$f":"(Normalfordeling!D$6-Normalfordeling!C$6)/1000+A961","v":9.6099999999998396},{"$f":"NORMDIST(A962,Normalfordeling!D$2,Normalfordeling!D$3,FALSE)","v":9.6844550200586097E-6},{"$f":"IF(AND(A962>=$C$1001,A962<=$C$1002),B962,0)","v":0},{"$f":"NORMDIST(A962,Normalfordeling!D$2,Normalfordeling!D$3,TRUE)","v":0.99999798665514517}]
[{"$f":"(Normalfordeling!D$6-Normalfordeling!C$6)/1000+A962","v":9.6199999999998393},{"$f":"NORMDIST(A963,Normalfordeling!D$2,Normalfordeling!D$3,FALSE)","v":9.2476736700124827E-6},0,{"$f":"NORMDIST(A963,Normalfordeling!D$2,Normalfordeling!D$3,TRUE)","v":0.99999808129978007}]
[{"$f":"(Normalfordeling!D$6-Normalfordeling!C$6)/1000+A963","v":9.6299999999998391},{"$f":"NORMDIST(A964,Normalfordeling!D$2,Normalfordeling!D$3,FALSE)","v":8.829708704380669E-6},0,{"$f":"NORMDIST(A964,Normalfordeling!D$2,Normalfordeling!D$3,TRUE)","v":0.99999817167133642}]
[{"$f":"(Normalfordeling!D$6-Normalfordeling!C$6)/1000+A964","v":9.6399999999998389},{"$f":"NORMDIST(A965,Normalfordeling!D$2,Normalfordeling!D$3,FALSE)","v":8.4297913832350617E-6},0,{"$f":"NORMDIST(A965,Normalfordeling!D$2,Normalfordeling!D$3,TRUE)","v":0.99999825795410968}]
[{"$f":"(Normalfordeling!D$6-Normalfordeling!C$6)/1000+A965","v":9.6499999999998387},{"$f":"NORMDIST(A966,Normalfordeling!D$2,Normalfordeling!D$3,FALSE)","v":8.0471824564983414E-6},0,{"$f":"NORMDIST(A966,Normalfordeling!D$2,Normalfordeling!D$3,TRUE)","v":0.99999834032485557}]
[{"$f":"(Normalfordeling!D$6-Normalfordeling!C$6)/1000+A966","v":9.6599999999998385},{"$f":"NORMDIST(A967,Normalfordeling!D$2,Normalfordeling!D$3,FALSE)","v":7.6811711172562406E-6},0,{"$f":"NORMDIST(A967,Normalfordeling!D$2,Normalfordeling!D$3,TRUE)","v":0.99999841895308106}]
[{"$f":"(Normalfordeling!D$6-Normalfordeling!C$6)/1000+A967","v":9.6699999999998383},{"$f":"NORMDIST(A968,Normalfordeling!D$2,Normalfordeling!D$3,FALSE)","v":7.3310739886294802E-6},0,{"$f":"NORMDIST(A968,Normalfordeling!D$2,Normalfordeling!D$3,TRUE)","v":0.99999849400132246}]
[{"$f":"(Normalfordeling!D$6-Normalfordeling!C$6)/1000+A968","v":9.6799999999998381},{"$f":"NORMDIST(A969,Normalfordeling!D$2,Normalfordeling!D$3,FALSE)","v":6.9962341432756998E-6},0,{"$f":"NORMDIST(A969,Normalfordeling!D$2,Normalfordeling!D$3,TRUE)","v":0.99999856562541556}]
[{"$f":"(Normalfordeling!D$6-Normalfordeling!C$6)/1000+A969","v":9.6899999999998379},{"$f":"NORMDIST(A970,Normalfordeling!D$2,Normalfordeling!D$3,FALSE)","v":6.676020154612549E-6},0,{"$f":"NORMDIST(A970,Normalfordeling!D$2,Normalfordeling!D$3,TRUE)","v":0.99999863397475541}]
[{"$f":"(Normalfordeling!D$6-Normalfordeling!C$6)/1000+A970","v":9.6999999999998376},{"$f":"NORMDIST(A971,Normalfordeling!D$2,Normalfordeling!D$3,FALSE)","v":6.3698251788719663E-6},0,{"$f":"NORMDIST(A971,Normalfordeling!D$2,Normalfordeling!D$3,TRUE)","v":0.99999869919254614}]
[{"$f":"(Normalfordeling!D$6-Normalfordeling!C$6)/1000+A971","v":9.7099999999998374},{"$f":"NORMDIST(A972,Normalfordeling!D$2,Normalfordeling!D$3,FALSE)","v":6.0770660671157687E-6},0,{"$f":"NORMDIST(A972,Normalfordeling!D$2,Normalfordeling!D$3,TRUE)","v":0.9999987614160426}]
[{"$f":"(Normalfordeling!D$6-Normalfordeling!C$6)/1000+A972","v":9.7199999999998372},{"$f":"NORMDIST(A973,Normalfordeling!D$2,Normalfordeling!D$3,FALSE)","v":5.7971825063617356E-6},0,{"$f":"NORMDIST(A973,Normalfordeling!D$2,Normalfordeling!D$3,TRUE)","v":0.99999882077678348}]
[{"$f":"(Normalfordeling!D$6-Normalfordeling!C$6)/1000+A973","v":9.729999999999837},{"$f":"NORMDIST(A974,Normalfordeling!D$2,Normalfordeling!D$3,FALSE)","v":5.5296361889883248E-6},0,{"$f":"NORMDIST(A974,Normalfordeling!D$2,Normalfordeling!D$3,TRUE)","v":0.99999887740081461}]
[{"$f":"(Normalfordeling!D$6-Normalfordeling!C$6)/1000+A974","v":9.7399999999998368},{"$f":"NORMDIST(A975,Normalfordeling!D$2,Normalfordeling!D$3,FALSE)","v":5.2739100096053886E-6},0,{"$f":"NORMDIST(A975,Normalfordeling!D$2,Normalfordeling!D$3,TRUE)","v":0.9999989314089055}]
[{"$f":"(Normalfordeling!D$6-Normalfordeling!C$6)/1000+A975","v":9.7499999999998366},{"$f":"NORMDIST(A976,Normalfordeling!D$2,Normalfordeling!D$3,FALSE)","v":5.0295072885963502E-6},0,{"$f":"NORMDIST(A976,Normalfordeling!D$2,Normalfordeling!D$3,TRUE)","v":0.99999898291675748}]
[{"$f":"(Normalfordeling!D$6-Normalfordeling!C$6)/1000+A976","v":9.7599999999998364},{"$f":"NORMDIST(A977,Normalfordeling!D$2,Normalfordeling!D$3,FALSE)","v":4.7959510215562529E-6},0,{"$f":"NORMDIST(A977,Normalfordeling!D$2,Normalfordeling!D$3,TRUE)","v":0.99999903203520402}]
[{"$f":"(Normalfordeling!D$6-Normalfordeling!C$6)/1000+A977","v":9.7699999999998361},{"$f":"NORMDIST(A978,Normalfordeling!D$2,Normalfordeling!D$3,FALSE)","v":4.5727831538677106E-6},0,{"$f":"NORMDIST(A978,Normalfordeling!D$2,Normalfordeling!D$3,TRUE)","v":0.99999907887040385}]
[{"$f":"(Normalfordeling!D$6-Normalfordeling!C$6)/1000+A978","v":9.7799999999998359},{"$f":"NORMDIST(A979,Normalfordeling!D$2,Normalfordeling!D$3,FALSE)","v":4.3595638796750595E-6},0,{"$f":"NORMDIST(A979,Normalfordeling!D$2,Normalfordeling!D$3,TRUE)","v":0.99999912352402709}]
[{"$f":"(Normalfordeling!D$6-Normalfordeling!C$6)/1000+A979","v":9.7899999999998357},{"$f":"NORMDIST(A980,Normalfordeling!D$2,Normalfordeling!D$3,FALSE)","v":4.1558709645344714E-6},0,{"$f":"NORMDIST(A980,Normalfordeling!D$2,Normalfordeling!D$3,TRUE)","v":0.99999916609343409}]
[{"$f":"(Normalfordeling!D$6-Normalfordeling!C$6)/1000+A980","v":9.7999999999998355},{"$f":"NORMDIST(A981,Normalfordeling!D$2,Normalfordeling!D$3,FALSE)","v":3.9612990910352E-6},0,{"$f":"NORMDIST(A981,Normalfordeling!D$2,Normalfordeling!D$3,TRUE)","v":0.99999920667184805}]
[{"$f":"(Normalfordeling!D$6-Normalfordeling!C$6)/1000+A981","v":9.8099999999998353},{"$f":"NORMDIST(A982,Normalfordeling!D$2,Normalfordeling!D$3,FALSE)","v":3.7754592267043331E-6},0,{"$f":"NORMDIST(A982,Normalfordeling!D$2,Normalfordeling!D$3,TRUE)","v":0.9999992453485208}]
[{"$f":"(Normalfordeling!D$6-Normalfordeling!C$6)/1000+A982","v":9.8199999999998351},{"$f":"NORMDIST(A983,Normalfordeling!D$2,Normalfordeling!D$3,FALSE)","v":3.5979780135241108E-6},0,{"$f":"NORMDIST(A983,Normalfordeling!D$2,Normalfordeling!D$3,TRUE)","v":0.999999282208893}]
[{"$f":"(Normalfordeling!D$6-Normalfordeling!C$6)/1000+A983","v":9.8299999999998349},{"$f":"NORMDIST(A984,Normalfordeling!D$2,Normalfordeling!D$3,FALSE)","v":3.4284971784077731E-6},0,{"$f":"NORMDIST(A984,Normalfordeling!D$2,Normalfordeling!D$3,TRUE)","v":0.99999931733474745}]
[{"$f":"(Normalfordeling!D$6-Normalfordeling!C$6)/1000+A984","v":9.8399999999998347},{"$f":"NORMDIST(A985,Normalfordeling!D$2,Normalfordeling!D$3,FALSE)","v":3.2666729639958861E-6},0,{"$f":"NORMDIST(A985,Normalfordeling!D$2,Normalfordeling!D$3,TRUE)","v":0.99999935080435709}]
[{"$f":"(Normalfordeling!D$6-Normalfordeling!C$6)/1000+A985","v":9.8499999999998344},{"$f":"NORMDIST(A986,Normalfordeling!D$2,Normalfordeling!D$3,FALSE)","v":3.1121755791514377E-6},0,{"$f":"NORMDIST(A986,Normalfordeling!D$2,Normalfordeling!D$3,TRUE)","v":0.999999382692628}]
[{"$f":"(Normalfordeling!D$6-Normalfordeling!C$6)/1000+A986","v":9.8599999999998342},{"$f":"NORMDIST(A987,Normalfordeling!D$2,Normalfordeling!D$3,FALSE)","v":2.9646886685476637E-6},0,{"$f":"NORMDIST(A987,Normalfordeling!D$2,Normalfordeling!D$3,TRUE)","v":0.99999941307123552}]
[{"$f":"(Normalfordeling!D$6-Normalfordeling!C$6)/1000+A987","v":9.869999999999834},{"$f":"NORMDIST(A988,Normalfordeling!D$2,Normalfordeling!D$3,FALSE)","v":2.8239088007581084E-6},0,{"$f":"NORMDIST(A988,Normalfordeling!D$2,Normalfordeling!D$3,TRUE)","v":0.99999944200875679}]
[{"$f":"(Normalfordeling!D$6-Normalfordeling!C$6)/1000+A988","v":9.8799999999998338},{"$f":"NORMDIST(A989,Normalfordeling!D$2,Normalfordeling!D$3,FALSE)","v":2.6895449742737019E-6},0,{"$f":"NORMDIST(A989,Normalfordeling!D$2,Normalfordeling!D$3,TRUE)","v":0.99999946957079699}]
[{"$f":"(Normalfordeling!D$6-Normalfordeling!C$6)/1000+A989","v":9.8899999999998336},{"$f":"NORMDIST(A990,Normalfordeling!D$2,Normalfordeling!D$3,FALSE)","v":2.5613181408866238E-6},0,{"$f":"NORMDIST(A990,Normalfordeling!D$2,Normalfordeling!D$3,TRUE)","v":0.99999949582011161}]
[{"$f":"(Normalfordeling!D$6-Normalfordeling!C$6)/1000+A990","v":9.8999999999998334},{"$f":"NORMDIST(A991,Normalfordeling!D$2,Normalfordeling!D$3,FALSE)","v":2.4389607458953495E-6},0,{"$f":"NORMDIST(A991,Normalfordeling!D$2,Normalfordeling!D$3,TRUE)","v":0.99999952081672339}]
[{"$f":"(Normalfordeling!D$6-Normalfordeling!C$6)/1000+A991","v":9.9099999999998332},{"$f":"NORMDIST(A992,Normalfordeling!D$2,Normalfordeling!D$3,FALSE)","v":2.322216284599899E-6},0,{"$f":"NORMDIST(A992,Normalfordeling!D$2,Normalfordeling!D$3,TRUE)","v":0.9999995446180352}]
[{"$f":"(Normalfordeling!D$6-Normalfordeling!C$6)/1000+A992","v":9.919999999999833},{"$f":"NORMDIST(A993,Normalfordeling!D$2,Normalfordeling!D$3,FALSE)","v":2.2108388745702356E-6},0,{"$f":"NORMDIST(A993,Normalfordeling!D$2,Normalfordeling!D$3,TRUE)","v":0.99999956727893813}]
[{"$f":"(Normalfordeling!D$6-Normalfordeling!C$6)/1000+A993","v":9.9299999999998327},{"$f":"NORMDIST(A994,Normalfordeling!D$2,Normalfordeling!D$3,FALSE)","v":2.1045928431848604E-6},0,{"$f":"NORMDIST(A994,Normalfordeling!D$2,Normalfordeling!D$3,TRUE)","v":0.9999995888519162}]
[{"$f":"(Normalfordeling!D$6-Normalfordeling!C$6)/1000+A994","v":9.9399999999998325},{"$f":"NORMDIST(A995,Normalfordeling!D$2,Normalfordeling!D$3,FALSE)","v":2.0032523299501509E-6},0,{"$f":"NORMDIST(A995,Normalfordeling!D$2,Normalfordeling!D$3,TRUE)","v":0.99999960938714572}]
[{"$f":"(Normalfordeling!D$6-Normalfordeling!C$6)/1000+A995","v":9.9499999999998323},{"$f":"NORMDIST(A996,Normalfordeling!D$2,Normalfordeling!D$3,FALSE)","v":1.906600903124396E-6},0,{"$f":"NORMDIST(A996,Normalfordeling!D$2,Normalfordeling!D$3,TRUE)","v":0.99999962893259209}]
[{"$f":"(Normalfordeling!D$6-Normalfordeling!C$6)/1000+A996","v":9.9599999999998321},{"$f":"NORMDIST(A997,Normalfordeling!D$2,Normalfordeling!D$3,FALSE)","v":1.8144311901835423E-6},0,{"$f":"NORMDIST(A997,Normalfordeling!D$2,Normalfordeling!D$3,TRUE)","v":0.99999964753410187}]
[{"$f":"(Normalfordeling!D$6-Normalfordeling!C$6)/1000+A997","v":9.9699999999998319},{"$f":"NORMDIST(A998,Normalfordeling!D$2,Normalfordeling!D$3,FALSE)","v":1.726544521678515E-6},0,{"$f":"NORMDIST(A998,Normalfordeling!D$2,Normalfordeling!D$3,TRUE)","v":0.99999966523549177}]
[{"$f":"(Normalfordeling!D$6-Normalfordeling!C$6)/1000+A998","v":9.9799999999998317},{"$f":"NORMDIST(A999,Normalfordeling!D$2,Normalfordeling!D$3,FALSE)","v":1.6427505880464516E-6},0,{"$f":"NORMDIST(A999,Normalfordeling!D$2,Normalfordeling!D$3,TRUE)","v":0.99999968207863377}]
[{"$f":"(Normalfordeling!D$6-Normalfordeling!C$6)/1000+A999","v":9.9899999999998315},{"$f":"NORMDIST(A1000,Normalfordeling!D$2,Normalfordeling!D$3,FALSE)","v":1.5628671089506062E-6},0,{"$f":"NORMDIST(A1000,Normalfordeling!D$2,Normalfordeling!D$3,TRUE)","v":0.9999996981035375}]
[null,{"$f":"MAX((B1:B1000))","v":0.3989422804014327},{"$f":"IF(AND(Normalfordeling!C9=\"\",Normalfordeling!D9=\"\"),\"\",IF(Normalfordeling!C9<>\"\",Normalfordeling!C9,A1-1000000000))","v":""}]
[null,null,{"$f":"IF(AND(Normalfordeling!C9=\"\",Normalfordeling!D9=\"\"),\"\",IF(Normalfordeling!D9<>\"\",Normalfordeling!D9,A1000+1000000000))","v":""}]